MooseX-Meta-TypeConstraint-Mooish v0.001 Perl 5 v5.39.10 darwin-2level
- Status
- Pass
- From
- David Cantrell (DCANTRELL)
- Dist
-
MooseX-Meta-TypeConstraint-Mooish v0.001
- Platform
- Perl 5 v5.39.10 darwin-2level
- Date
- 2024-04-15 00:52:51
- ID
- 7cb1248c-fac2-11ee-b3b8-bcb12e875e0f
This distribution has been tested as part of the CPAN Testers
project, supporting the Perl programming language. See
http://wiki.cpantesters.org/ for more information or email
questions to cpan-testers-discuss@perl.org
--
Dear Chris Weyl,
This is a computer-generated report for MooseX-Meta-TypeConstraint-Mooish-0.001
on perl 5.39.10, created by CPAN-Reporter-1.2019.
Thank you for uploading your work to CPAN. Congratulations!
All tests were successful.
Sections of this report:
* Tester comments
* Program output
* Prerequisites
* Environment and other context
------------------------------
TESTER COMMENTS
------------------------------
Additional comments from tester:
this report is from an automated smoke testing program
and was not reviewed by a human for accuracy
------------------------------
PROGRAM OUTPUT
------------------------------
Output from '/usr/bin/make test':
PERL_DL_NONLAZY=1 "/Users/cpantesting/cpantesting/perl-blead/bin/perl5.39.10" "-MExtUtils::Command::MM" "-MTest::Harness" "-e" "undef *Test::Harness::Switches; test_harness(0, 'blib/lib', 'blib/arch')" t/*.t
t/00-check-deps.t ............. ok
t/00-compile.t ................ ok
#
Smartmatch is deprecated at (eval 178) line 8.
Smartmatch is deprecated at (eval 178) line 15.
Smartmatch is deprecated at (eval 179) line 8.
Smartmatch is deprecated at (eval 179) line 15.
Smartmatch is deprecated at (eval 180) line 8.
Smartmatch is deprecated at (eval 180) line 15.
Smartmatch is deprecated at (eval 181) line 11.
Smartmatch is deprecated at (eval 181) line 21.
#
# Generated by Dist::Zilla::Plugin::ReportVersions::Tiny v1.10
# perl: 5.039010 (wanted 5.006) on darwin from /Users/cpantesting/cpantesting/perl-blead/bin/perl5.39.10
#
# ExtUtils::MakeMaker => 7.70 (want any version)
# File::Spec => 3.90 (want any version)
# IO::Handle => 1.55 (want any version)
# IPC::Open3 => 1.22 (want any version)
# Moose => 2.2207 (want any version)
# Moose::Meta::TypeConstraint => 2.2207 (want any version)
# Moose::Role => 2.2207 (want any version)
# Test::CheckDeps => 0.010 (want 0.010)
# Test::Fatal => 0.017 (want any version)
# Test::Moose::More => 0.050 (want 0.028)
# Test::More => 1.302198 (want 0.94)
# Try::Tiny => 0.31 (want any version)
# aliased => 0.34 (want any version)
# namespace::autoclean => 0.29 (want 0.24)
# strict => 1.13 (want any version)
# warnings => 1.69 (want any version)
#
# Thanks for using my code. I hope it works for you.
# If not, please try and include this output in the bug report.
# That will help me reproduce the issue and solve your problem.
#
t/000-report-versions-tiny.t .. ok
Smartmatch is deprecated at (eval 10) line 8.
Smartmatch is deprecated at (eval 10) line 15.
Smartmatch is deprecated at (eval 11) line 8.
Smartmatch is deprecated at (eval 11) line 15.
Smartmatch is deprecated at (eval 12) line 8.
Smartmatch is deprecated at (eval 12) line 15.
Smartmatch is deprecated at (eval 13) line 11.
Smartmatch is deprecated at (eval 13) line 21.
t/isa-mooish.t ................ ok
Smartmatch is deprecated at (eval 10) line 8.
Smartmatch is deprecated at (eval 10) line 15.
Smartmatch is deprecated at (eval 11) line 8.
Smartmatch is deprecated at (eval 11) line 15.
Smartmatch is deprecated at (eval 12) line 8.
Smartmatch is deprecated at (eval 12) line 15.
Smartmatch is deprecated at (eval 13) line 11.
Smartmatch is deprecated at (eval 13) line 21.
t/public-interface.t .......... ok
All tests successful.
Files=5, Tests=44, 3 wallclock secs ( 0.04 usr 0.02 sys + 2.34 cusr 0.34 csys = 2.74 CPU)
Result: PASS
------------------------------
PREREQUISITES
------------------------------
Prerequisite modules loaded:
requires:
Module Need Have
--------------------------- ----- --------
Moose 0 2.2207
Moose::Meta::TypeConstraint 0 2.2207
Moose::Role 0 2.2207
namespace::autoclean 0.24 0.29
perl 5.006 5.039010
Try::Tiny 0 0.31
build_requires:
Module Need Have
--------------------------- ----- --------
aliased 0 0.34
ExtUtils::MakeMaker 0 7.70
File::Spec 0 3.90
IO::Handle 0 1.55
IPC::Open3 0 1.22
strict 0 1.13
Test::CheckDeps 0.010 0.010
Test::Fatal 0 0.017
Test::Moose::More 0.028 0.050
Test::More 0.94 1.302198
warnings 0 1.69
configure_requires:
Module Need Have
--------------------------- ----- --------
ExtUtils::MakeMaker 0 7.70
perl 5.006 5.039010
------------------------------
ENVIRONMENT AND OTHER CONTEXT
------------------------------
Environment variables:
AUTOMATED_TESTING = 1
NONINTERACTIVE_TESTING = 1
PATH = /Users/cpantesting/perl5/perlbrew/bin:/Users/cpantesting/perl5/perlbrew/perls/perl-5.32.0/bin:/usr/local/bin:/System/Cryptexes/App/usr/bin:/usr/bin:/bin:/usr/sbin:/sbin:/Library/Apple/usr/bin:/Users/cpantesting/.cargo/bin
PERL = blead
PERL5LIB =
PERL5OPT =
PERL5_CPANPLUS_IS_RUNNING = 82096
PERL5_CPAN_IS_RUNNING = 82096
PERLBREW_HOME = /Users/cpantesting/.perlbrew
PERLBREW_MANPATH = /Users/cpantesting/perl5/perlbrew/perls/perl-5.32.0/man
PERLBREW_PATH = /Users/cpantesting/perl5/perlbrew/bin:/Users/cpantesting/perl5/perlbrew/perls/perl-5.32.0/bin
PERLBREW_PERL = perl-5.32.0
PERLBREW_ROOT = /Users/cpantesting/perl5/perlbrew
PERLBREW_SHELLRC_VERSION = 0.94
PERLBREW_VERSION = 0.94
PERLVER = blead
PERL_INLINE_DIRECTORY = /Users/cpantesting/.Inline-blead
PERL_MM_USE_DEFAULT = 1
PERL_USE_UNSAFE_INC = 0
SHELL = /bin/bash
TERM = screen
Perl special variables (and OS-specific diagnostics, for MSWin32):
$^X = /Users/cpantesting/cpantesting/perl-blead/bin/perl5.39.10
$UID/$EUID = 503 / 503
$GID = 20 20 12 61 703 702 701 100
$EGID = 20 20 12 61 703 702 701 100
Perl module toolchain versions installed:
Module Have
------------------- --------
CPAN 2.36
CPAN::Meta 2.150010
Cwd 3.90
ExtUtils::CBuilder 0.280240
ExtUtils::Command 7.70
ExtUtils::Install 2.22
ExtUtils::MakeMaker 7.70
ExtUtils::Manifest 1.75
ExtUtils::ParseXS 3.51
File::Spec 3.90
JSON 4.10
JSON::PP 4.16
Module::Build 0.4234
Module::Signature n/a
Parse::CPAN::Meta 2.150010
Test2 1.302198
Test::Harness 3.48
Test::More 1.302198
YAML 1.31
YAML::Syck n/a
version 0.9930
--
Summary of my perl5 (revision 5 version 39 subversion 10) configuration:
Commit id: cab7c329680aa887117b3e0568f000f7e5acf605
Platform:
osname=darwin
osvers=22.3.0
archname=darwin-2level
uname='darwin harrow.local 22.3.0 darwin kernel version 22.3.0: mon jan 30 20:42:11 pst 2023; root:xnu-8792.81.3~2release_x86_64 x86_64 '
config_args='-de -Dprefix=/Users/cpantesting/cpantesting/perl-blead -Dusedevel'
hint=recommended
useposix=true
d_sigaction=define
useithreads=undef
usemultiplicity=undef
use64bitint=define
use64bitall=define
uselongdouble=undef
usemymalloc=n
default_inc_excludes_dot=define
Compiler:
cc='cc'
ccflags ='-fno-common -DPERL_DARWIN -mmacosx-version-min=13.2 -DNO_THREAD_SAFE_QUERYLOCALE -DNO_POSIX_2008_LOCALE -fno-strict-aliasing -pipe -fstack-protector-strong -I/usr/local/include'
optimize='-O3'
cppflags='-fno-common -DPERL_DARWIN -mmacosx-version-min=13.2 -DNO_THREAD_SAFE_QUERYLOCALE -DNO_POSIX_2008_LOCALE -fno-strict-aliasing -pipe -fstack-protector-strong -I/usr/local/include'
ccversion=''
gccversion='Apple LLVM 14.0.0 (clang-1400.0.29.202)'
gccosandvers=''
intsize=4
longsize=8
ptrsize=8
doublesize=8
byteorder=12345678
doublekind=3
d_longlong=define
longlongsize=8
d_longdbl=define
longdblsize=16
longdblkind=3
ivtype='long'
ivsize=8
nvtype='double'
nvsize=8
Off_t='off_t'
lseeksize=8
alignbytes=8
prototype=define
Linker and Libraries:
ld='cc'
ldflags =' -mmacosx-version-min=13.2 -fstack-protector-strong -L/usr/local/lib'
libpth=/usr/local/lib /Applications/Xcode.app/Contents/Developer/Toolchains/XcodeDefault.xctoolchain/usr/lib/clang/14.0.0/lib /Applications/Xcode.app/Contents/Developer/Platforms/MacOSX.platform/Developer/SDKs/MacOSX.sdk/usr/lib /Applications/Xcode.app/Contents/Developer/Toolchains/XcodeDefault.xctoolchain/usr/lib /usr/lib
libs=-lgdbm
perllibs=
libc=
so=dylib
useshrplib=false
libperl=libperl.a
gnulibc_version=''
Dynamic Linking:
dlsrc=dl_dlopen.xs
dlext=bundle
d_dlsymun=undef
ccdlflags=' '
cccdlflags=' '
lddlflags=' -mmacosx-version-min=13.2 -bundle -undefined dynamic_lookup -L/usr/local/lib -fstack-protector-strong'
Characteristics of this binary (from libperl):
Compile-time options:
HAS_LONG_DOUBLE
HAS_STRTOLD
HAS_TIMES
PERLIO_LAYERS
PERL_COPY_ON_WRITE
PERL_DONT_CREATE_GVSV
PERL_HASH_FUNC_SIPHASH13
PERL_HASH_USE_SBOX32
PERL_MALLOC_WRAP
PERL_OP_PARENT
PERL_PRESERVE_IVUV
PERL_USE_DEVEL
PERL_USE_SAFE_PUTENV
USE_64_BIT_ALL
USE_64_BIT_INT
USE_LARGE_FILES
USE_LOCALE
USE_LOCALE_COLLATE
USE_LOCALE_CTYPE
USE_LOCALE_NUMERIC
USE_LOCALE_TIME
USE_PERLIO
USE_PERL_ATOF
Built under darwin
Compiled at Apr 12 2024 11:47:05
%ENV:
PERL="blead"
PERL5LIB=""
PERL5OPT=""
PERL5_CPANPLUS_IS_RUNNING="82096"
PERL5_CPAN_IS_RUNNING="82096"
PERLBREW_HOME="/Users/cpantesting/.perlbrew"
PERLBREW_MANPATH="/Users/cpantesting/perl5/perlbrew/perls/perl-5.32.0/man"
PERLBREW_PATH="/Users/cpantesting/perl5/perlbrew/bin:/Users/cpantesting/perl5/perlbrew/perls/perl-5.32.0/bin"
PERLBREW_PERL="perl-5.32.0"
PERLBREW_ROOT="/Users/cpantesting/perl5/perlbrew"
PERLBREW_SHELLRC_VERSION="0.94"
PERLBREW_VERSION="0.94"
PERLVER="blead"
PERL_INLINE_DIRECTORY="/Users/cpantesting/.Inline-blead"
PERL_MM_USE_DEFAULT="1"
PERL_USE_UNSAFE_INC="0"
@INC:
/Users/cpantesting/cpantesting/perl-blead/lib/site_perl/5.39.10/darwin-2level
/Users/cpantesting/cpantesting/perl-blead/lib/site_perl/5.39.10
/Users/cpantesting/cpantesting/perl-blead/lib/5.39.10/darwin-2level
/Users/cpantesting/cpantesting/perl-blead/lib/5.39.10