Const-Exporter vv1.3.0 Perl 5 v5.43.0 darwin-2level
- Status
- Pass
- From
- David Cantrell (DCANTRELL)
- Dist
-
Const-Exporter vv1.3.0
- Platform
- Perl 5 v5.43.0 darwin-2level
- Date
- 2025-07-08 21:14:08
- ID
- 7ca6231c-5c40-11f0-81fd-f6b35335a720
This distribution has been tested as part of the CPAN Testers
project, supporting the Perl programming language. See
http://wiki.cpantesters.org/ for more information or email
questions to cpan-testers-discuss@perl.org
--
Dear Robert Rothenberg,
This is a computer-generated report for Const-Exporter-v1.3.0
on perl 5.43.0, created by CPAN-Reporter-1.2020.
Thank you for uploading your work to CPAN. Congratulations!
All tests were successful.
Sections of this report:
* Tester comments
* Program output
* Prerequisites
* Environment and other context
------------------------------
TESTER COMMENTS
------------------------------
Additional comments from tester:
this report is from an automated smoke testing program
and was not reviewed by a human for accuracy
------------------------------
PROGRAM OUTPUT
------------------------------
Output from '/usr/bin/make test':
PERL_DL_NONLAZY=1 "/Users/cpantesting/cpantesting/perl-blead/bin/perl5.43.0" "-MExtUtils::Command::MM" "-MTest::Harness" "-e" "undef *Test::Harness::Switches; test_harness(0, 'blib/lib', 'blib/arch')" t/*.t
#
# Versions for all modules listed in MYMETA.json (including optional ones):
#
# === Configure Requires ===
#
# Module Want Have
# ------------------- ---- ----
# ExtUtils::MakeMaker any 7.76
#
# === Build Requires ===
#
# Module Want Have
# ------------------- -------- --------
# ExtUtils::MakeMaker 7.22 7.76
# Module::Metadata 1.000015 1.000038
#
# === Test Requires ===
#
# Module Want Have
# ---------------- -------- --------
# File::Spec any 3.94
# Hash::Objectify any 0.008
# Module::Metadata 1.000015 1.000038
# Sub::Identify 0.06 0.14
# Test::More any 1.302214
# Test::Most any 0.38
# if any 0.0610
# lib any 0.65
# strict any 1.14
#
# === Test Recommends ===
#
# Module Want Have
# ---------- -------- --------
# CPAN::Meta 2.120900 2.150010
#
# === Runtime Requires ===
#
# Module Want Have
# -------------- -------- --------
# Carp any 1.54
# Const::Fast any 0.014
# Exporter 5.57 5.79
# List::Util 1.56 1.68_01
# Package::Stash any 0.40
# Ref::Util any 0.204
# perl 5.014000 5.043000
# warnings any 1.74
#
# === Runtime Recommends ===
#
# Module Want Have
# ------------------- ---- -----
# List::SomeUtils::XS any 0.58
# Package::Stash::XS any 0.30
# Ref::Util::XS any 0.117
# Storable 3.05 3.37
#
t/00-report-prereqs.t ....... ok
t/10-basic.t ................ ok
t/11-tags.t ................. ok
t/12-blessed.t .............. ok
t/13-is_const.t ............. ok
t/20-example.t .............. ok
t/21-example.t .............. ok
t/author-changes.t .......... skipped: these tests are for testing by the author
t/author-critic.t ........... skipped: these tests are for testing by the author
t/author-cve.t .............. skipped: these tests are for testing by the author
t/author-eof.t .............. skipped: these tests are for testing by the author
t/author-eol.t .............. skipped: these tests are for testing by the author
t/author-minimum-version.t .. skipped: these tests are for testing by the author
t/author-no-tabs.t .......... skipped: these tests are for testing by the author
t/author-pod-coverage.t ..... skipped: these tests are for testing by the author
t/author-pod-linkcheck.t .... skipped: these tests are for testing by the author
t/author-pod-syntax.t ....... skipped: these tests are for testing by the author
t/author-portability.t ...... skipped: these tests are for testing by the author
t/author-vars.t ............. skipped: these tests are for testing by the author
t/empty-with-const.t ........ ok
t/enums.t ................... ok
t/release-dist-manifest.t ... skipped: these tests are for release candidate testing
t/release-fixme.t ........... skipped: these tests are for release candidate testing
t/release-kwalitee.t ........ skipped: these tests are for release candidate testing
t/release-trailing-space.t .. skipped: these tests are for release candidate testing
t/strictures.t .............. ok
All tests successful.
Files=26, Tests=54, 4 wallclock secs ( 0.10 usr 0.08 sys + 1.94 cusr 0.45 csys = 2.57 CPU)
Result: PASS
------------------------------
PREREQUISITES
------------------------------
Prerequisite modules loaded:
requires:
Module Need Have
------------------- -------- --------
Carp 0 1.54
Const::Fast 0 0.014
Exporter 5.57 5.79
List::Util 1.56 1.68_01
Package::Stash 0 0.40
perl 5.014000 5.043000
Ref::Util 0 0.204
warnings 0 1.74
build_requires:
Module Need Have
------------------- -------- --------
ExtUtils::MakeMaker 7.22 7.76
File::Spec 0 3.94
Hash::Objectify 0 0.008
if 0 0.0610
lib 0 0.65
Module::Metadata 1.000015 1.000038
strict 0 1.14
Sub::Identify 0.06 0.14
Test::More 0 1.302214
Test::Most 0 0.38
configure_requires:
Module Need Have
------------------- -------- --------
ExtUtils::MakeMaker 0 7.76
opt_requires:
Module Need Have
------------------- -------- --------
List::SomeUtils::XS 0 0.58
Package::Stash::XS 0 0.30
Ref::Util::XS 0 0.117
Storable 3.05 3.37
opt_build_requires:
Module Need Have
------------------- -------- --------
CPAN::Meta 2.120900 2.150010
------------------------------
ENVIRONMENT AND OTHER CONTEXT
------------------------------
Environment variables:
AUTOMATED_TESTING = 1
LANG = en_GB.UTF-8
LC_TERMINAL = iTerm2
LC_TERMINAL_VERSION = 3.5.14
NONINTERACTIVE_TESTING = 1
PATH = /Users/cpantesting/perl5/perlbrew/bin:/Users/cpantesting/perl5/perlbrew/perls/perl-5.32.0/bin:/usr/local/bin:/System/Cryptexes/App/usr/bin:/usr/bin:/bin:/usr/sbin:/sbin:/var/run/com.apple.security.cryptexd/codex.system/bootstrap/usr/local/bin:/var/run/com.apple.security.cryptexd/codex.system/bootstrap/usr/bin:/var/run/com.apple.security.cryptexd/codex.system/bootstrap/usr/appleinternal/bin:/opt/X11/bin:/Library/Apple/usr/bin:/Applications/VMware Fusion.app/Contents/Public:/usr/local/zfs/bin:/Users/cpantesting/.cargo/bin
PERL = blead
PERL5LIB =
PERL5OPT =
PERL5_CPANPLUS_IS_RUNNING = 71213
PERL5_CPAN_IS_RUNNING = 71213
PERLBREW_HOME = /Users/cpantesting/.perlbrew
PERLBREW_MANPATH = /Users/cpantesting/perl5/perlbrew/perls/perl-5.32.0/man
PERLBREW_PATH = /Users/cpantesting/perl5/perlbrew/bin:/Users/cpantesting/perl5/perlbrew/perls/perl-5.32.0/bin
PERLBREW_PERL = perl-5.32.0
PERLBREW_ROOT = /Users/cpantesting/perl5/perlbrew
PERLBREW_SHELLRC_VERSION = 0.94
PERLBREW_VERSION = 0.94
PERLVER = blead
PERL_INLINE_DIRECTORY = /Users/cpantesting/.Inline-blead
PERL_MM_USE_DEFAULT = 1
PERL_USE_UNSAFE_INC = 0
SHELL = /bin/bash
TERM = screen
TMPDIR = /var/folders/zy/47mkymr176b35xhyp425tk7h0000gq/T/
Perl special variables (and OS-specific diagnostics, for MSWin32):
$^X = /Users/cpantesting/cpantesting/perl-blead/bin/perl5.43.0
$UID/$EUID = 503 / 503
$GID = 20 20 12 61 399 703 702 701 100
$EGID = 20 20 12 61 399 703 702 701 100
Perl module toolchain versions installed:
Module Have
------------------- --------
CPAN 2.38
CPAN::Meta 2.150010
Cwd 3.94
ExtUtils::CBuilder 0.280242
ExtUtils::Command 7.76
ExtUtils::Install 2.22
ExtUtils::MakeMaker 7.76
ExtUtils::Manifest 1.75
ExtUtils::ParseXS 3.57
File::Spec 3.94
JSON n/a
JSON::PP 4.16
Module::Build 0.4234
Module::Signature n/a
Parse::CPAN::Meta 2.150010
Test2 1.302214
Test::Harness 3.52
Test::More 1.302214
YAML n/a
YAML::Syck n/a
version 0.9933
--
Summary of my perl5 (revision 5 version 43 subversion 0) configuration:
Commit id: bd8c84a99d9b33a68b49971ae40fe3d6c2a9055d
Platform:
osname=darwin
osvers=24.5.0
archname=darwin-2level
uname='darwin harrow.local 24.5.0 darwin kernel version 24.5.0: tue apr 22 19:53:26 pdt 2025; root:xnu-11417.121.6~2release_x86_64 x86_64 '
config_args='-de -Dprefix=/Users/cpantesting/cpantesting/perl-blead -Dusedevel'
hint=recommended
useposix=true
d_sigaction=define
useithreads=undef
usemultiplicity=undef
use64bitint=define
use64bitall=define
uselongdouble=undef
usemymalloc=n
default_inc_excludes_dot=define
Compiler:
cc='cc'
ccflags ='-fno-common -DPERL_DARWIN -DNO_THREAD_SAFE_QUERYLOCALE -DNO_POSIX_2008_LOCALE -DHAS_BROKEN_LANGINFO_CODESET -DNO_LOCALE_COLLATE -fno-strict-aliasing -pipe -fstack-protector-strong -I/usr/local/include'
optimize='-O3'
cppflags='-fno-common -DPERL_DARWIN -DNO_THREAD_SAFE_QUERYLOCALE -DNO_POSIX_2008_LOCALE -DHAS_BROKEN_LANGINFO_CODESET -DNO_LOCALE_COLLATE -fno-strict-aliasing -pipe -fstack-protector-strong -I/usr/local/include'
ccversion=''
gccversion='Apple LLVM 17.0.0 (clang-1700.0.13.5)'
gccosandvers=''
intsize=4
longsize=8
ptrsize=8
doublesize=8
byteorder=12345678
doublekind=3
d_longlong=define
longlongsize=8
d_longdbl=define
longdblsize=16
longdblkind=3
ivtype='long'
ivsize=8
nvtype='double'
nvsize=8
Off_t='off_t'
lseeksize=8
alignbytes=8
prototype=define
Linker and Libraries:
ld='cc'
ldflags =' -fstack-protector-strong -L/usr/local/lib'
libpth=/usr/local/lib /Applications/Xcode.app/Contents/Developer/Toolchains/XcodeDefault.xctoolchain/usr/lib/clang/17/lib /Applications/Xcode.app/Contents/Developer/Platforms/MacOSX.platform/Developer/SDKs/MacOSX.sdk/usr/lib /Applications/Xcode.app/Contents/Developer/Toolchains/XcodeDefault.xctoolchain/usr/lib /usr/lib
libs=-lgdbm
perllibs=
libc=
so=dylib
useshrplib=false
libperl=libperl.a
gnulibc_version=''
Dynamic Linking:
dlsrc=dl_dlopen.xs
dlext=bundle
d_dlsymun=undef
ccdlflags=' '
cccdlflags=' '
lddlflags='-bundle -undefined dynamic_lookup -L/usr/local/lib -fstack-protector-strong'
Characteristics of this binary (from libperl):
Compile-time options:
HAS_LONG_DOUBLE
HAS_STRTOLD
HAS_TIMES
PERLIO_LAYERS
PERL_COPY_ON_WRITE
PERL_DONT_CREATE_GVSV
PERL_HASH_FUNC_SIPHASH13
PERL_HASH_USE_SBOX32
PERL_MALLOC_WRAP
PERL_OP_PARENT
PERL_PRESERVE_IVUV
PERL_USE_DEVEL
PERL_USE_SAFE_PUTENV
USE_64_BIT_ALL
USE_64_BIT_INT
USE_LARGE_FILES
USE_LOCALE
USE_LOCALE_CTYPE
USE_LOCALE_NUMERIC
USE_LOCALE_TIME
USE_PERLIO
USE_PERL_ATOF
Built under darwin
Compiled at Jul 4 2025 17:07:44
%ENV:
PERL="blead"
PERL5LIB=""
PERL5OPT=""
PERL5_CPANPLUS_IS_RUNNING="71213"
PERL5_CPAN_IS_RUNNING="71213"
PERLBREW_HOME="/Users/cpantesting/.perlbrew"
PERLBREW_MANPATH="/Users/cpantesting/perl5/perlbrew/perls/perl-5.32.0/man"
PERLBREW_PATH="/Users/cpantesting/perl5/perlbrew/bin:/Users/cpantesting/perl5/perlbrew/perls/perl-5.32.0/bin"
PERLBREW_PERL="perl-5.32.0"
PERLBREW_ROOT="/Users/cpantesting/perl5/perlbrew"
PERLBREW_SHELLRC_VERSION="0.94"
PERLBREW_VERSION="0.94"
PERLVER="blead"
PERL_INLINE_DIRECTORY="/Users/cpantesting/.Inline-blead"
PERL_MM_USE_DEFAULT="1"
PERL_USE_UNSAFE_INC="0"
@INC:
/Users/cpantesting/cpantesting/perl-blead/lib/site_perl/5.43.0/darwin-2level
/Users/cpantesting/cpantesting/perl-blead/lib/site_perl/5.43.0
/Users/cpantesting/cpantesting/perl-blead/lib/5.43.0/darwin-2level
/Users/cpantesting/cpantesting/perl-blead/lib/5.43.0