Report for Catalyst-ActionRole-MatchRequestMethod-0.03

Back
From: metabase:user:8286d1fc-3d52-11e2-9ec4-cb9cdd236785
Subject: PASS Catalyst-ActionRole-MatchRequestMethod-0.03 v5.12.1 GNU/Linux
Date: 2014-01-19T04:52:23Z

This distribution has been tested as part of the CPAN Testers
project, supporting the Perl programming language.  See
http://wiki.cpantesters.org/ for more information or email
questions to cpan-testers-discuss@perl.org


--
Dear Florian Ragwitz,

This is a computer-generated report for Catalyst-ActionRole-MatchRequestMethod-0.03
on perl 5.12.1, created by CPAN-Reporter-1.2010.

Thank you for uploading your work to CPAN.  Congratulations!
All tests were successful.

Sections of this report:

    * Tester comments
    * Program output
    * Prerequisites
    * Environment and other context

------------------------------
TESTER COMMENTS
------------------------------

Additional comments from tester:

this report is from an automated smoke testing program
and was not reviewed by a human for accuracy

------------------------------
PROGRAM OUTPUT
------------------------------

Output from '/usr/local/bin/make test':

PERL_DL_NONLAZY=1 /opt/perl444-27-5.12.1/bin/perl "-MExtUtils::Command::MM" "-MTest::Harness" "-e" "undef *Test::Harness::Switches; test_harness(0, 'blib/lib', 'blib/arch')" t/*.t
Class::MOP::load_first_existing_class is deprecated at /opt/perl444-27-5.12.1/lib/site_perl/5.12.1/i686-linux-thread-multi-64int-ld/Class/MOP.pm line 85.
	Class::MOP::load_first_existing_class("TestApp::ActionRole::MatchRequestMethod", "Catalyst::ActionRole::MatchRequestMethod") called at /opt/perl444-27-5.12.1/lib/site_perl/5.12.1/Catalyst/Controller/ActionRole.pm line 120
	Catalyst::Controller::ActionRole::__ANON__("MatchRequestMethod") called at /opt/perl444-27-5.12.1/lib/site_perl/5.12.1/String/RewritePrefix.pm line 44
	String::RewritePrefix::__ANON__("MatchRequestMethod") called at /opt/perl444-27-5.12.1/lib/site_perl/5.12.1/String/RewritePrefix.pm line 18
	String::RewritePrefix::rewrite("String::RewritePrefix", HASH(0x9721cd8), "MatchRequestMethod") called at /opt/perl444-27-5.12.1/lib/site_perl/5.12.1/Catalyst/Controller/ActionRole.pm line 125
	Catalyst::Controller::ActionRole::_expand_role_shortname(TestApp::Controller::Root=HASH(0x96e1378), "MatchRequestMethod") called at /opt/perl444-27-5.12.1/lib/site_perl/5.12.1/Catalyst/Controller/ActionRole.pm line 49
	Catalyst::Controller::ActionRole::_build__action_roles(TestApp::Controller::Root=HASH(0x96e1378)) called at native delegation method Catalyst::Controller::ActionRole::_action_roles (elements) of attribute _action_roles (defined at /opt/perl444-27-5.12.1/lib/site_perl/5.12.1/Catalyst/Controller/ActionRole.pm line 37) line 8
	Catalyst::Controller::ActionRole::_action_roles(TestApp::Controller::Root=HASH(0x96e1378)) called at /opt/perl444-27-5.12.1/lib/site_perl/5.12.1/Catalyst/Controller.pm line 84
	Catalyst::Controller::BUILD(TestApp::Controller::Root=HASH(0x96e1378), HASH(0x9378480)) called at constructor TestApp::Controller::Root::new (defined at /root/.cpan/build/Catalyst-ActionRole-MatchRequestMethod-0.03-l3l9Sl/t/lib/TestApp/Controller/Root.pm line 40) line 56
	TestApp::Controller::Root::new("TestApp::Controller::Root", "TestApp", HASH(0x96f5e7c)) called at /opt/perl444-27-5.12.1/lib/site_perl/5.12.1/Catalyst/Component.pm line 123
	Catalyst::Component::COMPONENT("TestApp::Controller::Root", "TestApp", HASH(0x96f5e7c)) called at /opt/perl444-27-5.12.1/lib/site_perl/5.12.1/Catalyst.pm line 2652
	eval {...} called at /opt/perl444-27-5.12.1/lib/site_perl/5.12.1/Catalyst.pm line 2652
	Catalyst::setup_component("TestApp", "TestApp::Controller::Root") called at /opt/perl444-27-5.12.1/lib/site_perl/5.12.1/Catalyst.pm line 2579
	Catalyst::setup_components("TestApp") called at /opt/perl444-27-5.12.1/lib/site_perl/5.12.1/Catalyst.pm line 1174
	Catalyst::setup("TestApp") called at /root/.cpan/build/Catalyst-ActionRole-MatchRequestMethod-0.03-l3l9Sl/t/lib/TestApp.pm line 8
	require TestApp.pm called at /opt/perl444-27-5.12.1/lib/site_perl/5.12.1/Module/Runtime.pm line 317
	Module::Runtime::require_module("TestApp") called at /opt/perl444-27-5.12.1/lib/site_perl/5.12.1/Class/Load.pm line 177
	Class::Load::try {...} () called at /opt/perl444-27-5.12.1/lib/site_perl/5.12.1/Try/Tiny.pm line 78
	eval {...} called at /opt/perl444-27-5.12.1/lib/site_perl/5.12.1/Try/Tiny.pm line 74
	Try::Tiny::try(CODE(0x8c34128), Try::Tiny::Catch=REF(0x8c33f20)) called at /opt/perl444-27-5.12.1/lib/site_perl/5.12.1/Class/Load.pm line 183
	Class::Load::try_load_class("TestApp", undef) called at /opt/perl444-27-5.12.1/lib/site_perl/5.12.1/Class/Load.pm line 38
	Class::Load::load_class("TestApp") called at /opt/perl444-27-5.12.1/lib/site_perl/5.12.1/Catalyst/Test.pm line 29
	Catalyst::Test::_build_request_export("Catalyst::Test", HASH(0x8df5dac)) called at /opt/perl444-27-5.12.1/lib/site_perl/5.12.1/Catalyst/Test.pm line 92
	Catalyst::Test::__ANON__("Catalyst::Test", "all", HASH(0x8df5d70), HASH(0x8de4f38)) called at /opt/perl444-27-5.12.1/lib/site_perl/5.12.1/Sub/Exporter.pm line 108
	Sub::Exporter::_expand_group("Catalyst::Test", HASH(0x8dee4fc), ARRAY(0x8de4f10), HASH(0x8de4f38), HASH(0x8df5dd4), HASH(0x81c07c4)) called at /opt/perl444-27-5.12.1/lib/site_perl/5.12.1/Sub/Exporter.pm line 39
	Sub::Exporter::_expand_groups("Catalyst::Test", HASH(0x8dee4fc), ARRAY(0x8dee600), HASH(0x8de4f38)) called at /opt/perl444-27-5.12.1/lib/site_perl/5.12.1/Sub/Exporter.pm line 323
	Sub::Exporter::__ANON__("Catalyst::Test", "-all", HASH(0x83329cc)) called at /opt/perl444-27-5.12.1/lib/site_perl/5.12.1/Catalyst/Test.pm line 155
	Catalyst::Test::import("Catalyst::Test", "TestApp") called at t/basic.t line 9
	main::BEGIN() called at /root/.cpan/build/Catalyst-ActionRole-MatchRequestMethod-0.03-l3l9Sl/t/lib/TestApp.pm line 0
	eval {...} called at /root/.cpan/build/Catalyst-ActionRole-MatchRequestMethod-0.03-l3l9Sl/t/lib/TestApp.pm line 0
Class::MOP::load_class is deprecated at /opt/perl444-27-5.12.1/lib/site_perl/5.12.1/i686-linux-thread-multi-64int-ld/Class/MOP.pm line 76.
	Class::MOP::load_class("Catalyst::ActionRole::MatchRequestMethod") called at /opt/perl444-27-5.12.1/lib/site_perl/5.12.1/Catalyst/Controller/ActionRole.pm line 50
	Catalyst::Controller::ActionRole::_build__action_roles(TestApp::Controller::Root=HASH(0x96e1378)) called at native delegation method Catalyst::Controller::ActionRole::_action_roles (elements) of attribute _action_roles (defined at /opt/perl444-27-5.12.1/lib/site_perl/5.12.1/Catalyst/Controller/ActionRole.pm line 37) line 8
	Catalyst::Controller::ActionRole::_action_roles(TestApp::Controller::Root=HASH(0x96e1378)) called at /opt/perl444-27-5.12.1/lib/site_perl/5.12.1/Catalyst/Controller.pm line 84
	Catalyst::Controller::BUILD(TestApp::Controller::Root=HASH(0x96e1378), HASH(0x9378480)) called at constructor TestApp::Controller::Root::new (defined at /root/.cpan/build/Catalyst-ActionRole-MatchRequestMethod-0.03-l3l9Sl/t/lib/TestApp/Controller/Root.pm line 40) line 56
	TestApp::Controller::Root::new("TestApp::Controller::Root", "TestApp", HASH(0x96f5e7c)) called at /opt/perl444-27-5.12.1/lib/site_perl/5.12.1/Catalyst/Component.pm line 123
	Catalyst::Component::COMPONENT("TestApp::Controller::Root", "TestApp", HASH(0x96f5e7c)) called at /opt/perl444-27-5.12.1/lib/site_perl/5.12.1/Catalyst.pm line 2652
	eval {...} called at /opt/perl444-27-5.12.1/lib/site_perl/5.12.1/Catalyst.pm line 2652
	Catalyst::setup_component("TestApp", "TestApp::Controller::Root") called at /opt/perl444-27-5.12.1/lib/site_perl/5.12.1/Catalyst.pm line 2579
	Catalyst::setup_components("TestApp") called at /opt/perl444-27-5.12.1/lib/site_perl/5.12.1/Catalyst.pm line 1174
	Catalyst::setup("TestApp") called at /root/.cpan/build/Catalyst-ActionRole-MatchRequestMethod-0.03-l3l9Sl/t/lib/TestApp.pm line 8
	require TestApp.pm called at /opt/perl444-27-5.12.1/lib/site_perl/5.12.1/Module/Runtime.pm line 317
	Module::Runtime::require_module("TestApp") called at /opt/perl444-27-5.12.1/lib/site_perl/5.12.1/Class/Load.pm line 177
	Class::Load::try {...} () called at /opt/perl444-27-5.12.1/lib/site_perl/5.12.1/Try/Tiny.pm line 78
	eval {...} called at /opt/perl444-27-5.12.1/lib/site_perl/5.12.1/Try/Tiny.pm line 74
	Try::Tiny::try(CODE(0x8c34128), Try::Tiny::Catch=REF(0x8c33f20)) called at /opt/perl444-27-5.12.1/lib/site_perl/5.12.1/Class/Load.pm line 183
	Class::Load::try_load_class("TestApp", undef) called at /opt/perl444-27-5.12.1/lib/site_perl/5.12.1/Class/Load.pm line 38
	Class::Load::load_class("TestApp") called at /opt/perl444-27-5.12.1/lib/site_perl/5.12.1/Catalyst/Test.pm line 29
	Catalyst::Test::_build_request_export("Catalyst::Test", HASH(0x8df5dac)) called at /opt/perl444-27-5.12.1/lib/site_perl/5.12.1/Catalyst/Test.pm line 92
	Catalyst::Test::__ANON__("Catalyst::Test", "all", HASH(0x8df5d70), HASH(0x8de4f38)) called at /opt/perl444-27-5.12.1/lib/site_perl/5.12.1/Sub/Exporter.pm line 108
	Sub::Exporter::_expand_group("Catalyst::Test", HASH(0x8dee4fc), ARRAY(0x8de4f10), HASH(0x8de4f38), HASH(0x8df5dd4), HASH(0x81c07c4)) called at /opt/perl444-27-5.12.1/lib/site_perl/5.12.1/Sub/Exporter.pm line 39
	Sub::Exporter::_expand_groups("Catalyst::Test", HASH(0x8dee4fc), ARRAY(0x8dee600), HASH(0x8de4f38)) called at /opt/perl444-27-5.12.1/lib/site_perl/5.12.1/Sub/Exporter.pm line 323
	Sub::Exporter::__ANON__("Catalyst::Test", "-all", HASH(0x83329cc)) called at /opt/perl444-27-5.12.1/lib/site_perl/5.12.1/Catalyst/Test.pm line 155
	Catalyst::Test::import("Catalyst::Test", "TestApp") called at t/basic.t line 9
	main::BEGIN() called at /root/.cpan/build/Catalyst-ActionRole-MatchRequestMethod-0.03-l3l9Sl/t/lib/TestApp.pm line 0
	eval {...} called at /root/.cpan/build/Catalyst-ActionRole-MatchRequestMethod-0.03-l3l9Sl/t/lib/TestApp.pm line 0
t/basic.t ................. ok
t/release-pod-coverage.t .. skipped: these tests are for release candidate testing
t/release-pod-syntax.t .... skipped: these tests are for release candidate testing
All tests successful.
Files=3, Tests=9,  6 wallclock secs ( 0.08 usr  0.02 sys +  3.70 cusr  0.26 csys =  4.06 CPU)
Result: PASS

------------------------------
PREREQUISITES
------------------------------

Prerequisite modules loaded:

requires:

    Module                           Need Have    
    -------------------------------- ---- --------
    Catalyst::Controller::ActionRole 0    0.15    
    Catalyst::Runtime                5.80 5.90053 
    Moose::Role                      0    2.1201  
    namespace::autoclean             0    0.15    
    Perl6::Junction                  0    1.60000 

build_requires:

    Module                           Need Have    
    -------------------------------- ---- --------
    Catalyst::Controller::ActionRole 0    0.15    
    Catalyst::Test                   0    0       
    FindBin                          0    1.50    
    HTTP::Request::Common            0    6.04    
    Moose                            1.03 2.1201  
    Test::More                       0.89 1.001002

configure_requires:

    Module                           Need Have    
    -------------------------------- ---- --------
    ExtUtils::MakeMaker              6.31 6.86    


------------------------------
ENVIRONMENT AND OTHER CONTEXT
------------------------------

Environment variables:

    AUTOMATED_TESTING = 1
    LANG = en_US.UTF-8
    LD_LIBRARY_PATH = /usr/local/lib
    PATH = /usr/lib/qt-3.3/bin:/usr/kerberos/sbin:/usr/kerberos/bin:/usr/lib/ccache:/usr/local/sbin:/usr/local/bin:/sbin:/bin:/usr/sbin:/usr/bin:/usr/X11R6/bin:/usr/lib/alliance/bin:/opt/real/RealPlayer:/root/bin:/usr/lib/alliance/bin:/opt/real/RealPlayer
    PERL5LIB = 
    PERL5OPT = 
    PERL5_CPANPLUS_IS_RUNNING = 315
    PERL5_CPAN_IS_RUNNING = 315
    PERL_MM_USE_DEFAULT = 1
    SHELL = /bin/bash
    TERM = xterm

Perl special variables (and OS-specific diagnostics, for MSWin32):

    $^X = /opt/perl444-27-5.12.1/bin/perl
    $UID/$EUID = 0 / 0
    $GID = 0 0 1 2 3 4 6 10
    $EGID = 0 0 1 2 3 4 6 10

Perl module toolchain versions installed:

    Module              Have    
    ------------------- --------
    CPAN                1.94_56 
    CPAN::Meta          2.133380
    Cwd                 3.40    
    ExtUtils::CBuilder  0.280212
    ExtUtils::Command   1.18    
    ExtUtils::Install   1.55    
    ExtUtils::MakeMaker 6.86    
    ExtUtils::Manifest  1.63    
    ExtUtils::ParseXS   3.22    
    File::Spec          3.40    
    JSON                2.90    
    JSON::PP            2.27203 
    Module::Build       0.4204  
    Module::Signature   0.73    
    Parse::CPAN::Meta   1.4409  
    Test::Harness       3.30    
    Test::More          1.001002
    YAML                0.88    
    YAML::Syck          1.27    
    version             0.9907  


--

Summary of my perl5 (revision 5 version 12 subversion 1) configuration:
   
  Platform:
    osname=linux, osvers=2.6.27-repin.1, archname=i686-linux-thread-multi-64int-ld
    uname='linux localhost.localdomain 2.6.27-repin.1 #1 smp tue jan 25 20:07:21 msk 2011 i686 i686 i386 gnulinux '
    config_args='-Dcc=/opt/444/bin/gcc -Doptimize=-O3 -DDMALLOC=/usr/local/bin/dmalloc -Dprefix=/opt/perl444-27-5.12.1 -DDEBUGGING'
    hint=recommended, useposix=true, d_sigaction=define
    useithreads=define, usemultiplicity=define
    useperlio=define, d_sfio=undef, uselargefiles=define, usesocks=undef
    use64bitint=define, use64bitall=undef, uselongdouble=define
    usemymalloc=n, bincompat5005=undef
  Compiler:
    cc='/opt/444/bin/gcc', ccflags ='-DDMALLOC -D_LARGEFILE_SOURCE -D_FILE_OFFSET_BITS=64',
    optimize='-O3 -g',
    cppflags='-DDMALLOC'
    ccversion='', gccversion='4.4.4', gccosandvers=''
    intsize=4, longsize=4, ptrsize=4, doublesize=8, byteorder=12345678
    d_longlong=define, longlongsize=8, d_longdbl=define, longdblsize=12
    ivtype='long long', ivsize=8, nvtype='long double', nvsize=12, Off_t='off_t', lseeksize=8
    alignbytes=4, prototype=define
  Linker and Libraries:
    ld='/opt/444/bin/gcc', ldflags =' -L/usr/local/lib'
    libpth=/usr/local/lib /lib /usr/lib
    libs=-lnsl -lgdbm -ldb -ldl -lm -lcrypt -lutil -lpthread -lc
    perllibs=-lnsl -ldl -lm -lcrypt -lutil -lpthread -lc
    libc=/lib/libc-2.5.so, so=so, useshrplib=true, libperl=libperl.so
    gnulibc_version='2.5'
  Dynamic Linking:
    dlsrc=dl_dlopen.xs, dlext=so, d_dlsymun=undef, ccdlflags='-Wl,-E -Wl,-rpath,/opt/perl444-27-5.12.1/lib/5.12.1/i686-linux-thread-multi-64int-ld/CORE'
    cccdlflags='-fPIC', lddlflags='-shared -O3 -g -L/usr/local/lib'


Characteristics of this binary (from libperl): 
  Compile-time options: MULTIPLICITY PERL_DONT_CREATE_GVSV
                        PERL_IMPLICIT_CONTEXT PERL_MAD PERL_MALLOC_WRAP
                        USE_64_BIT_INT USE_FAST_STDIO USE_ITHREADS
                        USE_LARGE_FILES USE_LONG_DOUBLE USE_PERLIO
                        USE_PERL_ATOF USE_REENTRANT_API
  Built under linux
  Compiled at Oct 17 2013 02:23:15
  %ENV:
    PERL5LIB=""
    PERL5OPT=""
    PERL5_CPANPLUS_IS_RUNNING="315"
    PERL5_CPAN_IS_RUNNING="315"
    PERL_MM_USE_DEFAULT="1"
  @INC:
    /opt/perl444-27-5.12.1/lib/site_perl/5.12.1/i686-linux-thread-multi-64int-ld
    /opt/perl444-27-5.12.1/lib/site_perl/5.12.1
    /opt/perl444-27-5.12.1/lib/5.12.1/i686-linux-thread-multi-64int-ld
    /opt/perl444-27-5.12.1/lib/5.12.1
    .