Class-MethodMaker v2.24 Perl 5 v5.24.4 darwin-2level
- Status
- Pass
- From
- Karen Etheridge
- Dist
-
Class-MethodMaker v2.24
- Platform
- Perl 5 v5.24.4 darwin-2level
- Date
- 2018-04-14 21:04:57
- ID
- 7c98e66c-4027-11e8-a44f-3ae7ff1906a6
This distribution has been tested as part of the CPAN Testers
project, supporting the Perl programming language. See
http://wiki.cpantesters.org/ for more information or email
questions to cpan-testers-discuss@perl.org
--
Dear SCHWIGON,
This is a computer-generated report for Class-MethodMaker-2.24
on perl 5.24.4, created by App::cpanminus::reporter 0.17 (1.7043).
Thank you for uploading your work to CPAN. Congratulations!
All tests were successful.
Sections of this report:
* Tester comments
* Program output
* Prerequisites
* Environment and other context
------------------------------
TESTER COMMENTS
------------------------------
Additional comments from tester:
none provided
------------------------------
PROGRAM OUTPUT
------------------------------
Output from '':
Building and testing Class-MethodMaker-2.24
"/Volumes/amaretto/Users/ether/perl5/perlbrew/perls/24.4/bin/perl" cmmg.pl components/array.m > lib/Class/MethodMaker/array.pm
"/Volumes/amaretto/Users/ether/perl5/perlbrew/perls/24.4/bin/perl" cmmg.pl components/hash.m > lib/Class/MethodMaker/hash.pm
"/Volumes/amaretto/Users/ether/perl5/perlbrew/perls/24.4/bin/perl" cmmg.pl components/scalar.m > lib/Class/MethodMaker/scalar.pm
AutoSplitting blib/lib/Class/MethodMaker/Engine.pm (blib/lib/auto/Class/MethodMaker/Engine)
AutoSplitting blib/lib/Class/MethodMaker/scalar.pm (blib/lib/auto/Class/MethodMaker/scalar)
AutoSplitting blib/lib/Class/MethodMaker/hash.pm (blib/lib/auto/Class/MethodMaker/hash)
AutoSplitting blib/lib/Class/MethodMaker/array.pm (blib/lib/auto/Class/MethodMaker/array)
Running Mkbootstrap for MethodMaker ()
chmod 644 "MethodMaker.bs"
"/Volumes/amaretto/Users/ether/perl5/perlbrew/perls/24.4/bin/perl" -MExtUtils::Command::MM -e 'cp_nonempty' -- MethodMaker.bs blib/arch/auto/Class/MethodMaker/MethodMaker.bs 644
"/Volumes/amaretto/Users/ether/perl5/perlbrew/perls/24.4/bin/perl" "/Volumes/amaretto/Users/ether/perl5/perlbrew/perls/24.4/lib/5.24.4/ExtUtils/xsubpp" -typemap '/Volumes/amaretto/Users/ether/perl5/perlbrew/perls/24.4/lib/5.24.4/ExtUtils/typemap' MethodMaker.xs > MethodMaker.xsc
mv MethodMaker.xsc MethodMaker.c
cc -c -fno-common -DPERL_DARWIN -mmacosx-version-min=10.12 -fno-strict-aliasing -pipe -fstack-protector-strong -I/opt/local/include -DPERL_USE_SAFE_PUTENV -O3 -DVERSION=\"2.24\" -DXS_VERSION=\"2.24\" "-I/Volumes/amaretto/Users/ether/perl5/perlbrew/perls/24.4/lib/5.24.4/darwin-2level/CORE" MethodMaker.c
rm -f blib/arch/auto/Class/MethodMaker/MethodMaker.bundle
cc -mmacosx-version-min=10.12 -bundle -undefined dynamic_lookup -L/opt/local/lib -fstack-protector-strong MethodMaker.o -o blib/arch/auto/Class/MethodMaker/MethodMaker.bundle \
\
chmod 755 blib/arch/auto/Class/MethodMaker/MethodMaker.bundle
Manifying 8 pod documents
"/Volumes/amaretto/Users/ether/perl5/perlbrew/perls/24.4/bin/perl" -MExtUtils::Command::MM -e 'cp_nonempty' -- MethodMaker.bs blib/arch/auto/Class/MethodMaker/MethodMaker.bs 644
PERL_DL_NONLAZY=1 "/Volumes/amaretto/Users/ether/perl5/perlbrew/perls/24.4/bin/perl" "-MExtUtils::Command::MM" "-MTest::Harness" "-e" "undef *Test::Harness::Switches; test_harness(0, 'blib/lib', 'blib/arch')" t/*.t
t/basic.t .............. ok
t/new.t ................ ok
t/diffclass.t .......... ok
t/array.t .............. ok
t/hash.t ............... ok
t/warnings.t ........... ok
t/redefine-warnings.t .. ok
t/scalar.t ............. ok
All tests successful.
Files=8, Tests=1252, 0 wallclock secs ( 0.10 usr 0.02 sys + 0.80 cusr 0.13 csys = 1.05 CPU)
Result: PASS
------------------------------
PREREQUISITES
------------------------------
Prerequisite modules loaded:
No requirements found
------------------------------
ENVIRONMENT AND OTHER CONTEXT
------------------------------
Environment variables:
HARNESS_OPTIONS = j5:c
LANG = en_CA.UTF-8
NO_NETWORK_TESTING = 1
PATH = /Volumes/amaretto/Users/ether/.perlbrew/libs/24.4@std/bin:/Volumes/amaretto/Users/ether/perl5/perlbrew/bin:/Volumes/amaretto/Users/ether/perl5/perlbrew/perls/24.4/bin:/Volumes/amaretto/Users/ether/bin:/Volumes/amaretto/Users/ether/git/misc/install/jaeger/bin:/Volumes/amaretto/Users/ether/git/misc/install/generic/bin:/opt/local/bin:/opt/local/sbin:/Volumes/amaretto/Users/ether/git/git-hub/lib:/usr/local/bin:/usr/bin:/bin:/usr/sbin:/sbin:/opt/local/share/git-core/contrib/workdir
PERL5LIB = /Volumes/amaretto/Users/ether/.perlbrew/libs/24.4@std/lib/perl5
PERLBREW_HOME = /Volumes/amaretto/Users/ether/.perlbrew
PERLBREW_LIB = std
PERLBREW_MANPATH = /Volumes/amaretto/Users/ether/.perlbrew/libs/24.4@std/man:/Volumes/amaretto/Users/ether/perl5/perlbrew/perls/24.4/man
PERLBREW_PATH = /Volumes/amaretto/Users/ether/.perlbrew/libs/24.4@std/bin:/Volumes/amaretto/Users/ether/perl5/perlbrew/bin:/Volumes/amaretto/Users/ether/perl5/perlbrew/perls/24.4/bin
PERLBREW_PERL = 24.4
PERLBREW_ROOT = /Volumes/amaretto/Users/ether/perl5/perlbrew
PERLBREW_SHELLRC_VERSION = 0.82
PERLBREW_VERSION = 0.82
PERLDOC = -oman
PERLDOC_PAGER = less -sicMr
PERL_AUTOINSTALL_PREFER_CPAN = 1
PERL_INSTALL_QUIET = 1
PERL_LOCAL_LIB_ROOT = /Volumes/amaretto/Users/ether/.perlbrew/libs/24.4@std
PERL_MB_OPT = --install_base /Volumes/amaretto/Users/ether/.perlbrew/libs/24.4@std
PERL_MM_OPT = INSTALL_BASE=/Volumes/amaretto/Users/ether/.perlbrew/libs/24.4@std
PERL_USE_UNSAFE_INC = 0
SHELL = /bin/bash
TERM = xterm-color
TMPDIR = /var/folders/4f/y458q_3n2g75w6m_k19nn8kr0000gp/T/
Perl special variables (and OS-specific diagnostics, for MSWin32):
EGID = 20 20 12 61 79 80 81 98 701 33 100 204 395 398 399
EUID = 502
EXECUTABLE_NAME = /Volumes/amaretto/Users/ether/perl5/perlbrew/perls/24.4/bin/perl
GID = 20 20 12 61 79 80 81 98 701 33 100 204 395 398 399
UID = 502
Perl module toolchain versions installed:
Module Have
------------------- --------
CPAN 2.11_01
CPAN::Meta 2.150010
Cwd 3.63_01
ExtUtils::CBuilder 0.280230
ExtUtils::Command 7.34
ExtUtils::Install 2.06
ExtUtils::MakeMaker 7.34
ExtUtils::Manifest 1.70
ExtUtils::ParseXS 3.31
File::Spec 3.63_01
JSON 2.97001
JSON::PP 2.97001
Module::Build 0.4224
Module::Signature n/a
Parse::CPAN::Meta 2.150010
Test::Harness 3.36_01
Test::More 1.302135
YAML 1.24
YAML::Syck 1.30
version 0.9916
--
Summary of my perl5 (revision 5 version 24 subversion 4) configuration:
Platform:
osname=darwin, osvers=16.7.0, archname=darwin-2level
uname='darwin jaeger 16.7.0 darwin kernel version 16.7.0: tue jan 30 11:27:06 pst 2018; root:xnu-3789.73.11~1release_x86_64 x86_64 '
config_args='-de -Dprefix=/Volumes/amaretto/Users/ether/perl5/perlbrew/perls/24.4 -Dman1dir=none -Dman3dir=none -Aeval:scriptdir=/Volumes/amaretto/Users/ether/perl5/perlbrew/perls/24.4/bin'
hint=recommended, useposix=true, d_sigaction=define
useithreads=undef, usemultiplicity=undef
use64bitint=define, use64bitall=define, uselongdouble=undef
usemymalloc=n, bincompat5005=undef
Compiler:
cc='cc', ccflags ='-fno-common -DPERL_DARWIN -mmacosx-version-min=10.12 -fno-strict-aliasing -pipe -fstack-protector-strong -I/opt/local/include -DPERL_USE_SAFE_PUTENV',
optimize='-O3',
cppflags='-fno-common -DPERL_DARWIN -mmacosx-version-min=10.12 -fno-strict-aliasing -pipe -fstack-protector-strong -I/opt/local/include'
ccversion='', gccversion='4.2.1 Compatible Apple LLVM 9.0.0 (clang-900.0.39.2)', gccosandvers=''
intsize=4, longsize=8, ptrsize=8, doublesize=8, byteorder=12345678, doublekind=3
d_longlong=define, longlongsize=8, d_longdbl=define, longdblsize=16, longdblkind=3
ivtype='long', ivsize=8, nvtype='double', nvsize=8, Off_t='off_t', lseeksize=8
alignbytes=8, prototype=define
Linker and Libraries:
ld='cc', ldflags =' -mmacosx-version-min=10.12 -fstack-protector-strong -L/opt/local/lib'
libpth=/Applications/Xcode.app/Contents/Developer/Toolchains/XcodeDefault.xctoolchain/usr/lib/clang/9.0.0/lib /Applications/Xcode.app/Contents/Developer/Toolchains/XcodeDefault.xctoolchain/usr/lib /usr/lib /opt/local/lib
libs=-lpthread -lgdbm -ldbm -ldl -lm -lutil -lc
perllibs=-lpthread -ldl -lm -lutil -lc
libc=, so=dylib, useshrplib=false, libperl=libperl.a
gnulibc_version=''
Dynamic Linking:
dlsrc=dl_dlopen.xs, dlext=bundle, d_dlsymun=undef, ccdlflags=' '
cccdlflags=' ', lddlflags=' -mmacosx-version-min=10.12 -bundle -undefined dynamic_lookup -L/opt/local/lib -fstack-protector-strong'
Characteristics of this binary (from libperl):
Compile-time options: HAS_TIMES PERLIO_LAYERS PERL_COPY_ON_WRITE
PERL_DONT_CREATE_GVSV
PERL_HASH_FUNC_ONE_AT_A_TIME_HARD PERL_MALLOC_WRAP
PERL_PRESERVE_IVUV PERL_USE_SAFE_PUTENV
USE_64_BIT_ALL USE_64_BIT_INT USE_LARGE_FILES
USE_LOCALE USE_LOCALE_COLLATE USE_LOCALE_CTYPE
USE_LOCALE_NUMERIC USE_LOCALE_TIME USE_PERLIO
USE_PERL_ATOF
Locally applied patches:
Devel::PatchPerl 1.48
Built under darwin
Compiled at Apr 14 2018 11:17:40
%ENV:
PERL5LIB="/Volumes/amaretto/Users/ether/.perlbrew/libs/24.4@std/lib/perl5"
PERLBREW_HOME="/Volumes/amaretto/Users/ether/.perlbrew"
PERLBREW_LIB="std"
PERLBREW_MANPATH="/Volumes/amaretto/Users/ether/.perlbrew/libs/24.4@std/man:/Volumes/amaretto/Users/ether/perl5/perlbrew/perls/24.4/man"
PERLBREW_PATH="/Volumes/amaretto/Users/ether/.perlbrew/libs/24.4@std/bin:/Volumes/amaretto/Users/ether/perl5/perlbrew/bin:/Volumes/amaretto/Users/ether/perl5/perlbrew/perls/24.4/bin"
PERLBREW_PERL="24.4"
PERLBREW_ROOT="/Volumes/amaretto/Users/ether/perl5/perlbrew"
PERLBREW_SHELLRC_VERSION="0.82"
PERLBREW_VERSION="0.82"
PERLDOC="-oman"
PERLDOC_PAGER="less -sicMr"
PERL_AUTOINSTALL_PREFER_CPAN="1"
PERL_INSTALL_QUIET="1"
PERL_LOCAL_LIB_ROOT="/Volumes/amaretto/Users/ether/.perlbrew/libs/24.4@std"
PERL_MB_OPT="--install_base /Volumes/amaretto/Users/ether/.perlbrew/libs/24.4@std"
PERL_MM_OPT="INSTALL_BASE=/Volumes/amaretto/Users/ether/.perlbrew/libs/24.4@std"
PERL_USE_UNSAFE_INC="0"
@INC:
/Volumes/amaretto/Users/ether/.perlbrew/libs/24.4@std/lib/perl5/darwin-2level
/Volumes/amaretto/Users/ether/.perlbrew/libs/24.4@std/lib/perl5
/Volumes/amaretto/Users/ether/perl5/perlbrew/perls/24.4/lib/site_perl/5.24.4/darwin-2level
/Volumes/amaretto/Users/ether/perl5/perlbrew/perls/24.4/lib/site_perl/5.24.4
/Volumes/amaretto/Users/ether/perl5/perlbrew/perls/24.4/lib/5.24.4/darwin-2level
/Volumes/amaretto/Users/ether/perl5/perlbrew/perls/24.4/lib/5.24.4
.