AnyEvent-HTTP-Message v0.302 Perl 5 v5.30.2 amd64-netbsd-thread-multi
- Status
- Pass
- From
- Nigel Horne
- Dist
-
AnyEvent-HTTP-Message v0.302
- Platform
- Perl 5 v5.30.2 amd64-netbsd-thread-multi
- Date
- 2020-07-16 22:12:50
- ID
- 7c8f729e-c7b1-11ea-b9a2-db9a912e08a8
This distribution has been tested as part of the CPAN Testers
project, supporting the Perl programming language. See
http://wiki.cpantesters.org/ for more information or email
questions to cpan-testers-discuss@perl.org
--
Dear Randy Stauner,
This is a computer-generated report for AnyEvent-HTTP-Message-0.302
on perl 5.30.2, created by CPAN-Reporter-1.2018.
Thank you for uploading your work to CPAN. Congratulations!
All tests were successful.
Sections of this report:
* Tester comments
* Program output
* Prerequisites
* Environment and other context
------------------------------
TESTER COMMENTS
------------------------------
Additional comments from tester:
this report is from an automated smoke testing program
and was not reviewed by a human for accuracy
------------------------------
PROGRAM OUTPUT
------------------------------
Output from '/usr/bin/make test':
PERL_DL_NONLAZY=1 "/home/njh/perl5/perlbrew/perls/perl-5.30.2-thread/bin/perl5.30.2" "-MExtUtils::Command::MM" "-MTest::Harness" "-e" "undef *Test::Harness::Switches; test_harness(0, 'blib/lib', 'blib/arch')" t/*.t
t/00-compile.t ......... ok
# Prerequisite Report:
# Version Module
# -------- ---------------------
# 2.25 AnyEvent::HTTP
# 1.50 Carp
# 5.73 Exporter
# 7.46 ExtUtils::MakeMaker
# 1.36 File::Find
# 3.78 File::Spec::Functions
# 0.2309 File::Temp
# 6.24 HTTP::Message
# 1.54 List::Util
# 1.54 Scalar::Util
# 1.302175 Test::More
# 0.237 parent
# 1.11 strict
# 1.44 warnings
t/00-report-prereqs.t .. ok
t/message.t ............ ok
t/request.t ............ ok
t/response.t ........... ok
All tests successful.
Files=5, Tests=99, 1 wallclock secs ( 0.08 usr 0.01 sys + 0.83 cusr 0.22 csys = 1.14 CPU)
Result: PASS
------------------------------
PREREQUISITES
------------------------------
Prerequisite modules loaded:
requires:
Module Need Have
--------------------- ---- --------
AnyEvent::HTTP 2 2.25
Carp 0 1.50
parent 0 0.237
Scalar::Util 0 1.54
strict 0 1.11
warnings 0 1.44
build_requires:
Module Need Have
--------------------- ---- --------
Exporter 0 5.73
ExtUtils::MakeMaker 0 7.46
File::Find 0 1.36
File::Spec::Functions 0 3.78
File::Temp 0 0.2309
List::Util 0 1.54
Test::More 0.88 1.302175
configure_requires:
Module Need Have
--------------------- ---- --------
ExtUtils::MakeMaker 6.30 7.46
------------------------------
ENVIRONMENT AND OTHER CONTEXT
------------------------------
Environment variables:
AUTOMATED_TESTING = 1
NONINTERACTIVE_TESTING = 1
PATH = /home/njh/perl5/perlbrew/bin:/home/njh/perl5/perlbrew/perls/perl-5.30.2-thread/bin:/home/njh/src/njh/smoker/bin:/usr/bin:/bin:/usr/pkg/bin:/usr/local/bin
PERL5LIB = /home/njh/.cpan/build/AnyEvent-HTTP-2.25-1/blib/arch:/home/njh/.cpan/build/AnyEvent-HTTP-2.25-1/blib/lib:/home/njh/.cpan/build/AnyEvent-7.17-1/blib/arch:/home/njh/.cpan/build/AnyEvent-7.17-1/blib/lib:/home/njh/.cpan/build/Canary-Stability-2013-1/blib/arch:/home/njh/.cpan/build/Canary-Stability-2013-1/blib/lib
PERL5OPT =
PERL5_CPANPLUS_IS_RUNNING = 22946
PERL5_CPAN_IS_RUNNING = 22946
PERL5_CPAN_IS_RUNNING_IN_RECURSION = 23303,22946
PERLBREW_HOME = /home/njh/.perlbrew
PERLBREW_MANPATH = /home/njh/perl5/perlbrew/perls/perl-5.30.2-thread/man
PERLBREW_PATH = /home/njh/perl5/perlbrew/bin:/home/njh/perl5/perlbrew/perls/perl-5.30.2-thread/bin
PERLBREW_PERL = perl-5.30.2-thread
PERLBREW_ROOT = /home/njh/perl5/perlbrew
PERLBREW_SHELLRC_VERSION = 0.88
PERLBREW_VERSION = 0.88
PERL_MM_USE_DEFAULT = 1
PERL_USE_UNSAFE_INC = 1
SHELL = /usr/bin/bash
TMPDIR = /tmp/testwrapper.9723
Perl special variables (and OS-specific diagnostics, for MSWin32):
$^X = /home/njh/perl5/perlbrew/perls/perl-5.30.2-thread/bin/perl5.30.2
$UID/$EUID = 1000 / 1000
$GID = 100 100 0
$EGID = 100 100 0
Perl module toolchain versions installed:
Module Have
------------------- --------
CPAN 2.28
CPAN::Meta 2.150010
Cwd 3.78
ExtUtils::CBuilder 0.280231
ExtUtils::Command 7.46
ExtUtils::Install 2.14
ExtUtils::MakeMaker 7.46
ExtUtils::Manifest 1.72
ExtUtils::ParseXS 3.40
File::Spec 3.78
JSON 4.02
JSON::PP 4.04
Module::Build 0.4231
Module::Signature n/a
Parse::CPAN::Meta 2.150010
Test::Harness 3.42
Test::More 1.302175
YAML 1.30
YAML::Syck 1.32
version 0.9924
--
Summary of my perl5 (revision 5 version 30 subversion 2) configuration:
Platform:
osname=netbsd
osvers=7.1.2
archname=amd64-netbsd-thread-multi
uname='netbsd vultr2.bandsman.co.uk 7.1.2 netbsd 7.1.2 (generic.201803151611z) amd64 '
config_args='-de -Dprefix=/home/njh/perl5/perlbrew/perls/perl-5.30.2-thread -Dusedevel -Dusethreads -Accflags=-O2 -W -Wformat=2 -Wswitch -Wshadow -Wwrite-strings -Wuninitialized -Wall -pipe -fomit-frame-pointer -pedantic -D_FORTIFY_SOURCE=2 -Wpointer-arith -Wstrict-prototypes -fstack-protector -Wstack-protector -Wextra -Wbad-function-cast -Wcast-align -Wcast-qual -Wdisabled-optimization -Wendif-labels -Wfloat-equal -Wformat-nonliteral -Winline -Wmissing-declarations -Wmissing-prototypes -Wnested-externs -Wpointer-arith -Wundef -Wformat-security -ftree-vectorize -mmmx -msse -mfpmath=sse -msse2 -msse3 -msse4.1 -msse4.2 -mtune=native -Aeval:scriptdir=/home/njh/perl5/perlbrew/perls/perl-5.30.2-thread/bin'
hint=recommended
useposix=true
d_sigaction=define
useithreads=define
usemultiplicity=define
use64bitint=define
use64bitall=define
uselongdouble=undef
usemymalloc=n
default_inc_excludes_dot=define
bincompat5005=undef
Compiler:
cc='cc'
ccflags ='-O2 -W -Wformat=2 -Wswitch -Wshadow -Wwrite-strings -Wuninitialized -Wall -pipe -fomit-frame-pointer -pedantic -D_FORTIFY_SOURCE=2 -Wpointer-arith -Wstrict-prototypes -fstack-protector -Wstack-protector -Wextra -Wbad-function-cast -Wcast-align -Wcast-qual -Wdisabled-optimization -Wendif-labels -Wfloat-equal -Wformat-nonliteral -Winline -Wmissing-declarations -Wmissing-prototypes -Wnested-externs -Wpointer-arith -Wundef -Wformat-security -ftree-vectorize -mmmx -msse -mfpmath=sse -msse2 -msse3 -msse4.1 -msse4.2 -mtune=native -fwrapv -fno-strict-aliasing -I/usr/pkg/include'
optimize='-O'
cppflags='-O2 -W -Wformat=2 -Wswitch -Wshadow -Wwrite-strings -Wuninitialized -Wall -pipe -fomit-frame-pointer -pedantic -D_FORTIFY_SOURCE=2 -Wpointer-arith -Wstrict-prototypes -fstack-protector -Wstack-protector -Wextra -Wbad-function-cast -Wcast-align -Wcast-qual -Wdisabled-optimization -Wendif-labels -Wfloat-equal -Wformat-nonliteral -Winline -Wmissing-declarations -Wmissing-prototypes -Wnested-externs -Wpointer-arith -Wundef -Wformat-security -ftree-vectorize -mmmx -msse -mfpmath=sse -msse2 -msse3 -msse4.1 -msse4.2 -mtune=native -fwrapv -fno-strict-aliasing -I/usr/pkg/include'
ccversion=''
gccversion='4.8.5'
gccosandvers=''
intsize=4
longsize=8
ptrsize=8
doublesize=8
byteorder=12345678
doublekind=3
d_longlong=define
longlongsize=8
d_longdbl=define
longdblsize=16
longdblkind=3
ivtype='long'
ivsize=8
nvtype='double'
nvsize=8
Off_t='off_t'
lseeksize=8
alignbytes=8
prototype=define
Linker and Libraries:
ld='cc'
ldflags =' -Wl,-rpath,/usr/pkg/lib -Wl,-rpath,/usr/local/lib -fstack-protector -L/usr/pkg/lib'
libpth=/usr/include/gcc-4.8 /usr/lib /usr/pkg/lib /lib
libs=-lpthread -lm -lcrypt -lutil -lc -lposix
perllibs=-lpthread -lm -lcrypt -lutil -lc -lposix
libc=/lib/libc.so
so=so
useshrplib=false
libperl=libperl.a
gnulibc_version=''
Dynamic Linking:
dlsrc=dl_dlopen.xs
dlext=so
d_dlsymun=undef
ccdlflags='-Wl,-E '
cccdlflags='-DPIC -fPIC '
lddlflags='-shared -L/usr/pkg/lib -fstack-protector'
Characteristics of this binary (from libperl):
Compile-time options:
HAS_TIMES
MULTIPLICITY
PERLIO_LAYERS
PERL_COPY_ON_WRITE
PERL_DONT_CREATE_GVSV
PERL_IMPLICIT_CONTEXT
PERL_MALLOC_WRAP
PERL_OP_PARENT
PERL_PRESERVE_IVUV
PERL_USE_DEVEL
USE_64_BIT_ALL
USE_64_BIT_INT
USE_ITHREADS
USE_LARGE_FILES
USE_LOCALE
USE_LOCALE_COLLATE
USE_LOCALE_CTYPE
USE_LOCALE_NUMERIC
USE_LOCALE_TIME
USE_PERLIO
USE_PERL_ATOF
USE_REENTRANT_API
Locally applied patches:
Devel::PatchPerl 1.48
Built under netbsd
Compiled at Mar 24 2020 18:58:43
%ENV:
PERL5LIB="/home/njh/.cpan/build/AnyEvent-HTTP-2.25-1/blib/arch:/home/njh/.cpan/build/AnyEvent-HTTP-2.25-1/blib/lib:/home/njh/.cpan/build/AnyEvent-7.17-1/blib/arch:/home/njh/.cpan/build/AnyEvent-7.17-1/blib/lib:/home/njh/.cpan/build/Canary-Stability-2013-1/blib/arch:/home/njh/.cpan/build/Canary-Stability-2013-1/blib/lib"
PERL5OPT=""
PERL5_CPANPLUS_IS_RUNNING="22946"
PERL5_CPAN_IS_RUNNING="22946"
PERL5_CPAN_IS_RUNNING_IN_RECURSION="23303,22946"
PERLBREW_HOME="/home/njh/.perlbrew"
PERLBREW_MANPATH="/home/njh/perl5/perlbrew/perls/perl-5.30.2-thread/man"
PERLBREW_PATH="/home/njh/perl5/perlbrew/bin:/home/njh/perl5/perlbrew/perls/perl-5.30.2-thread/bin"
PERLBREW_PERL="perl-5.30.2-thread"
PERLBREW_ROOT="/home/njh/perl5/perlbrew"
PERLBREW_SHELLRC_VERSION="0.88"
PERLBREW_VERSION="0.88"
PERL_MM_USE_DEFAULT="1"
PERL_USE_UNSAFE_INC="1"
@INC:
/home/njh/.cpan/build/AnyEvent-HTTP-2.25-1/blib/arch
/home/njh/.cpan/build/AnyEvent-HTTP-2.25-1/blib/lib
/home/njh/.cpan/build/AnyEvent-7.17-1/blib/arch
/home/njh/.cpan/build/AnyEvent-7.17-1/blib/lib
/home/njh/.cpan/build/Canary-Stability-2013-1/blib/arch
/home/njh/.cpan/build/Canary-Stability-2013-1/blib/lib
/home/njh/perl5/perlbrew/perls/perl-5.30.2-thread/lib/site_perl/5.30.2/amd64-netbsd-thread-multi
/home/njh/perl5/perlbrew/perls/perl-5.30.2-thread/lib/site_perl/5.30.2
/home/njh/perl5/perlbrew/perls/perl-5.30.2-thread/lib/5.30.2/amd64-netbsd-thread-multi
/home/njh/perl5/perlbrew/perls/perl-5.30.2-thread/lib/5.30.2
.