JSON v4.05 Perl 5 v5.34.0 amd64-freebsd
- Status
- Pass
- From
- Slaven Rezić
- Dist
-
JSON v4.05
- Platform
- Perl 5 v5.34.0 amd64-freebsd
- Date
- 2022-01-14 09:36:44
- ID
- 7c8b51c6-751d-11ec-bffc-fc8e1f24ea8f
This distribution has been tested as part of the CPAN Testers
project, supporting the Perl programming language. See
http://wiki.cpantesters.org/ for more information or email
questions to cpan-testers-discuss@perl.org
--
Dear Kenichi Ishigaki,
This is a computer-generated report for JSON-4.05
on perl 5.34.0, created by CPAN-Reporter-1.2018.
Thank you for uploading your work to CPAN. Congratulations!
All tests were successful.
Sections of this report:
* Tester comments
* Program output
* Prerequisites
* Environment and other context
------------------------------
TESTER COMMENTS
------------------------------
Additional comments from tester:
none provided
------------------------------
PROGRAM OUTPUT
------------------------------
Output from '/usr/bin/make test':
PERL_DL_NONLAZY=1 "/usr/perl5.34.0p/bin/perl" "-MExtUtils::Command::MM" "-MTest::Harness" "-e" "undef *Test::Harness::Switches; test_harness(0, 'blib/lib', 'blib/arch')" t/*.t
# JSON::backportPP 4.07
t/00_backend_version.t ......................... ok
t/00_load.t .................................... ok
t/00_load_backport_pp.t ........................ ok
t/00_pod.t ..................................... ok
t/01_utf8.t .................................... ok
t/02_error.t ................................... ok
t/03_types.t ................................... ok
t/04_dwiw_encode.t ............................. ok
t/05_dwiw_decode.t ............................. ok
t/06_pc_pretty.t ............................... ok
t/07_pc_esc.t .................................. ok
t/08_pc_base.t ................................. ok
t/09_pc_extra_number.t ......................... ok
t/104_sortby.t ................................. ok
t/105_esc_slash.t .............................. ok
t/106_allow_barekey.t .......................... ok
t/107_allow_singlequote.t ...................... ok
t/108_decode.t ................................. ok
t/109_encode.t ................................. ok
t/10_pc_keysort.t .............................. ok
t/110_bignum.t ................................. ok
t/112_upgrade.t ................................ ok
t/113_overloaded_eq.t .......................... ok
t/114_decode_prefix.t .......................... ok
t/115_tie_ixhash.t ............................. ok
t/116_incr_parse_fixed.t ....................... ok
t/117_numbers.t ................................ ok
t/118_boolean_values.t ......................... ok
t/119_incr_parse_utf8.t ........................ ok
t/11_pc_expo.t ................................. ok
t/12_blessed.t ................................. ok
t/13_limit.t ................................... ok
t/14_latin1.t .................................. ok
t/15_prefix.t .................................. ok
t/16_tied.t .................................... ok
t/17_relaxed.t ................................. ok
t/18_json_checker.t ............................ ok
t/19_incr.t .................................... ok
t/20_faihu.t ................................... ok
t/20_unknown.t ................................. ok
t/21_evans.t ................................... ok
t/22_comment_at_eof.t .......................... ok
t/52_object.t .................................. ok
t/99_binary.t .................................. ok
t/e00_func.t ................................... ok
t/e01_property.t ............................... ok
# 1
t/e02_bool.t ................................... ok
t/e03_bool2.t .................................. ok
t/e11_conv_blessed_univ.t ...................... ok
t/e90_misc.t ................................... ok
t/gh_28_json_test_suite.t ...................... ok
t/gh_29_trailing_false_value.t ................. ok
t/rt_116998_wrong_character_offset.t ........... ok
t/rt_122270_is_bool_for_obsolete_xs_boolean.t .. ok
t/rt_90071_incr_parse.t ........................ ok
# load JSON::XS v.4.03
t/x00_load.t ................................... ok
t/x02_error.t .................................. ok
t/x12_blessed.t ................................ ok
t/x16_tied.t ................................... ok
t/x17_strange_overload.t ....................... ok
t/xe04_escape_slash.t .......................... ok
t/xe05_indent_length.t ......................... ok
t/xe12_boolean.t ............................... ok
t/xe19_xs_and_suportbypp.t ..................... ok
t/xe20_croak_message.t ......................... ok
t/xe21_is_pp.t ................................. ok
t/zero-mojibake.t .............................. ok
All tests successful.
Files=67, Tests=26070, 44 wallclock secs ( 2.17 usr 0.38 sys + 42.51 cusr 1.07 csys = 46.13 CPU)
Result: PASS
------------------------------
PREREQUISITES
------------------------------
Prerequisite modules loaded:
requires:
Module Need Have
------------------- ---- --------
Test::More 0 1.302188
build_requires:
Module Need Have
------------------- ---- --------
ExtUtils::MakeMaker 0 7.64
configure_requires:
Module Need Have
------------------- ---- --------
ExtUtils::MakeMaker 0 7.64
------------------------------
ENVIRONMENT AND OTHER CONTEXT
------------------------------
Environment variables:
LANG = C.UTF-8
PATH = /usr/local/bin:/usr/bin:/bin:/usr/local/sbin:/usr/sbin:/sbin:/home/cpansand/bin/sh:/home/cpansand/bin:/usr/games:/home/cpansand/devel:/usr/home/eserte/src/srezic-misc/scripts
PERL5LIB =
PERL5OPT =
PERL5_CPANPLUS_IS_RUNNING = 17755
PERL5_CPAN_IS_RUNNING = 17755
PERL5_CPAN_IS_RUNNING_IN_RECURSION = 17584,17755
PERL_BATCH = yes
PERL_CANARY_STABILITY_NOPROMPT = 1
PERL_CPAN_REPORTER_CONFIG = /var/tmp/cpansmoker-1023/2022011409/cpanreporter_000_config.ini
PERL_EXTUTILS_AUTOINSTALL = --defaultdeps
PERL_USE_UNSAFE_INC = 1
SHELL = /bin/sh
TMPDIR = /var/tmp/cpansmoker-1023/2022011409
Perl special variables (and OS-specific diagnostics, for MSWin32):
$^X = /usr/perl5.34.0p/bin/perl
$UID/$EUID = 1023 / 1023
$GID = 1023 1023
$EGID = 1023 1023
Perl module toolchain versions installed:
Module Have
------------------- --------
CPAN 2.28
CPAN::Meta 2.150010
Cwd 3.80
ExtUtils::CBuilder 0.280236
ExtUtils::Command 7.64
ExtUtils::Install 2.20
ExtUtils::MakeMaker 7.64
ExtUtils::Manifest 1.73
ExtUtils::ParseXS 3.43
File::Spec 3.80
JSON 4.03
JSON::PP 4.06
Module::Build 0.4231
Module::Signature 0.88
Parse::CPAN::Meta 2.150010
Test::Harness 3.43
Test::More 1.302188
YAML 1.30
YAML::Syck 1.34
version 0.9928
--
Summary of my perl5 (revision 5 version 34 subversion 0) configuration:
Platform:
osname=freebsd
osvers=14.0-current
archname=amd64-freebsd
uname='freebsd cloud2.bbbike.org 14.0-current freebsd 14.0-current #1 main-n249154-312f5f8a4fb9: sat sep 4 21:10:11 utc 2021 root@cloud2.bbbike.org:usrobjusrhomeprojectsfreebsdamd64.amd64sysgeneric amd64 '
config_args='-ds -e -Dprefix=/usr/perl5.34.0p -Dcf_email=srezic@cpan.org -Doptimize=-O2 -pipe'
hint=recommended
useposix=true
d_sigaction=define
useithreads=undef
usemultiplicity=undef
use64bitint=define
use64bitall=define
uselongdouble=undef
usemymalloc=n
default_inc_excludes_dot=define
Compiler:
cc='cc'
ccflags ='-DHAS_FPSETMASK -DHAS_FLOATINGPOINT_H -fno-strict-aliasing -pipe -fstack-protector-strong -I/usr/local/include'
optimize='-O2 -pipe'
cppflags='-DHAS_FPSETMASK -DHAS_FLOATINGPOINT_H -fno-strict-aliasing -pipe -fstack-protector-strong -I/usr/local/include'
ccversion=''
gccversion='FreeBSD Clang 12.0.1 (git@github.com:llvm/llvm-project.git llvmorg-12.0.1-0-gfed41342a82f)'
gccosandvers=''
intsize=4
longsize=8
ptrsize=8
doublesize=8
byteorder=12345678
doublekind=3
d_longlong=define
longlongsize=8
d_longdbl=define
longdblsize=16
longdblkind=3
ivtype='long'
ivsize=8
nvtype='double'
nvsize=8
Off_t='off_t'
lseeksize=8
alignbytes=8
prototype=define
Linker and Libraries:
ld='cc'
ldflags ='-pthread -Wl,-E -fstack-protector-strong -L/usr/local/lib'
libpth=/usr/lib /usr/local/lib /usr/lib/clang/12.0.1/lib
libs=-lpthread -ldl -lm -lcrypt -lutil -lc
perllibs=-lpthread -ldl -lm -lcrypt -lutil -lc
libc=
so=so
useshrplib=false
libperl=libperl.a
gnulibc_version=''
Dynamic Linking:
dlsrc=dl_dlopen.xs
dlext=so
d_dlsymun=undef
ccdlflags=' '
cccdlflags='-DPIC -fPIC'
lddlflags='-shared -L/usr/local/lib -fstack-protector-strong'
Characteristics of this binary (from libperl):
Compile-time options:
HAS_TIMES
PERLIO_LAYERS
PERL_COPY_ON_WRITE
PERL_DONT_CREATE_GVSV
PERL_MALLOC_WRAP
PERL_OP_PARENT
PERL_PRESERVE_IVUV
USE_64_BIT_ALL
USE_64_BIT_INT
USE_LARGE_FILES
USE_LOCALE
USE_LOCALE_COLLATE
USE_LOCALE_CTYPE
USE_LOCALE_NUMERIC
USE_LOCALE_TIME
USE_PERLIO
USE_PERL_ATOF
Built under freebsd
Compiled at Sep 8 2021 18:37:00
%ENV:
PERL5LIB=""
PERL5OPT=""
PERL5_CPANPLUS_IS_RUNNING="17755"
PERL5_CPAN_IS_RUNNING="17755"
PERL5_CPAN_IS_RUNNING_IN_RECURSION="17584,17755"
PERL_BATCH="yes"
PERL_CANARY_STABILITY_NOPROMPT="1"
PERL_CPAN_REPORTER_CONFIG="/var/tmp/cpansmoker-1023/2022011409/cpanreporter_000_config.ini"
PERL_EXTUTILS_AUTOINSTALL="--defaultdeps"
PERL_USE_UNSAFE_INC="1"
@INC:
/usr/perl5.34.0p/lib/site_perl/5.34.0/amd64-freebsd
/usr/perl5.34.0p/lib/site_perl/5.34.0
/usr/perl5.34.0p/lib/5.34.0/amd64-freebsd
/usr/perl5.34.0p/lib/5.34.0
.