File-ShareDir-Install v0.14 Perl 5 v5.8.9 i86pc-solaris-thread-multi-64

Status
Pass
From
Chris Williams (BINGOS)
Dist
File-ShareDir-Install v0.14
Platform
Perl 5 v5.8.9 i86pc-solaris-thread-multi-64
Date
2022-12-16 00:06:27
ID
7c2647c0-7cd5-11ed-aba6-9a79f339625c
This distribution has been tested as part of the CPAN Testers
project, supporting the Perl programming language.  See
http://wiki.cpantesters.org/ for more information or email
questions to cpan-testers-discuss@perl.org


--

Dear Karen Etheridge,

This is a computer-generated error report created automatically by
CPANPLUS, version 0.9914. Testers personal comments may appear
at the end of this report.


Thank you for uploading your work to CPAN.  Congratulations!
All tests were successful.

TEST RESULTS:

Below is the error stack from stage 'make test':

PERL_DL_NONLAZY=1 "/home/cpan/pit/thr/perl-5.8.9/bin/perl" "-MExtUtils::Command::MM" "-MTest::Harness" "-e" "undef *Test::Harness::Switches; test_harness(0, 'blib/lib', 'blib/arch')" t/*.t
t/10_makefile.t ........ ok
t/11_dotfile.t ......... ok
t/12_delete.t .......... ok
# 
# Versions for all modules listed in MYMETA.json (including optional ones):
# 
# === Configure Requires ===
# 
#     Module              Want Have
#     ------------------- ---- ----
#     ExtUtils::MakeMaker  any 7.64
# 
# === Build Requires ===
# 
#     Module              Want Have
#     ------------------- ---- ----
#     ExtUtils::MakeMaker  any 7.64
# 
# === Test Requires ===
# 
#     Module              Want     Have
#     ------------------- ---- --------
#     ExtUtils::MakeMaker  any     7.64
#     File::Path           any     2.18
#     File::Spec           any     3.75
#     Test::More           any 1.302191
# 
# === Test Recommends ===
# 
#     Module         Want     Have
#     ---------- -------- --------
#     CPAN::Meta 2.120900 2.150010
# 
# === Runtime Requires ===
# 
#     Module     Want    Have
#     ---------- ---- -------
#     Carp        any    1.10
#     Exporter    any    5.63
#     File::Spec  any    3.75
#     IO::Dir     any    1.06
#     strict      any    1.03
#     warnings    any 1.05_01
# 
# === Other Modules ===
# 
#     Module             Have
#     --------------- -------
#     Encode             2.26
#     File::Temp       0.2311
#     JSON::PP           4.05
#     Module::Runtime missing
#     Pod::Coverage   missing
#     Sub::Name       missing
#     YAML            missing
#     autodie         missing
# 
t/00-report-prereqs.t .. ok
All tests successful.
Files=4, Tests=39,  5 wallclock secs ( 0.05 usr  0.03 sys +  3.78 cusr  1.01 csys =  4.87 CPU)
Result: PASS


PREREQUISITES:

Here is a list of prerequisites you specified and versions we
managed to load:

	  Module Name                        Have     Want
	  Carp                               1.10        0
	  Exporter                           5.63        0
	  ExtUtils::MakeMaker                7.64        0
	  File::Path                         2.18        0
	  File::Spec                         3.75        0
	  IO::Dir                            1.06        0
	  Test::More                     1.302191        0
	  strict                             1.03        0
	  warnings                        1.05_01        0

Perl module toolchain versions installed:
	Module Name                        Have
	CPANPLUS                         0.9914
	CPANPLUS::Dist::Build              0.90
	Cwd                                3.75
	ExtUtils::CBuilder             0.280236
	ExtUtils::Command                  7.64
	ExtUtils::Install                  2.20
	ExtUtils::MakeMaker                7.64
	ExtUtils::Manifest                 1.73
	ExtUtils::ParseXS                  3.44
	File::Spec                         3.75
	Module::Build                    0.4231
	Pod::Parser                        1.35
	Pod::Simple                        3.40
	Test2                          1.302191
	Test::Harness                      3.44
	Test::More                     1.302191
	version                          0.9929

******************************** NOTE ********************************
The comments above are created mechanically, possibly without manual
checking by the sender.  As there are many people performing automatic
tests on each upload to CPAN, it is likely that you will receive
identical messages about the same problem.

If you believe that the message is mistaken, please reply to the first
one with correction and/or additional informations, and do not take
it personally.  We appreciate your patience. :)
**********************************************************************

Additional comments:


This report was machine-generated by CPANPLUS::Dist::YACSmoke 1.08.
Powered by minismokebox version 0.68

CPANPLUS is prefering Build.PL

------------------------------
ENVIRONMENT AND OTHER CONTEXT
------------------------------

Environment variables:

    AUTOMATED_TESTING = 1
    LANG = en_GB.UTF-8
    NONINTERACTIVE_TESTING = 1
    PATH = /home/cpan/pit/jail/blDCvTM0X6/bin:/usr/bin:/usr/sbin:/sbin:/opt/ooce/bin:/usr/gnu/bin
    PERL5LIB = /home/cpan/pit/jail/blDCvTM0X6/lib/perl5:/home/cpan/pit/thr/conf/perl-5.8.9/.cpanplus/5.8.9/build/3bm9JDPz1_/File-ShareDir-Install-0.14/blib/lib:/home/cpan/pit/thr/conf/perl-5.8.9/.cpanplus/5.8.9/build/3bm9JDPz1_/File-ShareDir-Install-0.14/blib/arch
    PERL5_CPANPLUS_IS_RUNNING = 17699
    PERL5_CPANPLUS_IS_VERSION = 0.9914
    PERL5_MINISMOKEBOX = 0.68
    PERL5_YACSMOKE_BASE = /home/cpan/pit/thr/conf/perl-5.8.9
    PERL_EXTUTILS_AUTOINSTALL = --defaultdeps
    PERL_LOCAL_LIB_ROOT = /home/cpan/pit/jail/blDCvTM0X6
    PERL_MB_OPT = --install_base "/home/cpan/pit/jail/blDCvTM0X6"
    PERL_MM_OPT = INSTALL_BASE=/home/cpan/pit/jail/blDCvTM0X6
    PERL_MM_USE_DEFAULT = 1
    PERL_USE_UNSAFE_INC = 1
    SHELL = /bin/bash
    TERM = screen.xterm-256color

Perl special variables (and OS-specific diagnostics, for MSWin32):

    Perl: $^X = /home/cpan/pit/thr/perl-5.8.9/bin/perl
    UID:  $<  = 101
    EUID: $>  = 101
    GID:  $(  = 101 101
    EGID: $)  = 101 101


-------------------------------


--

Summary of my perl5 (revision 5 version 8 subversion 9) configuration:
  Platform:
    osname=solaris, osvers=2.11, archname=i86pc-solaris-thread-multi-64
    uname='sunos ouzel 5.11 omnios-r151034-0d278a0cc5 i86pc i386 i86pc '
    config_args='-des -Dprefix=/home/cpan/pit/thr/perl-5.8.9 -Dusethreads -Duse64bitall -Dcc=gcc'
    hint=recommended, useposix=true, d_sigaction=define
    usethreads=define use5005threads=undef useithreads=define usemultiplicity=define
    useperlio=define d_sfio=undef uselargefiles=define usesocks=undef
    use64bitint=define use64bitall=define uselongdouble=undef
    usemymalloc=n, bincompat5005=undef
  Compiler:
    cc='gcc', ccflags ='-D_REENTRANT -m64 -fwrapv -fno-strict-aliasing -pipe -D_LARGEFILE_SOURCE -D_FILE_OFFSET_BITS=64 -DPERL_USE_SAFE_PUTENV',
    optimize='-O',
    cppflags='-D_REENTRANT -m64 -fwrapv -fno-strict-aliasing -pipe'
    ccversion='', gccversion='9.3.0', gccosandvers=''
    intsize=4, longsize=8, ptrsize=8, doublesize=8, byteorder=12345678
    d_longlong=define, longlongsize=8, d_longdbl=define, longdblsize=16
    ivtype='long', ivsize=8, nvtype='double', nvsize=8, Off_t='off_t', lseeksize=8
    alignbytes=8, prototype=define
  Linker and Libraries:
    ld='gcc', ldflags =' -m64 -L/usr/gnu/lib '
    libpth=/usr/gnu/lib /usr/lib /usr/ccs/lib
    libs=-lsocket -lnsl -ldl -lm -lpthread -lc
    perllibs=-lsocket -lnsl -ldl -lm -lpthread -lc
    libc=/lib/libc.so, so=so, useshrplib=true, libperl=libperl.so
    gnulibc_version=''
  Dynamic Linking:
    dlsrc=dl_dlopen.xs, dlext=so, d_dlsymun=undef, ccdlflags='  -R /home/cpan/pit/thr/perl-5.8.9/lib/5.8.9/i86pc-solaris-thread-multi-64/CORE'
    cccdlflags='-fPIC', lddlflags=' -shared -m64 -L/usr/gnu/lib'


Characteristics of this binary (from libperl): 
  Compile-time options: MULTIPLICITY PERL_IMPLICIT_CONTEXT PERL_MALLOC_WRAP
                        PERL_USE_SAFE_PUTENV USE_64_BIT_ALL USE_64_BIT_INT
                        USE_FAST_STDIO USE_ITHREADS USE_LARGE_FILES
                        USE_PERLIO USE_REENTRANT_API
  Locally applied patches:
	Devel::PatchPerl 2.00
  Built under solaris
  Compiled at Aug 19 2020 19:54:46
  %ENV:
    PERL5LIB="/home/cpan/pit/jail/blDCvTM0X6/lib/perl5:/home/cpan/pit/thr/conf/perl-5.8.9/.cpanplus/5.8.9/build/3bm9JDPz1_/File-ShareDir-Install-0.14/blib/lib:/home/cpan/pit/thr/conf/perl-5.8.9/.cpanplus/5.8.9/build/3bm9JDPz1_/File-ShareDir-Install-0.14/blib/arch"
    PERL5_CPANPLUS_IS_RUNNING="17699"
    PERL5_CPANPLUS_IS_VERSION="0.9914"
    PERL5_MINISMOKEBOX="0.68"
    PERL5_YACSMOKE_BASE="/home/cpan/pit/thr/conf/perl-5.8.9"
    PERL_EXTUTILS_AUTOINSTALL="--defaultdeps"
    PERL_LOCAL_LIB_ROOT="/home/cpan/pit/jail/blDCvTM0X6"
    PERL_MB_OPT="--install_base "/home/cpan/pit/jail/blDCvTM0X6""
    PERL_MM_OPT="INSTALL_BASE=/home/cpan/pit/jail/blDCvTM0X6"
    PERL_MM_USE_DEFAULT="1"
    PERL_USE_UNSAFE_INC="1"
  @INC:
    /home/cpan/pit/jail/blDCvTM0X6/lib/perl5/5.8.9/i86pc-solaris-thread-multi-64
    /home/cpan/pit/jail/blDCvTM0X6/lib/perl5/5.8.9
    /home/cpan/pit/jail/blDCvTM0X6/lib/perl5/i86pc-solaris-thread-multi-64
    /home/cpan/pit/jail/blDCvTM0X6/lib/perl5
    /home/cpan/pit/thr/conf/perl-5.8.9/.cpanplus/5.8.9/build/3bm9JDPz1_/File-ShareDir-Install-0.14/blib/lib
    /home/cpan/pit/thr/conf/perl-5.8.9/.cpanplus/5.8.9/build/3bm9JDPz1_/File-ShareDir-Install-0.14/blib/arch
    /home/cpan/pit/thr/perl-5.8.9/lib/5.8.9/i86pc-solaris-thread-multi-64
    /home/cpan/pit/thr/perl-5.8.9/lib/5.8.9
    /home/cpan/pit/thr/perl-5.8.9/lib/site_perl/5.8.9/i86pc-solaris-thread-multi-64
    /home/cpan/pit/thr/perl-5.8.9/lib/site_perl/5.8.9
    .