Params-ValidationCompiler v0.25 Perl 5 v5.24.3 darwin-thread-multi-2level

Status
Pass
From
aero
Dist
Params-ValidationCompiler v0.25
Platform
Perl 5 v5.24.3 darwin-thread-multi-2level
Date
2017-11-24 00:43:27
ID
7c1cd1c6-d0b0-11e7-938d-da03357b8bcc
This distribution has been tested as part of the CPAN Testers
project, supporting the Perl programming language.  See
http://wiki.cpantesters.org/ for more information or email
questions to cpan-testers-discuss@perl.org


--
Dear Dave Rolsky,

This is a computer-generated report for Params-ValidationCompiler-0.25
on perl 5.24.3, created by CPAN-Reporter-1.2018.

Thank you for uploading your work to CPAN.  Congratulations!
All tests were successful.

Sections of this report:

    * Tester comments
    * Program output
    * Prerequisites
    * Environment and other context

------------------------------
TESTER COMMENTS
------------------------------

Additional comments from tester:

none provided

------------------------------
PROGRAM OUTPUT
------------------------------

Output from '/usr/bin/make test':

PERL_DL_NONLAZY=1 "/Users/chadwick/CASE_SENSITIVE_FS/perl5/perlbrew/perls/perl-5.24/bin/perl" "-MExtUtils::Command::MM" "-MTest::Harness" "-e" "undef *Test::Harness::Switches; test_harness(0, 'blib/lib', 'blib/arch')" t/*.t t/named/*.t t/positional/*.t
# 
# Versions for all modules listed in MYMETA.json (including optional ones):
# 
# === Configure Requires ===
# 
#     Module              Want Have
#     ------------------- ---- ----
#     ExtUtils::MakeMaker  any 7.30
# 
# === Build Requires ===
# 
#     Module              Want Have
#     ------------------- ---- ----
#     ExtUtils::MakeMaker  any 7.30
# 
# === Test Requires ===
# 
#     Module                        Want     Have
#     ------------------------- -------- --------
#     ExtUtils::MakeMaker            any     7.30
#     File::Spec                     any  3.63_01
#     Hash::Util                     any     0.19
#     Specio                        0.14     0.42
#     Test2::Plugin::NoWarnings      any     0.06
#     Test2::Require::Module         any 0.000084
#     Test2::V0                      any 0.000084
#     Test::More                1.302015 1.302113
#     Test::Without::Module          any     0.20
# 
# === Test Recommends ===
# 
#     Module         Want     Have
#     ---------- -------- --------
#     CPAN::Meta 2.120900 2.150010
# 
# === Runtime Requires ===
# 
#     Module           Want Have
#     ---------------- ---- ----
#     B                 any 1.62
#     Carp              any 1.40
#     Eval::Closure     any 0.14
#     Exception::Class  any 1.43
#     Exporter          any 5.72
#     List::Util       1.29 1.49
#     Scalar::Util      any 1.49
#     overload          any 1.26
#     strict            any 1.11
#     warnings          any 1.36
# 
# === Runtime Recommends ===
# 
#     Module    Want Have
#     --------- ---- ----
#     Sub::Util 1.40 1.49
# 
t/00-report-prereqs.t .... ok
t/default.t .............. ok
t/exceptions.t ........... ok
t/moose.t ................ ok
t/name-fails.t ........... ok
t/name.t ................. ok
t/named/args-check.t ..... ok
t/named/const-hash.t ..... skipped: Const::Fast doesn't work on dev/blead perl. Also the tests fail on Perl 5.18 but not others for no reason I can understand
t/named/locked-hash.t .... ok
t/named/required.t ....... ok
t/named/slurpy.t ......... ok
t/pairs-to-value-list.t .. ok
t/positional/default.t ... ok
t/positional/required.t .. ok
t/positional/slurpy.t .... ok
t/self-check.t ........... ok
t/source_for.t ........... ok
t/specio.t ............... ok
t/type-tiny.t ............ ok
All tests successful.
Files=19, Tests=81,  3 wallclock secs ( 0.05 usr  0.03 sys +  2.46 cusr  0.34 csys =  2.88 CPU)
Result: PASS

------------------------------
PREREQUISITES
------------------------------

Prerequisite modules loaded:

requires:

    Module                    Need     Have    
    ------------------------- -------- --------
    B                         0        1.62    
    Carp                      0        1.40    
    Eval::Closure             0        0.14    
    Exception::Class          0        1.43    
    Exporter                  0        5.72    
    List::Util                1.29     1.49    
    overload                  0        1.26    
    Scalar::Util              0        1.49    
    strict                    0        1.11    
    warnings                  0        1.36    

build_requires:

    Module                    Need     Have    
    ------------------------- -------- --------
    ExtUtils::MakeMaker       0        7.30    
    File::Spec                0        3.63_01 
    Hash::Util                0        0.19    
    Specio                    0.14     0.42    
    Test2::Plugin::NoWarnings 0        0.06    
    Test2::Require::Module    0        0.000084
    Test2::V0                 0        0.000084
    Test::More                1.302015 1.302113
    Test::Without::Module     0        0.20    

configure_requires:

    Module                    Need     Have    
    ------------------------- -------- --------
    ExtUtils::MakeMaker       0        7.30    

opt_requires:

    Module                    Need     Have    
    ------------------------- -------- --------
    Sub::Util                 1.40     1.49    

opt_build_requires:

    Module                    Need     Have    
    ------------------------- -------- --------
    CPAN::Meta                2.120900 2.150010


------------------------------
ENVIRONMENT AND OTHER CONTEXT
------------------------------

Environment variables:

    LANG = ko_KR.UTF-8
    NONINTERACTIVE_TESTING = 1
    PATH = /Users/chadwick/.anyenv/envs/pyenv/shims:/Users/chadwick/.anyenv/envs/pyenv/bin:/Users/chadwick/.anyenv/envs/ndenv/shims:/Users/chadwick/.anyenv/envs/ndenv/bin:/Users/chadwick/.anyenv/envs/jenv/shims:/Users/chadwick/.anyenv/envs/jenv/bin:/Users/chadwick/.anyenv/envs/goenv/shims:/Users/chadwick/.anyenv/envs/goenv/bin:/Users/chadwick/.anyenv/bin:/Users/chadwick/.rakudobrew/bin:/Users/chadwick/perl5/perlbrew/bin:/Users/chadwick/perl5/perlbrew/perls/perl-5.24/bin:/Users/chadwick/bin:/usr/local/bin:/usr/local/sbin:/usr/local/bin:/usr/bin:/bin:/usr/sbin:/sbin:/opt/X11/bin
    PERL5LIB = 
    PERL5OPT = 
    PERL5_CPANPLUS_IS_RUNNING = 3068
    PERL5_CPAN_IS_RUNNING = 3068
    PERLBREW_BASHRC_VERSION = 0.80
    PERLBREW_HOME = /Users/chadwick/.perlbrew
    PERLBREW_MANPATH = /Users/chadwick/perl5/perlbrew/perls/perl-5.24/man
    PERLBREW_PATH = /Users/chadwick/perl5/perlbrew/bin:/Users/chadwick/perl5/perlbrew/perls/perl-5.24/bin
    PERLBREW_PERL = perl-5.24
    PERLBREW_ROOT = /Users/chadwick/perl5/perlbrew
    PERLBREW_VERSION = 0.80
    PERL_MM_USE_DEFAULT = 1
    SHELL = /usr/local/bin/bash
    TERM = xterm-256color
    TMPDIR = /var/folders/5v/bskbxfxj1dd1rvy3btm829v00000gn/T/

Perl special variables (and OS-specific diagnostics, for MSWin32):

    $^X = /Users/chadwick/CASE_SENSITIVE_FS/perl5/perlbrew/perls/perl-5.24/bin/perl
    $UID/$EUID = 501 / 501
    $GID = 20 20 12 61 79 80 81 98 701 33 100 204 250 395 398 399
    $EGID = 20 20 12 61 79 80 81 98 701 33 100 204 250 395 398 399

Perl module toolchain versions installed:

    Module              Have    
    ------------------- --------
    CPAN                2.16    
    CPAN::Meta          2.150010
    Cwd                 3.63_01 
    ExtUtils::CBuilder  0.280230
    ExtUtils::Command   7.30    
    ExtUtils::Install   2.14    
    ExtUtils::MakeMaker 7.30    
    ExtUtils::Manifest  1.70    
    ExtUtils::ParseXS   3.35    
    File::Spec          3.63_01 
    JSON                2.97000 
    JSON::PP            2.97000 
    Module::Build       0.4224  
    Module::Signature   n/a     
    Parse::CPAN::Meta   2.150010
    Test::Harness       3.39    
    Test::More          1.302113
    YAML                1.24    
    YAML::Syck          1.30    
    version             0.9918  


--

Summary of my perl5 (revision 5 version 24 subversion 3) configuration:
   
  Platform:
    osname=darwin, osvers=16.7.0, archname=darwin-thread-multi-2level
    uname='darwin chadwick.local 16.7.0 darwin kernel version 16.7.0: thu jun 15 17:36:27 pdt 2017; root:xnu-3789.70.16~2release_x86_64 x86_64 '
    config_args='-de -Dprefix=/Users/chadwick/perl5/perlbrew/perls/perl-5.24 -Dman1dir=none -Dman3dir=none -Dusethreads -Aeval:scriptdir=/Users/chadwick/perl5/perlbrew/perls/perl-5.24/bin'
    hint=recommended, useposix=true, d_sigaction=define
    useithreads=define, usemultiplicity=define
    use64bitint=define, use64bitall=define, uselongdouble=undef
    usemymalloc=n, bincompat5005=undef
  Compiler:
    cc='cc', ccflags ='-fno-common -DPERL_DARWIN -fno-strict-aliasing -pipe -fstack-protector-strong -I/usr/local/include',
    optimize='-O3',
    cppflags='-fno-common -DPERL_DARWIN -fno-strict-aliasing -pipe -fstack-protector-strong -I/usr/local/include'
    ccversion='', gccversion='4.2.1 Compatible Apple LLVM 9.0.0 (clang-900.0.37)', gccosandvers=''
    intsize=4, longsize=8, ptrsize=8, doublesize=8, byteorder=12345678, doublekind=3
    d_longlong=define, longlongsize=8, d_longdbl=define, longdblsize=16, longdblkind=3
    ivtype='long', ivsize=8, nvtype='double', nvsize=8, Off_t='off_t', lseeksize=8
    alignbytes=8, prototype=define
  Linker and Libraries:
    ld='env MACOSX_DEPLOYMENT_TARGET=10.3 cc', ldflags =' -fstack-protector-strong -L/usr/local/lib'
    libpth=/usr/local/lib /Applications/Xcode.app/Contents/Developer/Toolchains/XcodeDefault.xctoolchain/usr/lib/clang/9.0.0/lib /Applications/Xcode.app/Contents/Developer/Toolchains/XcodeDefault.xctoolchain/usr/lib /usr/lib
    libs=-lpthread -lgdbm -ldbm -ldb -ldl -lm -lutil -lc
    perllibs=-lpthread -ldl -lm -lutil -lc
    libc=, so=dylib, useshrplib=false, libperl=libperl.a
    gnulibc_version=''
  Dynamic Linking:
    dlsrc=dl_dlopen.xs, dlext=bundle, d_dlsymun=undef, ccdlflags=' '
    cccdlflags=' ', lddlflags=' -bundle -undefined dynamic_lookup -L/usr/local/lib -fstack-protector-strong'


Characteristics of this binary (from libperl): 
  Compile-time options: HAS_TIMES MULTIPLICITY PERLIO_LAYERS
                        PERL_COPY_ON_WRITE PERL_DONT_CREATE_GVSV
                        PERL_HASH_FUNC_ONE_AT_A_TIME_HARD
                        PERL_IMPLICIT_CONTEXT PERL_MALLOC_WRAP
                        PERL_PRESERVE_IVUV USE_64_BIT_ALL USE_64_BIT_INT
                        USE_ITHREADS USE_LARGE_FILES USE_LOCALE
                        USE_LOCALE_COLLATE USE_LOCALE_CTYPE
                        USE_LOCALE_NUMERIC USE_LOCALE_TIME USE_PERLIO
                        USE_PERL_ATOF USE_REENTRANT_API
  Locally applied patches:
	Devel::PatchPerl 1.34
  Built under darwin
  Compiled at Sep 25 2017 09:41:39
  %ENV:
    PERL5LIB=""
    PERL5OPT=""
    PERL5_CPANPLUS_IS_RUNNING="3068"
    PERL5_CPAN_IS_RUNNING="3068"
    PERLBREW_BASHRC_VERSION="0.80"
    PERLBREW_HOME="/Users/chadwick/.perlbrew"
    PERLBREW_MANPATH="/Users/chadwick/perl5/perlbrew/perls/perl-5.24/man"
    PERLBREW_PATH="/Users/chadwick/perl5/perlbrew/bin:/Users/chadwick/perl5/perlbrew/perls/perl-5.24/bin"
    PERLBREW_PERL="perl-5.24"
    PERLBREW_ROOT="/Users/chadwick/perl5/perlbrew"
    PERLBREW_VERSION="0.80"
    PERL_MM_USE_DEFAULT="1"
  @INC:
    /Users/chadwick/perl5/perlbrew/perls/perl-5.24/lib/site_perl/5.24.3/darwin-thread-multi-2level
    /Users/chadwick/perl5/perlbrew/perls/perl-5.24/lib/site_perl/5.24.3
    /Users/chadwick/perl5/perlbrew/perls/perl-5.24/lib/5.24.3/darwin-thread-multi-2level
    /Users/chadwick/perl5/perlbrew/perls/perl-5.24/lib/5.24.3
    /Users/chadwick/perl5/perlbrew/perls/perl-5.24/lib/site_perl/5.24.2/darwin-thread-multi-2level
    /Users/chadwick/perl5/perlbrew/perls/perl-5.24/lib/site_perl/5.24.2
    /Users/chadwick/perl5/perlbrew/perls/perl-5.24/lib/site_perl/5.24.1/darwin-thread-multi-2level
    /Users/chadwick/perl5/perlbrew/perls/perl-5.24/lib/site_perl/5.24.1
    /Users/chadwick/perl5/perlbrew/perls/perl-5.24/lib/site_perl/5.24.0/darwin-thread-multi-2level
    /Users/chadwick/perl5/perlbrew/perls/perl-5.24/lib/site_perl/5.24.0
    /Users/chadwick/perl5/perlbrew/perls/perl-5.24/lib/site_perl
    .