HTML-LinkList v0.1701 Perl 5 v5.22.1 x86_64-linux-thread-multi

Status
Pass
From
Slaven Rezić (SREZIC)
Dist
HTML-LinkList v0.1701
Platform
Perl 5 v5.22.1 x86_64-linux-thread-multi
Date
2017-10-12 05:52:08
ID
7c12ef8c-af11-11e7-aced-ff4536aeba54
This distribution has been tested as part of the CPAN Testers
project, supporting the Perl programming language.  See
http://wiki.cpantesters.org/ for more information or email
questions to cpan-testers-discuss@perl.org


--
Dear Kathryn Andersen,

This is a computer-generated report for HTML-LinkList-0.1701
on perl 5.22.1, created by CPAN-Reporter-1.2018.

Thank you for uploading your work to CPAN.  Congratulations!
All tests were successful.

Sections of this report:

    * Tester comments
    * Program output
    * Prerequisites
    * Environment and other context

------------------------------
TESTER COMMENTS
------------------------------

Additional comments from tester:

none provided

------------------------------
PROGRAM OUTPUT
------------------------------

Output from './Build test':

t/00-compile.t ............ ok
# 
# Versions for all modules listed in MYMETA.json (including optional ones):
# 
# === Configure Requires ===
# 
#     Module        Want   Have
#     ------------- ---- ------
#     Module::Build 0.28 0.4218
# 
# === Build Requires ===
# 
#     Module        Want   Have
#     ------------- ---- ------
#     Module::Build 0.28 0.4218
# 
# === Test Requires ===
# 
#     Module              Want     Have
#     ------------------- ---- --------
#     ExtUtils::MakeMaker  any  7.04_01
#     File::Spec           any     3.56
#     IO::Handle           any     1.35
#     IPC::Open3           any     1.18
#     Test::More           any 1.001014
# 
# === Test Recommends ===
# 
#     Module         Want     Have
#     ---------- -------- --------
#     CPAN::Meta 2.120900 2.150001
# 
# === Runtime Requires ===
# 
#     Module       Want  Have
#     ------------ ---- -----
#     Data::Dumper  any 2.158
#     Exporter      any  5.72
#     strict        any  1.09
#     warnings      any  1.34
# 
t/00-report-prereqs.t ..... ok
t/10_link_list.t .......... ok
t/20_link_tree.t .......... ok
t/30_full_tree.t .......... ok
t/40_breadcrumb_trail.t ... ok
t/50_nav_tree.t ........... ok
t/release-distmeta.t ...... skipped: these tests are for release candidate testing
t/release-has-version.t ... skipped: these tests are for release candidate testing
t/release-pod-coverage.t .. skipped: these tests are for release candidate testing
t/release-pod-syntax.t .... skipped: these tests are for release candidate testing
t/release-portability.t ... skipped: these tests are for release candidate testing
All tests successful.
Files=12, Tests=56,  0 wallclock secs ( 0.04 usr  0.07 sys +  0.30 cusr  0.08 csys =  0.49 CPU)
Result: PASS

------------------------------
PREREQUISITES
------------------------------

Prerequisite modules loaded:

requires:

    Module              Need  Have    
    ------------------- ----- --------
    Data::Dumper        0     2.158   
    Exporter            0     5.72    
    strict              0     1.09    
    warnings            0     1.34    

build_requires:

    Module              Need  Have    
    ------------------- ----- --------
    ExtUtils::MakeMaker 0     7.04_01 
    File::Spec          0     3.56    
    IO::Handle          0     1.35    
    IPC::Open3          0     1.18    
    Module::Build       0.28  0.4218  
    perl                5.006 5.022001
    Test::More          0     1.001014

configure_requires:

    Module              Need  Have    
    ------------------- ----- --------
    Module::Build       0.28  0.4218  


------------------------------
ENVIRONMENT AND OTHER CONTEXT
------------------------------

Environment variables:

    LANG = C
    PATH = /usr/local/bin:/usr/bin:/bin:/usr/local/sbin:/usr/sbin:/sbin:/home/cpansand/bin/linux-gnu:/home/cpansand/bin/sh:/home/cpansand/bin:/usr/games:/home/cpansand/devel:/home/eserte/src/srezic-misc/scripts
    PERL5LIB = /home/cpansand/.cpan/build/2017101203/Image-Size-3.300-4Lz6FD/blib/arch:/home/cpansand/.cpan/build/2017101203/Image-Size-3.300-4Lz6FD/blib/lib:/home/cpansand/.cpan/build/2017101203/Mojolicious-7.46-mJenVn/blib/arch:/home/cpansand/.cpan/build/2017101203/Mojolicious-7.46-mJenVn/blib/lib:/home/cpansand/.cpan/build/2017101203/Config-Context-0.10-xGX8n_/blib/arch:/home/cpansand/.cpan/build/2017101203/Config-Context-0.10-xGX8n_/blib/lib:/home/cpansand/.cpan/build/2017101203/Hash-Merge-0.200-YSlWq9/blib/arch:/home/cpansand/.cpan/build/2017101203/Hash-Merge-0.200-YSlWq9/blib/lib:/home/cpansand/.cpan/build/2017101203/Clone-0.39-7DD9cQ/blib/arch:/home/cpansand/.cpan/build/2017101203/Clone-0.39-7DD9cQ/blib/lib:/home/cpansand/.cpan/build/2017101203/Config-General-2.63-ZmNf7k/blib/arch:/home/cpansand/.cpan/build/2017101203/Config-General-2.63-ZmNf7k/blib/lib
    PERL5OPT = 
    PERL5_CPANPLUS_IS_RUNNING = 29817
    PERL5_CPAN_IS_RUNNING = 29817
    PERL5_CPAN_IS_RUNNING_IN_RECURSION = 16751,29817
    PERLDOC = -MPod::Perldoc::ToTextOverstrike
    PERL_BATCH = yes
    PERL_CANARY_STABILITY_NOPROMPT = 1
    PERL_CPAN_REPORTER_CONFIG = /var/tmp/cpansmoker-1023/2017101203/cpanreporter_000_config.ini
    PERL_EXTUTILS_AUTOINSTALL = --defaultdeps
    SHELL = /bin/zsh
    TERM = screen
    TMPDIR = /var/tmp/cpansmoker-1023/2017101203

Perl special variables (and OS-specific diagnostics, for MSWin32):

    $^X = /bbbike/perl-5.22.1t/bin/perl
    $UID/$EUID = 1023 / 1023
    $GID = 1023 1023
    $EGID = 1023 1023

Perl module toolchain versions installed:

    Module              Have    
    ------------------- --------
    CPAN                2.11    
    CPAN::Meta          2.150001
    Cwd                 3.56    
    ExtUtils::CBuilder  0.280221
    ExtUtils::Command   1.20    
    ExtUtils::Install   2.04    
    ExtUtils::MakeMaker 7.04_01 
    ExtUtils::Manifest  1.70    
    ExtUtils::ParseXS   3.28    
    File::Spec          3.56    
    JSON                n/a     
    JSON::PP            2.27300 
    Module::Build       0.4218  
    Module::Signature   n/a     
    Parse::CPAN::Meta   1.4422  
    Test::Harness       3.35    
    Test::More          1.001014
    YAML                1.15    
    YAML::Syck          1.29    
    version             0.9909  


--

Summary of my perl5 (revision 5 version 22 subversion 1) configuration:
   
  Platform:
    osname=linux, osvers=3.16.0-4-amd64, archname=x86_64-linux-thread-multi
    uname='linux eserte 3.16.0-4-amd64 #1 smp debian 3.16.7-ckt25-2 (2016-04-08) x86_64 gnulinux '
    config_args='-ds -e -Dprefix=/opt/perl-5.22.1t -Dusethreads -Dcf_email=srezic@cpan.org'
    hint=recommended, useposix=true, d_sigaction=define
    useithreads=define, usemultiplicity=define
    use64bitint=define, use64bitall=define, uselongdouble=undef
    usemymalloc=n, bincompat5005=undef
  Compiler:
    cc='cc', ccflags ='-D_REENTRANT -D_GNU_SOURCE -fwrapv -fno-strict-aliasing -pipe -fstack-protector-strong -I/usr/local/include -D_LARGEFILE_SOURCE -D_FILE_OFFSET_BITS=64 -D_FORTIFY_SOURCE=2',
    optimize='-O2',
    cppflags='-D_REENTRANT -D_GNU_SOURCE -fwrapv -fno-strict-aliasing -pipe -fstack-protector-strong -I/usr/local/include'
    ccversion='', gccversion='4.9.2', gccosandvers=''
    intsize=4, longsize=8, ptrsize=8, doublesize=8, byteorder=12345678, doublekind=3
    d_longlong=define, longlongsize=8, d_longdbl=define, longdblsize=16, longdblkind=3
    ivtype='long', ivsize=8, nvtype='double', nvsize=8, Off_t='off_t', lseeksize=8
    alignbytes=8, prototype=define
  Linker and Libraries:
    ld='cc', ldflags =' -fstack-protector-strong -L/usr/local/lib'
    libpth=/usr/local/lib /usr/lib/gcc/x86_64-linux-gnu/4.9/include-fixed /usr/include/x86_64-linux-gnu /usr/lib /lib/x86_64-linux-gnu /lib/../lib /usr/lib/x86_64-linux-gnu /usr/lib/../lib /lib
    libs=-lpthread -lnsl -lgdbm -ldb -ldl -lm -lcrypt -lutil -lc -lgdbm_compat
    perllibs=-lpthread -lnsl -ldl -lm -lcrypt -lutil -lc
    libc=libc-2.19.so, so=so, useshrplib=false, libperl=libperl.a
    gnulibc_version='2.19'
  Dynamic Linking:
    dlsrc=dl_dlopen.xs, dlext=so, d_dlsymun=undef, ccdlflags='-Wl,-E'
    cccdlflags='-fPIC', lddlflags='-shared -O2 -L/usr/local/lib -fstack-protector-strong'


Characteristics of this binary (from libperl): 
  Compile-time options: HAS_TIMES MULTIPLICITY PERLIO_LAYERS
                        PERL_DONT_CREATE_GVSV
                        PERL_HASH_FUNC_ONE_AT_A_TIME_HARD
                        PERL_IMPLICIT_CONTEXT PERL_MALLOC_WRAP
                        PERL_NEW_COPY_ON_WRITE PERL_PRESERVE_IVUV
                        USE_64_BIT_ALL USE_64_BIT_INT USE_ITHREADS
                        USE_LARGE_FILES USE_LOCALE USE_LOCALE_COLLATE
                        USE_LOCALE_CTYPE USE_LOCALE_NUMERIC USE_LOCALE_TIME
                        USE_PERLIO USE_PERL_ATOF USE_REENTRANT_API
  Built under linux
  Compiled at May  7 2016 16:52:27
  %ENV:
    PERL5LIB="/home/cpansand/.cpan/build/2017101203/Image-Size-3.300-4Lz6FD/blib/arch:/home/cpansand/.cpan/build/2017101203/Image-Size-3.300-4Lz6FD/blib/lib:/home/cpansand/.cpan/build/2017101203/Mojolicious-7.46-mJenVn/blib/arch:/home/cpansand/.cpan/build/2017101203/Mojolicious-7.46-mJenVn/blib/lib:/home/cpansand/.cpan/build/2017101203/Config-Context-0.10-xGX8n_/blib/arch:/home/cpansand/.cpan/build/2017101203/Config-Context-0.10-xGX8n_/blib/lib:/home/cpansand/.cpan/build/2017101203/Hash-Merge-0.200-YSlWq9/blib/arch:/home/cpansand/.cpan/build/2017101203/Hash-Merge-0.200-YSlWq9/blib/lib:/home/cpansand/.cpan/build/2017101203/Clone-0.39-7DD9cQ/blib/arch:/home/cpansand/.cpan/build/2017101203/Clone-0.39-7DD9cQ/blib/lib:/home/cpansand/.cpan/build/2017101203/Config-General-2.63-ZmNf7k/blib/arch:/home/cpansand/.cpan/build/2017101203/Config-General-2.63-ZmNf7k/blib/lib"
    PERL5OPT=""
    PERL5_CPANPLUS_IS_RUNNING="29817"
    PERL5_CPAN_IS_RUNNING="29817"
    PERL5_CPAN_IS_RUNNING_IN_RECURSION="16751,29817"
    PERLDOC="-MPod::Perldoc::ToTextOverstrike"
    PERL_BATCH="yes"
    PERL_CANARY_STABILITY_NOPROMPT="1"
    PERL_CPAN_REPORTER_CONFIG="/var/tmp/cpansmoker-1023/2017101203/cpanreporter_000_config.ini"
    PERL_EXTUTILS_AUTOINSTALL="--defaultdeps"
  @INC:
    /home/cpansand/.cpan/build/2017101203/Image-Size-3.300-4Lz6FD/blib/arch
    /home/cpansand/.cpan/build/2017101203/Image-Size-3.300-4Lz6FD/blib/lib
    /home/cpansand/.cpan/build/2017101203/Mojolicious-7.46-mJenVn/blib/arch
    /home/cpansand/.cpan/build/2017101203/Mojolicious-7.46-mJenVn/blib/lib
    /home/cpansand/.cpan/build/2017101203/Config-Context-0.10-xGX8n_/blib/arch
    /home/cpansand/.cpan/build/2017101203/Config-Context-0.10-xGX8n_/blib/lib
    /home/cpansand/.cpan/build/2017101203/Hash-Merge-0.200-YSlWq9/blib/arch
    /home/cpansand/.cpan/build/2017101203/Hash-Merge-0.200-YSlWq9/blib/lib
    /home/cpansand/.cpan/build/2017101203/Clone-0.39-7DD9cQ/blib/arch
    /home/cpansand/.cpan/build/2017101203/Clone-0.39-7DD9cQ/blib/lib
    /home/cpansand/.cpan/build/2017101203/Config-General-2.63-ZmNf7k/blib/arch
    /home/cpansand/.cpan/build/2017101203/Config-General-2.63-ZmNf7k/blib/lib
    /opt/perl-5.22.1t/lib/site_perl/5.22.1/x86_64-linux-thread-multi
    /opt/perl-5.22.1t/lib/site_perl/5.22.1
    /opt/perl-5.22.1t/lib/5.22.1/x86_64-linux-thread-multi
    /opt/perl-5.22.1t/lib/5.22.1
    .