JSON-Parse v0.62 Perl 5 v5.8.9 x86_64-linux-thread-multi-ld
- Status
- Pass
- From
- Nigel Horne
- Dist
-
JSON-Parse v0.62
- Platform
- Perl 5 v5.8.9 x86_64-linux-thread-multi-ld
- Date
- 2022-07-18 13:21:08
- ID
- 7bd3225c-069c-11ed-83e7-15f7e2c1f7b8
This distribution has been tested as part of the CPAN Testers
project, supporting the Perl programming language. See
http://wiki.cpantesters.org/ for more information or email
questions to cpan-testers-discuss@perl.org
--
Dear Ben Bullock,
This is a computer-generated report for JSON-Parse-0.62
on perl 5.8.9, created by CPAN-Reporter-1.2018.
Thank you for uploading your work to CPAN. Congratulations!
All tests were successful.
Sections of this report:
* Tester comments
* Program output
* Prerequisites
* Environment and other context
------------------------------
TESTER COMMENTS
------------------------------
Additional comments from tester:
this report is from an automated smoke testing program
and was not reviewed by a human for accuracy
------------------------------
PROGRAM OUTPUT
------------------------------
Output from '/usr/bin/make test':
"/home/opc/perl5/perlbrew/perls/perl-5.8.9-thread-multi-ld-64all/bin/perl5.8.9" -MExtUtils::Command::MM -e 'cp_nonempty' -- Parse.bs blib/arch/auto/JSON/Parse/Parse.bs 644
PERL_DL_NONLAZY=1 "/home/opc/perl5/perlbrew/perls/perl-5.8.9-thread-multi-ld-64all/bin/perl5.8.9" "-MExtUtils::Command::MM" "-MTest::Harness" "-e" "undef *Test::Harness::Switches; test_harness(0, 'blib/lib', 'blib/arch')" t/*.t
t/array.t ............... ok
t/bugzilla-2049.t ....... ok
t/collision.t ........... ok
t/JSON-Parse.t .......... ok
t/Json3.t ............... ok
t/json-tokenize.t ....... ok
t/max-depth.t ........... ok
t/kolmorogov42-1.t ...... ok
t/minify.t .............. ok
t/numbers.t ............. ok
t/perl-monks-1165399.t .. ok
t/object.t .............. ok
t/read-file.t ........... ok
t/rfc7159.t ............. ok
t/string-bug-44.t ....... ok
t/syntax.t .............. ok
t/tokenize-bug.t ........ ok
t/test-empty-string.t ... ok
t/u-in-key.t ............ ok
t/unicode.t ............. ok
t/upgrade-utf8.t ........ ok
t/utf8.t ................ ok
t/valid-json.t .......... ok
t/whitespace.t .......... ok
All tests successful.
Test Summary Report
-------------------
t/u-in-key.t (Wstat: 0 Tests: 6 Failed: 0)
TODO passed: 1-6
Files=24, Tests=455, 4 wallclock secs ( 0.09 usr 0.04 sys + 1.77 cusr 0.33 csys = 2.23 CPU)
Result: PASS
------------------------------
PREREQUISITES
------------------------------
Prerequisite modules loaded:
requires:
Module Need Have
------------------- -------- --------
Carp 0 1.50
perl 5.008009 5.008009
build_requires:
Module Need Have
------------------- -------- --------
ExtUtils::MakeMaker 0 7.42
configure_requires:
Module Need Have
------------------- -------- --------
ExtUtils::MakeMaker 0 7.42
------------------------------
ENVIRONMENT AND OTHER CONTEXT
------------------------------
Environment variables:
AUTOMATED_TESTING = 1
HARNESS_OPTIONS = j2:c
LANG = en_US.UTF-8
NONINTERACTIVE_TESTING = 1
PATH = /home/opc/perl5/perlbrew/bin:/home/opc/perl5/perlbrew/perls/perl-5.8.9-thread-multi-ld-64all/bin:/home/opc/perl5/perlbrew/bin:/usr/local/bin:/usr/bin:/home/opc/.local/bin:/home/opc/bin
PERL5LIB =
PERL5OPT =
PERL5_CPANPLUS_IS_RUNNING = 9741
PERL5_CPAN_IS_RUNNING = 9741
PERLBREW_HOME = /home/opc/.perlbrew
PERLBREW_LIB =
PERLBREW_MANPATH = /home/opc/perl5/perlbrew/perls/perl-5.8.9-thread-multi-ld-64all/man
PERLBREW_PATH = /home/opc/perl5/perlbrew/bin:/home/opc/perl5/perlbrew/perls/perl-5.8.9-thread-multi-ld-64all/bin
PERLBREW_PERL = perl-5.8.9-thread-multi-ld-64all
PERLBREW_ROOT = /home/opc/perl5/perlbrew
PERLBREW_SHELLRC_VERSION = 0.95
PERLBREW_VERSION = 0.95
PERL_LOCAL_LIB_ROOT =
PERL_MM_USE_DEFAULT = 1
PERL_USE_UNSAFE_INC = 1
SHELL = /bin/bash
TERM = xterm-256color
Perl special variables (and OS-specific diagnostics, for MSWin32):
$^X = /home/opc/perl5/perlbrew/perls/perl-5.8.9-thread-multi-ld-64all/bin/perl5.8.9
$UID/$EUID = 1000 / 1000
$GID = 1000 4 10 190 1000
$EGID = 1000 4 10 190 1000
Perl module toolchain versions installed:
Module Have
------------------- --------
CPAN 2.27
CPAN::Meta 2.143240
Cwd 3.75
ExtUtils::CBuilder 0.280231
ExtUtils::Command 7.42
ExtUtils::Install 2.06
ExtUtils::MakeMaker 7.42
ExtUtils::Manifest 1.70
ExtUtils::ParseXS 3.35
File::Spec 3.75
JSON 4.02
JSON::PP 4.04
Module::Build 0.4229
Module::Signature n/a
Parse::CPAN::Meta 1.4414
Test::Harness 3.42
Test::More 1.302170
YAML 1.30
YAML::Syck n/a
version 0.9924
--
Summary of my perl5 (revision 5 version 8 subversion 9) configuration:
Platform:
osname=linux, osvers=4.14.35-1902.7.3.el7uek.x86_64, archname=x86_64-linux-thread-multi-ld
uname='linux instance-20191218-1736 4.14.35-1902.7.3.el7uek.x86_64 #2 smp thu oct 31 10:06:41 pdt 2019 x86_64 x86_64 x86_64 gnulinux '
config_args='-de -Dprefix=/home/opc/perl5/perlbrew/perls/perl-5.8.9-thread-multi-ld-64all -Dusedevel -Duse64bitall -Dusethreads -Duselongdouble -Dusemultiplicity -Accflags=-O2 -W -Wformat=2 -Wswitch -Wshadow -Wwrite-strings -Wuninitialized -Wall -pipe -fomit-frame-pointer -pedantic -D_FORTIFY_SOURCE=2 -Wpointer-arith -Wstrict-prototypes -fstack-protector -Wstack-protector -Wextra -Wbad-function-cast -Wcast-align -Wcast-qual -Wdisabled-optimization -Wendif-labels -Wfloat-equal -Wformat-nonliteral -Winline -Wmissing-declarations -Wmissing-prototypes -Wnested-externs -Wpointer-arith -Wundef -Wformat-security -ftree-vectorize -msse -mfpmath=sse -msse2 -mssse3 -msse4.1 -msse4.2 -maes -mtune=native -march=native -Aeval:scriptdir=/home/opc/perl5/perlbrew/perls/perl-5.8.9-thread-multi-ld-64all/bin'
hint=recommended, useposix=true, d_sigaction=define
usethreads=define use5005threads=undef useithreads=define usemultiplicity=define
useperlio=define d_sfio=undef uselargefiles=define usesocks=undef
use64bitint=define use64bitall=define uselongdouble=define
usemymalloc=n, bincompat5005=undef
Compiler:
cc='cc', ccflags ='-D_REENTRANT -D_GNU_SOURCE -O2 -W -Wformat=2 -Wswitch -Wshadow -Wwrite-strings -Wuninitialized -Wall -pipe -fomit-frame-pointer -pedantic -D_FORTIFY_SOURCE=2 -Wpointer-arith -Wstrict-prototypes -fstack-protector -Wstack-protector -Wextra -Wbad-function-cast -Wcast-align -Wcast-qual -Wdisabled-optimization -Wendif-labels -Wfloat-equal -Wformat-nonliteral -Winline -Wmissing-declarations -Wmissing-prototypes -Wnested-externs -Wpointer-arith -Wundef -Wformat-security -ftree-vectorize -msse -mfpmath=sse -msse2 -mssse3 -msse4.1 -msse4.2 -maes -mtune=native -march=native -fwrapv -fno-strict-aliasing -I/usr/local/include -D_LARGEFILE_SOURCE -D_FILE_OFFSET_BITS=64',
optimize='-O2',
cppflags='-D_REENTRANT -D_GNU_SOURCE -O2 -W -Wformat=2 -Wswitch -Wshadow -Wwrite-strings -Wuninitialized -Wall -pipe -fomit-frame-pointer -pedantic -D_FORTIFY_SOURCE=2 -Wpointer-arith -Wstrict-prototypes -fstack-protector -Wstack-protector -Wextra -Wbad-function-cast -Wcast-align -Wcast-qual -Wdisabled-optimization -Wendif-labels -Wfloat-equal -Wformat-nonliteral -Winline -Wmissing-declarations -Wmissing-prototypes -Wnested-externs -Wpointer-arith -Wundef -Wformat-security -ftree-vectorize -msse -mfpmath=sse -msse2 -mssse3 -msse4.1 -msse4.2 -maes -mtune=native -march=native -fwrapv -fno-strict-aliasing -I/usr/local/include'
ccversion='', gccversion='4.8.5 20150623 (Red Hat 4.8.5-39.0.3)', gccosandvers=''
intsize=4, longsize=8, ptrsize=8, doublesize=8, byteorder=12345678
d_longlong=define, longlongsize=8, d_longdbl=define, longdblsize=16
ivtype='long', ivsize=8, nvtype='long double', nvsize=16, Off_t='off_t', lseeksize=8
alignbytes=16, prototype=define
Linker and Libraries:
ld='cc', ldflags =' -L/usr/local/lib'
libpth=/usr/local/lib /lib/../lib64 /usr/lib/../lib64 /lib /usr/lib /lib64 /usr/lib64 /usr/local/lib64
libs=-lnsl -lgdbm -ldb -ldl -lm -lcrypt -lutil -lpthread -lc -lgdbm_compat
perllibs=-lnsl -ldl -lm -lcrypt -lutil -lpthread -lc -lgdbm_compat
libc=libc-2.17.so, so=so, useshrplib=false, libperl=libperl.a
gnulibc_version='2.17'
Dynamic Linking:
dlsrc=dl_dlopen.xs, dlext=so, d_dlsymun=undef, ccdlflags='-Wl,-E'
cccdlflags='-fPIC', lddlflags='-shared -O2 -L/usr/local/lib'
Characteristics of this binary (from libperl):
Compile-time options: MULTIPLICITY PERL_IMPLICIT_CONTEXT PERL_MALLOC_WRAP
USE_64_BIT_ALL USE_64_BIT_INT USE_FAST_STDIO
USE_ITHREADS USE_LARGE_FILES USE_LONG_DOUBLE
USE_PERLIO USE_REENTRANT_API
Locally applied patches:
Devel::PatchPerl 1.80
Built under linux
Compiled at Dec 22 2019 01:26:05
%ENV:
PERL5LIB=""
PERL5OPT=""
PERL5_CPANPLUS_IS_RUNNING="9741"
PERL5_CPAN_IS_RUNNING="9741"
PERLBREW_HOME="/home/opc/.perlbrew"
PERLBREW_LIB=""
PERLBREW_MANPATH="/home/opc/perl5/perlbrew/perls/perl-5.8.9-thread-multi-ld-64all/man"
PERLBREW_PATH="/home/opc/perl5/perlbrew/bin:/home/opc/perl5/perlbrew/perls/perl-5.8.9-thread-multi-ld-64all/bin"
PERLBREW_PERL="perl-5.8.9-thread-multi-ld-64all"
PERLBREW_ROOT="/home/opc/perl5/perlbrew"
PERLBREW_SHELLRC_VERSION="0.95"
PERLBREW_VERSION="0.95"
PERL_LOCAL_LIB_ROOT=""
PERL_MM_USE_DEFAULT="1"
PERL_USE_UNSAFE_INC="1"
@INC:
/home/opc/perl5/perlbrew/perls/perl-5.8.9-thread-multi-ld-64all/lib/5.8.9/x86_64-linux-thread-multi-ld
/home/opc/perl5/perlbrew/perls/perl-5.8.9-thread-multi-ld-64all/lib/5.8.9
/home/opc/perl5/perlbrew/perls/perl-5.8.9-thread-multi-ld-64all/lib/site_perl/5.8.9/x86_64-linux-thread-multi-ld
/home/opc/perl5/perlbrew/perls/perl-5.8.9-thread-multi-ld-64all/lib/site_perl/5.8.9
.