Report for POE-1.367

Back
From: metabase:user:314402c4-2aae-11df-837a-5e0a49663a4f
Subject: PASS POE-1.367 v5.20.2 GNU/Linux
Date: 2016-08-01T06:23:38Z

This distribution has been tested as part of the CPAN Testers
project, supporting the Perl programming language.  See
http://wiki.cpantesters.org/ for more information or email
questions to cpan-testers-discuss@perl.org


--
Dear Rocco Caputo,

This is a computer-generated report for POE-1.367
on perl 5.20.2, created by CPAN-Reporter-1.2011.

Thank you for uploading your work to CPAN.  Congratulations!
All tests were successful.

Sections of this report:

    * Tester comments
    * Program output
    * Prerequisites
    * Environment and other context

------------------------------
TESTER COMMENTS
------------------------------

Additional comments from tester:

none provided

------------------------------
PROGRAM OUTPUT
------------------------------

Output from '/usr/bin/make test':

/usr/bin/perl mylib/gen-tests.perl lib/POE.pm
PERL_DL_NONLAZY=1 PERL_USE_UNSAFE_INC=1 /usr/bin/perl "-MExtUtils::Command::MM" "-MTest::Harness" "-e" "undef *Test::Harness::Switches; test_harness(0, 'blib/lib', 'blib/arch')" t/*.t t/*/*.t t/*/*/*.t
# Testing POE 1.367, POE::Test::Loops 1.360, Perl 5.020002, /usr/bin/perl on linux
# pogomips: 48023642
t/00_info.t ........................................ ok
t/10_units/01_pod/01_pod.t ......................... skipped: enable by setting RELEASE_TESTING
t/10_units/01_pod/02_pod_coverage.t ................ skipped: enable by setting RELEASE_TESTING
t/10_units/01_pod/03_pod_no404s.t .................. skipped: enable by setting RELEASE_TESTING
t/10_units/01_pod/04_pod_linkcheck.t ............... skipped: enable by setting RELEASE_TESTING
t/10_units/02_pipes/01_base.t ...................... skipped: not implemented yet
t/10_units/02_pipes/02_oneway.t .................... ok
t/10_units/02_pipes/03_twoway.t .................... ok
t/10_units/03_base/01_poe.t ........................ ok
t/10_units/03_base/03_component.t .................. ok
t/10_units/03_base/04_driver.t ..................... ok
t/10_units/03_base/05_filter.t ..................... ok
t/10_units/03_base/06_loop.t ....................... ok
t/10_units/03_base/07_queue.t ...................... ok
t/10_units/03_base/08_resource.t ................... ok
t/10_units/03_base/09_resources.t .................. ok
t/10_units/03_base/10_wheel.t ...................... ok
t/10_units/03_base/11_assert_usage.t ............... ok
t/10_units/03_base/12_assert_retval.t .............. ok
t/10_units/03_base/13_assert_data.t ................ ok
t/10_units/03_base/14_kernel.t ..................... ok
t/10_units/03_base/15_kernel_internal.t ............ ok
t/10_units/03_base/16_nfa_usage.t .................. ok
t/10_units/03_base/17_detach_start.t ............... ok
t/10_units/04_drivers/01_sysrw.t ................... ok
t/10_units/05_filters/01_block.t ................... ok
t/10_units/05_filters/02_grep.t .................... ok
Downgrading wide characters in HTTP header. Consider installing Email::MIME::RFC2047::Encoder at /tmpfs/.cpan-build-cpansand/2016080106/POE-1.367-8ZCQWj/blib/lib/POE/Filter/HTTPD.pm line 73.
	POE::Filter::HTTPD::__ANON__("En \x{e9}t\x{e9}") called at /tmpfs/.cpan-build-cpansand/2016080106/POE-1.367-8ZCQWj/blib/lib/POE/Filter/HTTPD.pm line 449
	POE::Filter::HTTPD::headers_as_strings(POE::Filter::HTTPD=ARRAY(0x17d71a0), HTTP::Headers=HASH(0x17d69a8), "\x{d}\x{a}") called at /tmpfs/.cpan-build-cpansand/2016080106/POE-1.367-8ZCQWj/blib/lib/POE/Filter/HTTPD.pm line 411
	POE::Filter::HTTPD::put(POE::Filter::HTTPD=ARRAY(0x17d71a0), ARRAY(0x17d72f0)) called at t/10_units/05_filters/03_http.t line 426
t/10_units/05_filters/03_http.t .................... ok
t/10_units/05_filters/04_line.t .................... ok
t/10_units/05_filters/05_map.t ..................... ok
t/10_units/05_filters/06_recordblock.t ............. ok
t/10_units/05_filters/07_reference.t ............... ok
t/10_units/05_filters/08_stream.t .................. ok
t/10_units/05_filters/50_stackable.t ............... ok
t/10_units/05_filters/51_reference_die.t ........... ok
t/10_units/05_filters/99_filterchange.t ............ ok
t/10_units/06_queues/01_array.t .................... ok
t/10_units/07_exceptions/01_normal.t ............... ok
t/10_units/07_exceptions/02_turn_off.t ............. ok
t/10_units/07_exceptions/03_not_handled.t .......... ok
t/10_units/08_loops/01_explicit_loop.t ............. ok
t/10_units/08_loops/02_explicit_loop_fail.t ........ ok
t/10_units/08_loops/03_explicit_loop_poll.t ........ ok
t/10_units/08_loops/04_explicit_loop_envvar.t ...... ok
t/10_units/08_loops/05_kernel_loop.t ............... ok
t/10_units/08_loops/06_kernel_loop_poll.t .......... ok
t/10_units/08_loops/07_kernel_loop_fail.t .......... ok
t/10_units/08_loops/08_kernel_loop_search_poll.t ... ok
t/10_units/08_loops/09_naive_loop_load.t ........... ok
t/10_units/08_loops/10_naive_loop_load_poll.t ...... ok
t/10_units/08_loops/11_double_loop.t ............... ok
t/20_resources/10_perl/aliases.t ................... ok
t/20_resources/10_perl/caller_state.t .............. ok
t/20_resources/10_perl/events.t .................... ok
t/20_resources/10_perl/extrefs.t ................... ok
t/20_resources/10_perl/extrefs_gc.t ................ ok
t/20_resources/10_perl/filehandles.t ............... ok
t/20_resources/10_perl/sessions.t .................. ok
t/20_resources/10_perl/sids.t ...................... ok
t/20_resources/10_perl/signals.t ................... ok
# Testing POE 1.367, POE::Test::Loops 1.360, Using Loop(POE::Loop::IO_Poll), Perl 5.020002, /usr/bin/perl on linux
t/30_loops/io_poll/00_info.t ....................... ok
t/30_loops/io_poll/all_errors.t .................... skipped: most of these should move into other test files
t/30_loops/io_poll/comp_tcp.t ...................... ok
# You might see a 'disconnect' error during this test.
# It may be ignored.
t/30_loops/io_poll/comp_tcp_concurrent.t ........... ok
t/30_loops/io_poll/connect_errors.t ................ ok
t/30_loops/io_poll/k_alarms.t ...................... ok
t/30_loops/io_poll/k_aliases.t ..................... ok
t/30_loops/io_poll/k_detach.t ...................... ok
t/30_loops/io_poll/k_run_returns.t ................. ok
t/30_loops/io_poll/k_selects.t ..................... ok
t/30_loops/io_poll/k_sig_child.t ................... ok
t/30_loops/io_poll/k_signals.t ..................... ok
t/30_loops/io_poll/k_signals_rerun.t ............... ok
t/30_loops/io_poll/sbk_signal_init.t ............... ok
t/30_loops/io_poll/ses_nfa.t ....................... ok
# This test generates some STDERR during trace testing.
=== 24928 === 23 -> _start (from /tmpfs/.cpan-build-cpansand/2016080106/POE-1.367-8ZCQWj/blib/lib/POE/Kernel.pm at 1497)
=== 24928 === 23 -> woot (from /home/cpansand/.cpan/build/2016080106/POE-Test-Loops-1.360-kVlabP/blib/lib/POE/Test/Loops/ses_session.pm at 691)
=== 24928 === 23 -> narf (from /home/cpansand/.cpan/build/2016080106/POE-Test-Loops-1.360-kVlabP/blib/lib/POE/Test/Loops/ses_session.pm at 692)
=== 24928 === 23 -> _stop (from /tmpfs/.cpan-build-cpansand/2016080106/POE-1.367-8ZCQWj/blib/lib/POE/Resource/Sessions.pm at 571)
t/30_loops/io_poll/ses_session.t ................... ok
t/30_loops/io_poll/wheel_accept.t .................. ok
t/30_loops/io_poll/wheel_curses.t .................. skipped: Curses not available
t/30_loops/io_poll/wheel_readline.t ................ ok
t/30_loops/io_poll/wheel_readwrite.t ............... ok
t/30_loops/io_poll/wheel_run.t ..................... ok
t/30_loops/io_poll/wheel_run_size.t ................ skipped: This test requires Term::Size
t/30_loops/io_poll/wheel_sf_ipv6.t ................. skipped: Socket::GetAddrInfo is needed for IPv6 tests
t/30_loops/io_poll/wheel_sf_tcp.t .................. ok
t/30_loops/io_poll/wheel_sf_udp.t .................. ok
t/30_loops/io_poll/wheel_sf_unix.t ................. ok
t/30_loops/io_poll/wheel_tail.t .................... ok
t/30_loops/io_poll/z_kogman_sig_order.t ............ ok
t/30_loops/io_poll/z_leolo_wheel_run.t ............. ok
# Using '/bin/true' as our thing to run under system()
t/30_loops/io_poll/z_merijn_sigchld_system.t ....... ok
t/30_loops/io_poll/z_rt39872_sigchld.t ............. ok
# Parent 24971 waiting 3sec for slow systems to settle.
# sending sigusr1
# sent sigusr1
t/30_loops/io_poll/z_rt39872_sigchld_stop.t ........ ok
t/30_loops/io_poll/z_rt53302_fh_watchers.t ......... ok
t/30_loops/io_poll/z_rt54319_bazerka_followtail.t .. ok
t/30_loops/io_poll/z_steinert_signal_integrity.t ... ok
# Testing POE 1.367, POE::Test::Loops 1.360, Using Loop(POE::Loop::Select), Perl 5.020002, /usr/bin/perl on linux
t/30_loops/select/00_info.t ........................ ok
t/30_loops/select/all_errors.t ..................... skipped: most of these should move into other test files
t/30_loops/select/comp_tcp.t ....................... ok
# You might see a 'disconnect' error during this test.
# It may be ignored.
t/30_loops/select/comp_tcp_concurrent.t ............ ok
t/30_loops/select/connect_errors.t ................. ok
t/30_loops/select/k_alarms.t ....................... ok
t/30_loops/select/k_aliases.t ...................... ok
t/30_loops/select/k_detach.t ....................... ok
t/30_loops/select/k_run_returns.t .................. ok
t/30_loops/select/k_selects.t ...................... ok
t/30_loops/select/k_sig_child.t .................... ok
t/30_loops/select/k_signals.t ...................... ok
t/30_loops/select/k_signals_rerun.t ................ ok
t/30_loops/select/sbk_signal_init.t ................ ok
t/30_loops/select/ses_nfa.t ........................ ok
# This test generates some STDERR during trace testing.
=== 25017 === 23 -> _start (from /tmpfs/.cpan-build-cpansand/2016080106/POE-1.367-8ZCQWj/blib/lib/POE/Kernel.pm at 1497)
=== 25017 === 23 -> woot (from /home/cpansand/.cpan/build/2016080106/POE-Test-Loops-1.360-kVlabP/blib/lib/POE/Test/Loops/ses_session.pm at 691)
=== 25017 === 23 -> narf (from /home/cpansand/.cpan/build/2016080106/POE-Test-Loops-1.360-kVlabP/blib/lib/POE/Test/Loops/ses_session.pm at 692)
=== 25017 === 23 -> _stop (from /tmpfs/.cpan-build-cpansand/2016080106/POE-1.367-8ZCQWj/blib/lib/POE/Resource/Sessions.pm at 571)
t/30_loops/select/ses_session.t .................... ok
t/30_loops/select/wheel_accept.t ................... ok
t/30_loops/select/wheel_curses.t ................... skipped: Curses not available
t/30_loops/select/wheel_readline.t ................. ok
t/30_loops/select/wheel_readwrite.t ................ ok
t/30_loops/select/wheel_run.t ...................... ok
t/30_loops/select/wheel_run_size.t ................. skipped: This test requires Term::Size
t/30_loops/select/wheel_sf_ipv6.t .................. skipped: Socket::GetAddrInfo is needed for IPv6 tests
t/30_loops/select/wheel_sf_tcp.t ................... ok
t/30_loops/select/wheel_sf_udp.t ................... ok
t/30_loops/select/wheel_sf_unix.t .................. ok
t/30_loops/select/wheel_tail.t ..................... ok
t/30_loops/select/z_kogman_sig_order.t ............. ok
t/30_loops/select/z_leolo_wheel_run.t .............. ok
# Using '/bin/true' as our thing to run under system()
t/30_loops/select/z_merijn_sigchld_system.t ........ ok
t/30_loops/select/z_rt39872_sigchld.t .............. ok
# Parent 25060 waiting 3sec for slow systems to settle.
# sending sigusr1
# sent sigusr1
t/30_loops/select/z_rt39872_sigchld_stop.t ......... ok
t/30_loops/select/z_rt53302_fh_watchers.t .......... ok
t/30_loops/select/z_rt54319_bazerka_followtail.t ... ok
t/30_loops/select/z_steinert_signal_integrity.t .... ok
t/90_regression/agaran-filter-httpd.t .............. ok
t/90_regression/averell-callback-ret.t ............. ok
t/90_regression/bingos-followtail.t ................ ok
t/90_regression/broeren-win32-nbio.t ............... skipped: This test examines ActiveState Perl behavior.
t/90_regression/cfedde-filter-httpd.t .............. ok
t/90_regression/ferrari-server-unix.t .............. ok
t/90_regression/grinnz-die-in-die.t ................ ok
Died at t/90_regression/hinrik-wheel-run-die.t line 21.
t/90_regression/hinrik-wheel-run-die.t ............. ok
# This test can take up to 10 seconds
t/90_regression/kjeldahl-stop-start-polling.t ...... ok
# This test can take up to 10 seconds
t/90_regression/kjeldahl-stop-start-sig-nopipe.t ... ok
# This test can take up to 10 seconds
t/90_regression/kjeldahl-stop-start-sig-pipe.t ..... ok
t/90_regression/leolo-sig-die.t .................... ok
t/90_regression/meh-startstop-return.t ............. ok
t/90_regression/neyuki_detach.t .................... ok
t/90_regression/pipe-followtail.t .................. ok
t/90_regression/prumike-win32-stat.t ............... skipped: This test examines Strawberry/ActiveState Perl behavior.
t/90_regression/rt14444-arg1.t ..................... ok
t/90_regression/rt1648-tied-stderr.t ............... ok
t/90_regression/rt19908-merlyn-stop.t .............. ok
t/90_regression/rt23181-sigchld-rc.t ............... ok
t/90_regression/rt47966-sigchld.t .................. skipped: enable by setting RELEASE_TESTING
t/90_regression/rt56417-wheel-run.t ................ ok
t/90_regression/rt65460-forking.t .................. skipped: enable by setting (AUTOMATED|RELEASE)_TESTING
t/90_regression/socketfactory-timeout.t ............ ok
t/90_regression/somni-poco-server-tcp.t ............ ok
t/90_regression/steinert-passed-wheel.t ............ ok
t/90_regression/suzman_windows.t ................... ok
t/90_regression/ton-stop-corruption.t .............. ok
t/90_regression/tracing-sane-exit.t ................ ok
t/90_regression/whelan-dieprop.t ................... ok
t/90_regression/whjackson-followtail.t ............. ok
All tests successful.

Test Summary Report
-------------------
t/10_units/05_filters/03_http.t                  (Wstat: 0 Tests: 137 Failed: 0)
  TODO passed:   85
Files=161, Tests=4221, 76 wallclock secs ( 0.55 usr  0.64 sys + 12.42 cusr  3.07 csys = 16.68 CPU)
Result: PASS

------------------------------
PREREQUISITES
------------------------------

Prerequisite modules loaded:

requires:

    Module           Need  Have   
    ---------------- ----- -------
    Carp             0     1.3301 
    Errno            1.09  1.20_05
    Exporter         0     5.71   
    File::Spec       0.87  3.48_01
    IO               1.24  1.31   
    IO::Handle       1.27  1.35   
    IO::Pipely       0.005 0.005  
    IO::Tty          1.08  1.08   
    POE::Test::Loops 1.360 1.360  
    POSIX            1.02  1.38_03
    Socket           1.7   2.013  
    Storable         2.16  2.49_01
    Test::Harness    2.26  3.30   
    Time::HiRes      1.59  1.9726 

build_requires:

    Module           Need  Have   
    ---------------- ----- -------
    POE::Test::Loops 1.360 1.360  

configure_requires:

    Module           Need  Have   
    ---------------- ----- -------
    POE::Test::Loops 1.360 1.360  


------------------------------
ENVIRONMENT AND OTHER CONTEXT
------------------------------

Environment variables:

    LANG = C
    PATH = /usr/local/bin:/usr/bin:/bin:/usr/local/sbin:/usr/sbin:/sbin:/home/cpansand/bin/linux-gnu:/home/cpansand/bin/sh:/home/cpansand/bin:/usr/games:/home/cpansand/devel:/home/eserte/src/srezic-misc/scripts
    PERL5LIB = /home/cpansand/.cpan/build/2016080106/IO-Pipely-0.005-609Yb0/blib/arch:/home/cpansand/.cpan/build/2016080106/IO-Pipely-0.005-609Yb0/blib/lib:/home/cpansand/.cpan/build/2016080106/POE-Test-Loops-1.360-kVlabP/blib/arch:/home/cpansand/.cpan/build/2016080106/POE-Test-Loops-1.360-kVlabP/blib/lib:/home/cpansand/.cpan/build/2016080106/Test-NoWarnings-1.04-gYOSBw/blib/arch:/home/cpansand/.cpan/build/2016080106/Test-NoWarnings-1.04-gYOSBw/blib/lib:/home/cpansand/.cpan/build/2016080106/Test-Simple-1.302049-gelMCv/blib/arch:/home/cpansand/.cpan/build/2016080106/Test-Simple-1.302049-gelMCv/blib/lib
    PERL5OPT = 
    PERL5_CPANPLUS_IS_RUNNING = 23055
    PERL5_CPAN_IS_RUNNING = 23055
    PERL5_CPAN_IS_RUNNING_IN_RECURSION = 23039,23055
    PERLDOC = -MPod::Perldoc::ToTextOverstrike
    PERL_BATCH = yes
    PERL_CANARY_STABILITY_NOPROMPT = 1
    PERL_CPAN_REPORTER_CONFIG = /run/user/1023/cpansmoker/2016080106/cpanreporter_000_config.ini
    PERL_EXTUTILS_AUTOINSTALL = --defaultdeps
    PERL_USE_UNSAFE_INC = 1
    SHELL = /bin/zsh
    TERM = screen
    TMPDIR = /run/user/1023/cpansmoker/2016080106

Perl special variables (and OS-specific diagnostics, for MSWin32):

    $^X = /usr/bin/perl
    $UID/$EUID = 1023 / 1023
    $GID = 1023 1023
    $EGID = 1023 1023

Perl module toolchain versions installed:

    Module              Have    
    ------------------- --------
    CPAN                2.05    
    CPAN::Meta          2.142690
    Cwd                 3.48_01 
    ExtUtils::CBuilder  0.280217
    ExtUtils::Command   1.18    
    ExtUtils::Install   1.67    
    ExtUtils::MakeMaker 6.98    
    ExtUtils::Manifest  1.63    
    ExtUtils::ParseXS   3.24    
    File::Spec          3.48_01 
    JSON                2.61    
    JSON::PP            2.27203 
    Module::Build       0.4210  
    Module::Signature   0.73    
    Parse::CPAN::Meta   1.4414  
    Test::Harness       3.30    
    Test::More          1.302049
    YAML                1.13    
    YAML::Syck          1.27    
    version             0.9909  


--

Summary of my perl5 (revision 5 version 20 subversion 2) configuration:
   
  Platform:
    osname=linux, osvers=3.16.0-4-amd64, archname=x86_64-linux-gnu-thread-multi
    uname='linux himalia 3.16.0-4-amd64 #1 smp debian 3.16.7-ckt25-2+deb8u3 (2016-07-02) x86_64 gnulinux '
    config_args='-Dusethreads -Duselargefiles -Dccflags=-DDEBIAN -D_FORTIFY_SOURCE=2 -g -O2 -fstack-protector-strong -Wformat -Werror=format-security -Dldflags= -Wl,-z,relro -Dlddlflags=-shared -Wl,-z,relro -Dcccdlflags=-fPIC -Darchname=x86_64-linux-gnu -Dprefix=/usr -Dprivlib=/usr/share/perl/5.20 -Darchlib=/usr/lib/x86_64-linux-gnu/perl/5.20 -Dvendorprefix=/usr -Dvendorlib=/usr/share/perl5 -Dvendorarch=/usr/lib/x86_64-linux-gnu/perl5/5.20 -Dsiteprefix=/usr/local -Dsitelib=/usr/local/share/perl/5.20.2 -Dsitearch=/usr/local/lib/x86_64-linux-gnu/perl/5.20.2 -Dman1dir=/usr/share/man/man1 -Dman3dir=/usr/share/man/man3 -Dsiteman1dir=/usr/local/man/man1 -Dsiteman3dir=/usr/local/man/man3 -Dusesitecustomize -Duse64bitint -Dman1ext=1 -Dman3ext=3perl -Dpager=/usr/bin/sensible-pager -Uafs -Ud_csh -Ud_ualarm -Uusesfio -Uusenm -Ui_libutil -Uversiononly -DDEBUGGING=-g -Doptimize=-O2 -Duseshrplib -Dlibperl=libperl.so.5.20.2 -des'
    hint=recommended, useposix=true, d_sigaction=define
    useithreads=define, usemultiplicity=define
    use64bitint=define, use64bitall=define, uselongdouble=undef
    usemymalloc=n, bincompat5005=undef
  Compiler:
    cc='cc', ccflags ='-D_REENTRANT -D_GNU_SOURCE -DDEBIAN -fwrapv -fno-strict-aliasing -pipe -I/usr/local/include -D_LARGEFILE_SOURCE -D_FILE_OFFSET_BITS=64',
    optimize='-O2 -g',
    cppflags='-D_REENTRANT -D_GNU_SOURCE -DDEBIAN -fwrapv -fno-strict-aliasing -pipe -I/usr/local/include'
    ccversion='', gccversion='4.9.2', gccosandvers=''
    intsize=4, longsize=8, ptrsize=8, doublesize=8, byteorder=12345678
    d_longlong=define, longlongsize=8, d_longdbl=define, longdblsize=16
    ivtype='long', ivsize=8, nvtype='double', nvsize=8, Off_t='off_t', lseeksize=8
    alignbytes=8, prototype=define
  Linker and Libraries:
    ld='cc', ldflags =' -fstack-protector -L/usr/local/lib'
    libpth=/usr/local/lib /usr/lib/gcc/x86_64-linux-gnu/4.9/include-fixed /usr/include/x86_64-linux-gnu /usr/lib /lib/x86_64-linux-gnu /lib/../lib /usr/lib/x86_64-linux-gnu /usr/lib/../lib /lib
    libs=-lgdbm -lgdbm_compat -ldb -ldl -lm -lpthread -lc -lcrypt
    perllibs=-ldl -lm -lpthread -lc -lcrypt
    libc=libc-2.19.so, so=so, useshrplib=true, libperl=libperl.so.5.20
    gnulibc_version='2.19'
  Dynamic Linking:
    dlsrc=dl_dlopen.xs, dlext=so, d_dlsymun=undef, ccdlflags='-Wl,-E'
    cccdlflags='-fPIC', lddlflags='-shared -L/usr/local/lib -fstack-protector'


Characteristics of this binary (from libperl): 
  Compile-time options: HAS_TIMES MULTIPLICITY PERLIO_LAYERS
                        PERL_DONT_CREATE_GVSV
                        PERL_HASH_FUNC_ONE_AT_A_TIME_HARD
                        PERL_IMPLICIT_CONTEXT PERL_MALLOC_WRAP
                        PERL_NEW_COPY_ON_WRITE PERL_PRESERVE_IVUV
                        USE_64_BIT_ALL USE_64_BIT_INT USE_ITHREADS
                        USE_LARGE_FILES USE_LOCALE USE_LOCALE_COLLATE
                        USE_LOCALE_CTYPE USE_LOCALE_NUMERIC USE_PERLIO
                        USE_PERL_ATOF USE_REENTRANT_API USE_SITECUSTOMIZE
  Locally applied patches:
	DEBPKG:debian/cpan_definstalldirs - Provide a sensible INSTALLDIRS default for modules installed from CPAN.
	DEBPKG:debian/db_file_ver - http://bugs.debian.org/340047 Remove overly restrictive DB_File version check.
	DEBPKG:debian/doc_info - Replace generic man(1) instructions with Debian-specific information.
	DEBPKG:debian/enc2xs_inc - http://bugs.debian.org/290336 Tweak enc2xs to follow symlinks and ignore missing @INC directories.
	DEBPKG:debian/errno_ver - http://bugs.debian.org/343351 Remove Errno version check due to upgrade problems with long-running processes.
	DEBPKG:debian/libperl_embed_doc - http://bugs.debian.org/186778 Note that libperl-dev package is required for embedded linking
	DEBPKG:fixes/respect_umask - Respect umask during installation
	DEBPKG:debian/writable_site_dirs - Set umask approproately for site install directories
	DEBPKG:debian/extutils_set_libperl_path - EU:MM: set location of libperl.a under /usr/lib
	DEBPKG:debian/no_packlist_perllocal - Don't install .packlist or perllocal.pod for perl or vendor
	DEBPKG:debian/prefix_changes - Fiddle with *PREFIX and variables written to the makefile
	DEBPKG:debian/fakeroot - Postpone LD_LIBRARY_PATH evaluation to the binary targets.
	DEBPKG:debian/instmodsh_doc - Debian policy doesn't install .packlist files for core or vendor.
	DEBPKG:debian/ld_run_path - Remove standard libs from LD_RUN_PATH as per Debian policy.
	DEBPKG:debian/libnet_config_path - Set location of libnet.cfg to /etc/perl/Net as /usr may not be writable.
	DEBPKG:debian/mod_paths - Tweak @INC ordering for Debian
	DEBPKG:debian/module_build_man_extensions - http://bugs.debian.org/479460 Adjust Module::Build manual page extensions for the Debian Perl policy
	DEBPKG:debian/prune_libs - http://bugs.debian.org/128355 Prune the list of libraries wanted to what we actually need.
	DEBPKG:fixes/net_smtp_docs - [rt.cpan.org #36038] http://bugs.debian.org/100195 Document the Net::SMTP 'Port' option
	DEBPKG:debian/perlivp - http://bugs.debian.org/510895 Make perlivp skip include directories in /usr/local
	DEBPKG:debian/deprecate-with-apt - http://bugs.debian.org/747628 Point users to Debian packages of deprecated core modules
	DEBPKG:debian/squelch-locale-warnings - http://bugs.debian.org/508764 Squelch locale warnings in Debian package maintainer scripts
	DEBPKG:debian/skip-upstream-git-tests - Skip tests specific to the upstream Git repository
	DEBPKG:debian/patchlevel - http://bugs.debian.org/567489 List packaged patches for 5.20.2-3+deb8u6 in patchlevel.h
	DEBPKG:debian/skip-kfreebsd-crash - http://bugs.debian.org/628493 [perl #96272] Skip a crashing test case in t/op/threads.t on GNU/kFreeBSD
	DEBPKG:fixes/document_makemaker_ccflags - http://bugs.debian.org/628522 [rt.cpan.org #68613] Document that CCFLAGS should include $Config{ccflags}
	DEBPKG:debian/find_html2text - http://bugs.debian.org/640479 Configure CPAN::Distribution with correct name of html2text
	DEBPKG:debian/perl5db-x-terminal-emulator.patch - http://bugs.debian.org/668490 Invoke x-terminal-emulator rather than xterm in perl5db.pl
	DEBPKG:debian/cpan-missing-site-dirs - http://bugs.debian.org/688842 Fix CPAN::FirstTime defaults with nonexisting site dirs if a parent is writable
	DEBPKG:fixes/memoize_storable_nstore - [rt.cpan.org #77790] http://bugs.debian.org/587650 Memoize::Storable: respect 'nstore' option not respected
	DEBPKG:debian/regen-skip - Skip a regeneration check in unrelated git repositories
	DEBPKG:fixes/regcomp-mips-optim - [perl #122817] http://bugs.debian.org/754054 Downgrade the optimization of regcomp.c on mips and mipsel due to a gcc-4.9 bug
	DEBPKG:debian/makemaker-pasthru - http://bugs.debian.org/758471 Pass LD settings through to subdirectories
	DEBPKG:fixes/perldoc-less-R - [rt.cpan.org #98636] http://bugs.debian.org/758689 Tell the 'less' pager to allow terminal escape sequences
	DEBPKG:fixes/pod_man_reproducible_date - http://bugs.debian.org/759405 Support POD_MAN_DATE in Pod::Man for the left-hand footer
	DEBPKG:fixes/io_uncompress_gunzip_inmemory - http://bugs.debian.org/747363 [rt.cpan.org #95494] Fix gunzip to in-memory file handle
	DEBPKG:fixes/socket_test_recv_fix - http://bugs.debian.org/758718 [perl #122657] Compare recv return value to peername in socket test
	DEBPKG:fixes/hurd_socket_recv_todo - http://bugs.debian.org/758718 [perl #122657] TODO checking the result of recv() on hurd
	DEBPKG:fixes/regexp-performance - [0fa70a0] http://bugs.debian.org/777556 [perl #123743] simpify and speed up /.*.../ handling
	DEBPKG:fixes/failed_require_diagnostics - http://bugs.debian.org/781120 [perl #123270] Report inaccesible file on failed require
	DEBPKG:fixes/array-cloning - http://bugs.debian.org/779357 [perl #124127] [902d169] fix cloning arrays with unused elements
	DEBPKG:fixes/perldb-threads - http://bugs.debian.org/779357 [perl #124127] [41ef2c6] lib/perl5db.pl: Restore noop lock prototype
	DEBPKG:fixes/CVE-2015-8607_file_spec_taint_fix - ensure File::Spec::canonpath() preserves taint
	DEBPKG:fixes/encode-unicode-bom - http://bugs.debian.org/798727 [rt.cpan.org #107043] Address https://rt.cpan.org/Public/Bug/Display.html?id=107043
	DEBPKG:debian/encode-unicode-bom-doc - http://bugs.debian.org/798727 Document Debian backport of Encode::Unicode fix
	DEBPKG:debian/kfreebsd-softupdates - http://bugs.debian.org/796798 Work around Debian Bug#796798
	DEBPKG:fixes/CVE-2016-2381_duplicate_env - remove duplicate environment variables from environ
	DEBPKG:debian/debugperl-compat-fix - [perl #127212] http://bugs.debian.org/810326 Disable PERL_TRACK_MEMPOOL for debugging builds
	DEBPKG:fixes/CVE-2015-8853_regexp_hang - http://bugs.debian.org/821848 [perl #123562] PATCH [perl #123562] Regexp-matching "hangs"
	DEBPKG:fixes/utf8_regexp_crash - http://bugs.debian.org/820328 [perl #124109] save_re_context(): do "local $n" with no PL_curpm
	DEBPKG:fixes/regcomp_whitespace_fix - http://bugs.debian.org/820328 [perl #124109] Perl_save_re_context(): re-indent after last commit
	DEBPKG:fixes/5.20.3/eval_label_crash - http://bugs.debian.org/822336 [perl #123652] eval {label:} crash
	DEBPKG:fixes/5.20.3/preserve_record_separator - http://bugs.debian.org/822336 [perl #123218] "preserve" $/ if set to a bad value
	DEBPKG:fixes/5.20.3/test_count_base_rs - http://bugs.debian.org/822336 Fix test count in t/base/rs.t
	DEBPKG:fixes/5.20.3/remove_get_magic - http://bugs.debian.org/822336 [perl #123739] Remove get-magic from $/
	DEBPKG:fixes/5.20.3/speed_up_scalar_g - http://bugs.debian.org/822336 [perl #123202] speed up scalar //g against tainted strings
	DEBPKG:fixes/5.20.3/accidental_all_features - http://bugs.debian.org/822336 Stop $^H |= 0x1c020000 from enabling all features
	DEBPKG:fixes/5.20.3/multidimensional_arrays_utf8 - http://bugs.debian.org/822336 [perl #124113] Make check for multi-dimensional arrays be UTF8-aware
	DEBPKG:fixes/5.20.3/unquoted_utf8_heredoc_terminators - http://bugs.debian.org/822336 Allow unquoted UTF-8 HERE-document terminators
	DEBPKG:fixes/5.20.3/parentheses_ambiguous_warning_utf8_functions - http://bugs.debian.org/822336 Fix "...without parentheses is ambuguous" warning for UTF-8 function names
	DEBPKG:fixes/5.20.3/leak_namepv_copy - http://bugs.debian.org/822336 [perl #123786] don't leak the temp utf8 copy of namepv
	DEBPKG:fixes/5.20.3/h2ph_hex_constants - http://bugs.debian.org/822336 h2ph: correct handling of hex constants for the preamble
	DEBPKG:fixes/5.20.3/leftbracket_XTERMORDORDOR - http://bugs.debian.org/822336 [perl #123711] Fix crash with 0-5x-l{0}
	DEBPKG:fixes/5.20.3/fatalize_warnings_unwinding - http://bugs.debian.org/822336 [perl #123398] don't fatalize warnings during unwinding (#123398)
	DEBPKG:fixes/5.20.3/setpgrp - http://bugs.debian.org/822336 =?UTF-8?q?Don=E2=80=99t=20treat=20setpgrp($nonzero)=20as=20setpgr?= =?UTF-8?q?p(1)?=
	DEBPKG:fixes/5.20.3/death_unwinding_crash - http://bugs.debian.org/822336 [perl #124156] RT #124156: death during unwinding causes crash
	DEBPKG:fixes/5.20.3/stashpvn_crash - http://bugs.debian.org/822336 [perl #125541] Fix crash with %::=(); J->${\"::"}
	DEBPKG:fixes/5.20.3/possessive_quantifier - http://bugs.debian.org/822336 [perl #125825] PATCH: [perl 125825] {n}+ possessive quantifier broken
	DEBPKG:fixes/5.20.3/quoted_code_crash - http://bugs.debian.org/822336 [perl #123712] Fix /$a[/ parsing
	DEBPKG:fixes/5.20.3/checking_sub_inwhat - http://bugs.debian.org/822336 [perl #123712] Don't check sub_inwhat
	DEBPKG:fixes/5.20.3/yylex_loop - http://bugs.debian.org/822336 Fix hang with "@{"
	DEBPKG:fixes/5.20.3/docs/op - http://bugs.debian.org/822336 Fix apidocs for OP_TYPE_IS(_OR_WAS) - arguments separated by |, not ,.
	DEBPKG:fixes/5.20.3/docs/encoding - http://bugs.debian.org/822336 perlpodspec: Corrections/adds to detecting =encoding
	DEBPKG:fixes/5.20.3/docs/SvPV_set - http://bugs.debian.org/822336 improve SvPV_set's docs, it really shouldn't be public API
	DEBPKG:fixes/5.20.3/docs/autodie - http://bugs.debian.org/822336 Fix warning message regarding "use autodie" and "use open".
	DEBPKG:fixes/5.20.3/docs/autodie_2_26 - http://bugs.debian.org/822336 perlunicook: Note that autodie >= 2.26 should be okay with "use open".
	DEBPKG:fixes/5.20.3/docs/setenv - http://bugs.debian.org/822336 Fix setenv() replacement documentation in perlclib
	DEBPKG:fixes/5.20.3/docs/clib_caution - http://bugs.debian.org/822336 perlhacktips: Add caution about clib ptr returns to static memory
	DEBPKG:fixes/5.20.3/docs/perlunicook_typos - http://bugs.debian.org/822336 Fix minor code typos in perlunicook
	DEBPKG:fixes/5.20.3/docs/ook_example - http://bugs.debian.org/822336 [perl #122322] Update OOK example in perlguts
	DEBPKG:fixes/5.20.3/docs/study_noop - http://bugs.debian.org/822336 perlfunc: mention that study() is currently a noop
	DEBPKG:fixes/CVE-2016-1238/remove-dot-when-loading - [perl #127834] (perl #127834) remove . from the end of @INC if complex modules are loaded
	DEBPKG:fixes/CVE-2016-1238/remove-dot-in-padwalker - [perl #127834] perl5db.pl: ensure PadWalker is loaded from standard paths
	DEBPKG:fixes/CVE-2016-1238/remove-dot-in-dist - [perl #127834] dist/: remove . from @INC when loading optional modules
	DEBPKG:fixes/CVE-2016-1238/remove-dot-in-cpan - [perl #127834] cpan/: remove . from @INC when loading optional modules
	DEBPKG:fixes/CVE-2016-1238/customized-encode - Update customized.dat for cpan/Encode/Encode.pm
	DEBPKG:debian/CVE-2016-1238/test-suite-without-dot - [perl #127810] Patch unit tests to explicitly insert "." into @INC when needed.
	DEBPKG:debian/CVE-2016-1238/eumm-without-dot - [perl #127810] Add PERL_USE_UNSAFE_INC support to EU::MM for fortify_inc support.
	DEBPKG:debian/CVE-2016-1238/cpan-without-dot - [perl #127810] Set PERL_USE_UNSAFE_INC for cpan usage
	DEBPKG:debian/CVE-2016-1238/mb-without-dot - Make Module::Build set PERL_USE_UNSAFE_INC
	DEBPKG:debian/CVE-2016-1238/sitecustomize-in-etc - Look for sitecustomize.pl in /etc/perl rather than sitelib on Debian systems
	DEBPKG:fixes/xsloader-eval - [rt.cpan.org #115808] http://bugs.debian.org/829578 =?UTF-8?q?Don=E2=80=99t=20let=20XSLoader=20load=20relative=20path?= =?UTF-8?q?s?=
  Built under linux
  Compiled at Jul 22 2016 15:48:26
  %ENV:
    PERL5LIB="/home/cpansand/.cpan/build/2016080106/IO-Pipely-0.005-609Yb0/blib/arch:/home/cpansand/.cpan/build/2016080106/IO-Pipely-0.005-609Yb0/blib/lib:/home/cpansand/.cpan/build/2016080106/POE-Test-Loops-1.360-kVlabP/blib/arch:/home/cpansand/.cpan/build/2016080106/POE-Test-Loops-1.360-kVlabP/blib/lib:/home/cpansand/.cpan/build/2016080106/Test-NoWarnings-1.04-gYOSBw/blib/arch:/home/cpansand/.cpan/build/2016080106/Test-NoWarnings-1.04-gYOSBw/blib/lib:/home/cpansand/.cpan/build/2016080106/Test-Simple-1.302049-gelMCv/blib/arch:/home/cpansand/.cpan/build/2016080106/Test-Simple-1.302049-gelMCv/blib/lib"
    PERL5OPT=""
    PERL5_CPANPLUS_IS_RUNNING="23055"
    PERL5_CPAN_IS_RUNNING="23055"
    PERL5_CPAN_IS_RUNNING_IN_RECURSION="23039,23055"
    PERLDOC="-MPod::Perldoc::ToTextOverstrike"
    PERL_BATCH="yes"
    PERL_CANARY_STABILITY_NOPROMPT="1"
    PERL_CPAN_REPORTER_CONFIG="/run/user/1023/cpansmoker/2016080106/cpanreporter_000_config.ini"
    PERL_EXTUTILS_AUTOINSTALL="--defaultdeps"
    PERL_USE_UNSAFE_INC="1"
  @INC:
    /home/cpansand/.cpan/build/2016080106/IO-Pipely-0.005-609Yb0/blib/arch
    /home/cpansand/.cpan/build/2016080106/IO-Pipely-0.005-609Yb0/blib/lib
    /home/cpansand/.cpan/build/2016080106/POE-Test-Loops-1.360-kVlabP/blib/arch
    /home/cpansand/.cpan/build/2016080106/POE-Test-Loops-1.360-kVlabP/blib/lib
    /home/cpansand/.cpan/build/2016080106/Test-NoWarnings-1.04-gYOSBw/blib/arch
    /home/cpansand/.cpan/build/2016080106/Test-NoWarnings-1.04-gYOSBw/blib/lib
    /home/cpansand/.cpan/build/2016080106/Test-Simple-1.302049-gelMCv/blib/arch
    /home/cpansand/.cpan/build/2016080106/Test-Simple-1.302049-gelMCv/blib/lib
    /etc/perl
    /usr/local/lib/x86_64-linux-gnu/perl/5.20.2
    /usr/local/share/perl/5.20.2
    /usr/lib/x86_64-linux-gnu/perl5/5.20
    /usr/share/perl5
    /usr/lib/x86_64-linux-gnu/perl/5.20
    /usr/share/perl/5.20
    /usr/local/lib/site_perl
    .