Report for JSON-DWIW-0.47

Back
From: metabase:user:320bfe00-2aae-11df-837a-5e0a49663a4f
Subject: PASS JSON-DWIW-0.47 v5.13.9 GNU/Linux
Date: 2011-01-28T10:07:58Z

This distribution has been tested as part of the CPAN Testers
project, supporting the Perl programming language.  See
http://wiki.cpantesters.org/ for more information or email
questions to cpan-testers-discuss@perl.org


--
Dear Don Owens,

This is a computer-generated report for JSON-DWIW-0.47
on perl 5.13.9, created by CPAN-Reporter-1.1901.

Thank you for uploading your work to CPAN.  Congratulations!
All tests were successful.

Sections of this report:

    * Tester comments
    * Program output
    * Prerequisites
    * Environment and other context

------------------------------
TESTER COMMENTS
------------------------------

Additional comments from tester:

none provided

------------------------------
PROGRAM OUTPUT
------------------------------

Output from '/usr/bin/make test':

make[1]: Entering directory `/home/sand/.cpan/build/JSON-DWIW-0.47-VPchnM'
PERL_DL_NONLAZY=1 /home/src/perl/repoperls/installed-perls/perl/v5.13.9-156-gfb2e24c/bin/perl "-MExtUtils::Command::MM" "-e" "test_harness(0, 'blib/lib', 'blib/arch')" t/*.t
t/00use.t ................ ok
t/01encode.t ............. ok
t/02decode.t ............. ok
t/03parse_constants.t .... ok
t/04extras.t ............. ok
t/05exceptions.t ......... ok
t/06big_numbers.t ........ ok
t/07magic.t .............. ok
t/08pvxv.t ............... ok
t/09bool.t ............... ok
t/10unicode.t ............ ok
Argument "0e+" isn't numeric in subroutine entry at /home/sand/.cpan/build/JSON-DWIW-0.47-VPchnM/blib/lib/JSON/DWIW.pm line 676.
t/11parse_file.t ......... ok
t/12error.t .............. ok
t/13stats.t .............. ok
t/14nonoo.t .............. ok
t/15bom.t ................ ok
t/16to_xml.t ............. ok
t/17callbacks.t .......... ok
t/compat01.t ............. ok
t/deser01.t .............. ok
t/deser02_constants.t .... ok
t/deser03_extras.t ....... ok
t/deser04_exceptions.t ... ok
t/deser05_big_numbers.t .. ok
t/deser06_bool.t ......... ok
t/deser07_error.t ........ ok
t/deser08_stats.t ........ ok
t/deser09_edge.t ......... ok
t/deser10_bom.t .......... ok
Argument "0e+" isn't numeric in subroutine entry at t/deser11_file.t line 108.
t/deser11_file.t ......... ok
t/deser12_unicode.t ...... ok
t/deser13_escapes.t ...... ok
t/deser14_depth.t ........ ok
t/encode01.t ............. ok
t/from_json01_escapes.t .. ok
t/tickets.t .............. ok
All tests successful.
Files=36, Tests=391,  3 wallclock secs ( 0.16 usr  0.03 sys +  2.40 cusr  0.32 csys =  2.91 CPU)
Result: PASS
make[1]: Leaving directory `/home/sand/.cpan/build/JSON-DWIW-0.47-VPchnM'

------------------------------
PREREQUISITES
------------------------------

Prerequisite modules loaded:

requires:

    Module              Need Have   
    ------------------- ---- -------
    Test::More          0    0.97_01

build_requires:

    Module              Need Have   
    ------------------- ---- -------
    ExtUtils::MakeMaker 0    6.57_05

configure_requires:

    Module              Need Have   
    ------------------- ---- -------
    ExtUtils::MakeMaker 0    6.57_05


------------------------------
ENVIRONMENT AND OTHER CONTEXT
------------------------------

Environment variables:

    LANG = en_US.UTF-8
    PATH = /home/sand/bin:/usr/local/bin:/usr/bin:/bin:/usr/bin/X11:/usr/games:/usr/local/perl/bin:/usr/X11/bin:/sbin:/usr/sbin
    PERL5LIB = 
    PERL5OPT = 
    PERL5_CPANPLUS_IS_RUNNING = 28012
    PERL5_CPAN_IS_RUNNING = 28012
    SHELL = /usr/bin/zsh
    TERM = screen

Perl special variables (and OS-specific diagnostics, for MSWin32):

    $^X = /home/src/perl/repoperls/installed-perls/perl/v5.13.9-156-gfb2e24c/bin/perl
    $UID/$EUID = 1001 / 1001
    $GID = 1001 1001
    $EGID = 1001 1001

Perl module toolchain versions installed:

    Module              Have    
    ------------------- --------
    CPAN                1.94_64 
    Cwd                 3.36    
    ExtUtils::CBuilder  0.280202
    ExtUtils::Command   1.16    
    ExtUtils::Install   1.56    
    ExtUtils::MakeMaker 6.57_05 
    ExtUtils::Manifest  1.58    
    ExtUtils::ParseXS   2.2209  
    File::Spec          3.33    
    Module::Build       0.3624  
    Module::Signature   0.66    
    Test::Harness       3.22    
    Test::More          0.97_01 
    YAML                0.72    
    YAML::Syck          1.17    
    version             0.88    


--

Summary of my perl5 (revision 5 version 13 subversion 9) configuration:
  Commit id: fb2e24cdda774d9e9c28f1cd0356bba9070894c7
  Platform:
    osname=linux, osvers=2.6.32-5-amd64, archname=x86_64-linux-thread-multi-ld
    uname='linux k81 2.6.32-5-amd64 #1 smp fri dec 10 15:35:08 utc 2010 x86_64 gnulinux '
    config_args='-Dprefix=/home/src/perl/repoperls/installed-perls/perl/v5.13.9-156-gfb2e24c -Dinstallusrbinperl=n -Uversiononly -Dusedevel -des -Ui_db -Duseithreads -Duselongdouble'
    hint=recommended, useposix=true, d_sigaction=define
    useithreads=define, usemultiplicity=define
    useperlio=define, d_sfio=undef, uselargefiles=define, usesocks=undef
    use64bitint=define, use64bitall=define, uselongdouble=define
    usemymalloc=n, bincompat5005=undef
  Compiler:
    cc='cc', ccflags ='-D_REENTRANT -D_GNU_SOURCE -fno-strict-aliasing -pipe -fstack-protector -I/usr/local/include -D_LARGEFILE_SOURCE -D_FILE_OFFSET_BITS=64',
    optimize='-O2',
    cppflags='-D_REENTRANT -D_GNU_SOURCE -fno-strict-aliasing -pipe -fstack-protector -I/usr/local/include'
    ccversion='', gccversion='4.4.5', gccosandvers=''
    intsize=4, longsize=8, ptrsize=8, doublesize=8, byteorder=12345678
    d_longlong=define, longlongsize=8, d_longdbl=define, longdblsize=16
    ivtype='long', ivsize=8, nvtype='long double', nvsize=16, Off_t='off_t', lseeksize=8
    alignbytes=16, prototype=define
  Linker and Libraries:
    ld='cc', ldflags =' -fstack-protector -L/usr/local/lib'
    libpth=/usr/local/lib /lib /usr/lib /lib64 /usr/lib64
    libs=-lnsl -lgdbm -ldb -ldl -lm -lcrypt -lutil -lpthread -lc -lgdbm_compat
    perllibs=-lnsl -ldl -lm -lcrypt -lutil -lpthread -lc
    libc=/lib/libc-2.11.2.so, so=so, useshrplib=false, libperl=libperl.a
    gnulibc_version='2.11.2'
  Dynamic Linking:
    dlsrc=dl_dlopen.xs, dlext=so, d_dlsymun=undef, ccdlflags='-Wl,-E'
    cccdlflags='-fPIC', lddlflags='-shared -O2 -L/usr/local/lib -fstack-protector'


Characteristics of this binary (from libperl): 
  Compile-time options: MULTIPLICITY PERL_DONT_CREATE_GVSV
                        PERL_IMPLICIT_CONTEXT PERL_MALLOC_WRAP PERL_USE_DEVEL
                        USE_64_BIT_ALL USE_64_BIT_INT USE_ITHREADS
                        USE_LARGE_FILES USE_LONG_DOUBLE USE_PERLIO
                        USE_PERL_ATOF USE_REENTRANT_API
  Built under linux
  Compiled at Jan 28 2011 08:32:56
  %ENV:
    PERL5LIB=""
    PERL5OPT=""
    PERL5_CPANPLUS_IS_RUNNING="28012"
    PERL5_CPAN_IS_RUNNING="28012"
  @INC:
    /home/src/perl/repoperls/installed-perls/perl/v5.13.9-156-gfb2e24c/lib/site_perl/5.13.9/x86_64-linux-thread-multi-ld
    /home/src/perl/repoperls/installed-perls/perl/v5.13.9-156-gfb2e24c/lib/site_perl/5.13.9
    /home/src/perl/repoperls/installed-perls/perl/v5.13.9-156-gfb2e24c/lib/5.13.9/x86_64-linux-thread-multi-ld
    /home/src/perl/repoperls/installed-perls/perl/v5.13.9-156-gfb2e24c/lib/5.13.9
    .