HTML-Formatter v2.16 Perl 5 v5.12.5 x86_64-linux-thread-multi

Status
Pass
From
David Cantrell (DCANTRELL)
Dist
HTML-Formatter v2.16
Platform
Perl 5 v5.12.5 x86_64-linux-thread-multi
Date
2019-06-10 10:06:57
ID
7afad6bc-8b67-11e9-8846-a27a052d0de1
This distribution has been tested as part of the CPAN Testers
project, supporting the Perl programming language.  See
http://wiki.cpantesters.org/ for more information or email
questions to cpan-testers-discuss@perl.org


--
Dear Nigel Metheringham,

This is a computer-generated report for HTML-Formatter-2.16
on perl 5.12.5, created by CPAN-Reporter-1.2018.

Thank you for uploading your work to CPAN.  Congratulations!
All tests were successful.

Sections of this report:

    * Tester comments
    * Program output
    * Prerequisites
    * Environment and other context

------------------------------
TESTER COMMENTS
------------------------------

Additional comments from tester:

this report is from an automated smoke testing program
and was not reviewed by a human for accuracy

------------------------------
PROGRAM OUTPUT
------------------------------

Output from '/usr/bin/make test':

PERL_DL_NONLAZY=1 "/home/david/cpantesting/perl-5.12.5/bin/perl" "-MExtUtils::Command::MM" "-MTest::Harness" "-e" "undef *Test::Harness::Switches; test_harness(0, 'blib/lib', 'blib/arch')" t/*.t
t/00-compile.t ............... ok
# 
# Versions for all modules listed in MYMETA.json (including optional ones):
# 
# === Configure Requires ===
# 
#     Module              Want Have
#     ------------------- ---- ----
#     ExtUtils::MakeMaker  any 7.34
# 
# === Build Requires ===
# 
#     Module              Want Have
#     ------------------- ---- ----
#     ExtUtils::MakeMaker  any 7.34
# 
# === Test Requires ===
# 
#     Module              Want     Have
#     ------------------- ---- --------
#     ExtUtils::MakeMaker  any     7.34
#     File::Slurper        any    0.012
#     File::Spec           any  3.31_01
#     FindBin              any     1.50
#     IO::Handle           any     1.28
#     IPC::Open3           any     1.05
#     Test::More          0.96 1.302162
#     Test::Warnings       any    0.026
#     blib                1.01     1.04
#     bytes                any     1.04
#     lib                  any     0.62
# 
# === Test Recommends ===
# 
#     Module         Want     Have
#     ---------- -------- --------
#     CPAN::Meta 2.120900 2.143240
# 
# === Runtime Requires ===
# 
#     Module                              Want    Have
#     ----------------------------------- ---- -------
#     Carp                                 any    1.50
#     Data::Dumper                         any   2.125
#     Encode                               any 2.39_01
#     Font::Metrics::Courier               any   undef
#     Font::Metrics::CourierBold           any   undef
#     Font::Metrics::CourierBoldOblique    any   undef
#     Font::Metrics::CourierOblique        any   undef
#     Font::Metrics::Helvetica             any   undef
#     Font::Metrics::HelveticaBold         any   undef
#     Font::Metrics::HelveticaBoldOblique  any   undef
#     Font::Metrics::HelveticaOblique      any   undef
#     Font::Metrics::TimesBold             any   undef
#     Font::Metrics::TimesBoldItalic       any   undef
#     Font::Metrics::TimesItalic           any   undef
#     Font::Metrics::TimesRoman            any   undef
#     HTML::Element                       3.15    5.07
#     HTML::TreeBuilder                    any    5.07
#     IO::File                             any    1.14
#     base                                 any    2.15
#     integer                              any    1.00
#     parent                               any   0.223
#     strict                               any    1.04
#     utf8                                 any    1.08
#     warnings                             any    1.09
# 
t/00-report-prereqs.t ........ ok
t/01_ps.t .................... ok
t/02_rtf.t ................... ok
Malformed UTF-8 character (unexpected continuation byte 0xad, with no preceding start byte) in substitution (s///) at /home/david/cpantesting/perl-5.12.5/.cpan/build/HTML-Formatter-2.16-f5Srde/blib/lib/HTML/Formatter.pm line 802, <FH> line 1.
Malformed UTF-8 character (unexpected continuation byte 0xad, with no preceding start byte) in substitution (s///) at /home/david/cpantesting/perl-5.12.5/.cpan/build/HTML-Formatter-2.16-f5Srde/blib/lib/HTML/Formatter.pm line 802, <FH> line 1.
Malformed UTF-8 character (unexpected continuation byte 0xa0, with no preceding start byte) in substitution (s///) at /home/david/cpantesting/perl-5.12.5/.cpan/build/HTML-Formatter-2.16-f5Srde/blib/lib/HTML/Formatter.pm line 802, <FH> line 1.
Malformed UTF-8 character (unexpected continuation byte 0xad, with no preceding start byte) in substitution (s///) at /home/david/cpantesting/perl-5.12.5/.cpan/build/HTML-Formatter-2.16-f5Srde/blib/lib/HTML/Formatter.pm line 802, <FH> line 1.
Malformed UTF-8 character (unexpected continuation byte 0xa0, with no preceding start byte) in substitution (s///) at /home/david/cpantesting/perl-5.12.5/.cpan/build/HTML-Formatter-2.16-f5Srde/blib/lib/HTML/Formatter.pm line 802, <FH> line 1.
Malformed UTF-8 character (unexpected continuation byte 0xad, with no preceding start byte) in substitution (s///) at /home/david/cpantesting/perl-5.12.5/.cpan/build/HTML-Formatter-2.16-f5Srde/blib/lib/HTML/Formatter.pm line 802, <FH> line 1.
Malformed UTF-8 character (unexpected continuation byte 0xa0, with no preceding start byte) in substitution (s///) at /home/david/cpantesting/perl-5.12.5/.cpan/build/HTML-Formatter-2.16-f5Srde/blib/lib/HTML/Formatter.pm line 802, <FH> line 1.
Malformed UTF-8 character (unexpected continuation byte 0xa0, with no preceding start byte) in substitution (s///) at /home/david/cpantesting/perl-5.12.5/.cpan/build/HTML-Formatter-2.16-f5Srde/blib/lib/HTML/Formatter.pm line 802, <FH> line 1.
Malformed UTF-8 character (unexpected continuation byte 0xa0, with no preceding start byte) in substitution (s///) at /home/david/cpantesting/perl-5.12.5/.cpan/build/HTML-Formatter-2.16-f5Srde/blib/lib/HTML/Formatter.pm line 802, <FH> line 1.
Malformed UTF-8 character (unexpected continuation byte 0xa0, with no preceding start byte) in substitution (s///) at /home/david/cpantesting/perl-5.12.5/.cpan/build/HTML-Formatter-2.16-f5Srde/blib/lib/HTML/Formatter.pm line 802, <FH> line 1.
Malformed UTF-8 character (unexpected continuation byte 0xa0, with no preceding start byte) in substitution (s///) at /home/david/cpantesting/perl-5.12.5/.cpan/build/HTML-Formatter-2.16-f5Srde/blib/lib/HTML/Formatter.pm line 802, <FH> line 1.
Malformed UTF-8 character (unexpected continuation byte 0xa0, with no preceding start byte) in substitution (s///) at /home/david/cpantesting/perl-5.12.5/.cpan/build/HTML-Formatter-2.16-f5Srde/blib/lib/HTML/Formatter.pm line 802, <FH> line 1.
Malformed UTF-8 character (unexpected continuation byte 0xa0, with no preceding start byte) in substitution (s///) at /home/david/cpantesting/perl-5.12.5/.cpan/build/HTML-Formatter-2.16-f5Srde/blib/lib/HTML/Formatter.pm line 802, <FH> line 1.
t/03_text.t .................. ok
Malformed UTF-8 character (unexpected continuation byte 0xad, with no preceding start byte) in substitution (s///) at /home/david/cpantesting/perl-5.12.5/.cpan/build/HTML-Formatter-2.16-f5Srde/blib/lib/HTML/Formatter.pm line 802, <$fh> line 1.
Malformed UTF-8 character (unexpected continuation byte 0xad, with no preceding start byte) in substitution (s///) at /home/david/cpantesting/perl-5.12.5/.cpan/build/HTML-Formatter-2.16-f5Srde/blib/lib/HTML/Formatter.pm line 802, <$fh> line 1.
Malformed UTF-8 character (unexpected continuation byte 0xa0, with no preceding start byte) in substitution (s///) at /home/david/cpantesting/perl-5.12.5/.cpan/build/HTML-Formatter-2.16-f5Srde/blib/lib/HTML/Formatter.pm line 802, <$fh> line 1.
Malformed UTF-8 character (unexpected continuation byte 0xad, with no preceding start byte) in substitution (s///) at /home/david/cpantesting/perl-5.12.5/.cpan/build/HTML-Formatter-2.16-f5Srde/blib/lib/HTML/Formatter.pm line 802, <$fh> line 1.
Malformed UTF-8 character (unexpected continuation byte 0xa0, with no preceding start byte) in substitution (s///) at /home/david/cpantesting/perl-5.12.5/.cpan/build/HTML-Formatter-2.16-f5Srde/blib/lib/HTML/Formatter.pm line 802, <$fh> line 1.
Malformed UTF-8 character (unexpected continuation byte 0xad, with no preceding start byte) in substitution (s///) at /home/david/cpantesting/perl-5.12.5/.cpan/build/HTML-Formatter-2.16-f5Srde/blib/lib/HTML/Formatter.pm line 802, <$fh> line 1.
Malformed UTF-8 character (unexpected continuation byte 0xa0, with no preceding start byte) in substitution (s///) at /home/david/cpantesting/perl-5.12.5/.cpan/build/HTML-Formatter-2.16-f5Srde/blib/lib/HTML/Formatter.pm line 802, <$fh> line 1.
Malformed UTF-8 character (unexpected continuation byte 0xa0, with no preceding start byte) in substitution (s///) at /home/david/cpantesting/perl-5.12.5/.cpan/build/HTML-Formatter-2.16-f5Srde/blib/lib/HTML/Formatter.pm line 802, <$fh> line 1.
Malformed UTF-8 character (unexpected continuation byte 0xa0, with no preceding start byte) in substitution (s///) at /home/david/cpantesting/perl-5.12.5/.cpan/build/HTML-Formatter-2.16-f5Srde/blib/lib/HTML/Formatter.pm line 802, <$fh> line 1.
Malformed UTF-8 character (unexpected continuation byte 0xa0, with no preceding start byte) in substitution (s///) at /home/david/cpantesting/perl-5.12.5/.cpan/build/HTML-Formatter-2.16-f5Srde/blib/lib/HTML/Formatter.pm line 802, <$fh> line 1.
Malformed UTF-8 character (unexpected continuation byte 0xa0, with no preceding start byte) in substitution (s///) at /home/david/cpantesting/perl-5.12.5/.cpan/build/HTML-Formatter-2.16-f5Srde/blib/lib/HTML/Formatter.pm line 802, <$fh> line 1.
Malformed UTF-8 character (unexpected continuation byte 0xa0, with no preceding start byte) in substitution (s///) at /home/david/cpantesting/perl-5.12.5/.cpan/build/HTML-Formatter-2.16-f5Srde/blib/lib/HTML/Formatter.pm line 802, <$fh> line 1.
Malformed UTF-8 character (unexpected continuation byte 0xa0, with no preceding start byte) in substitution (s///) at /home/david/cpantesting/perl-5.12.5/.cpan/build/HTML-Formatter-2.16-f5Srde/blib/lib/HTML/Formatter.pm line 802, <$fh> line 1.
t/04_md.t .................... ok
t/author-critic.t ............ skipped: these tests are for testing by the author
t/author-eol.t ............... skipped: these tests are for testing by the author
t/author-no-tabs.t ........... skipped: these tests are for testing by the author
t/author-pod-spell.t ......... skipped: these tests are for testing by the author
t/author-pod-syntax.t ........ skipped: these tests are for testing by the author
t/author-portability.t ....... skipped: these tests are for testing by the author
t/author-synopsis.t .......... skipped: these tests are for testing by the author
t/release-dist-manifest.t .... skipped: these tests are for release candidate testing
t/release-distmeta.t ......... skipped: these tests are for release candidate testing
t/release-has-version.t ...... skipped: these tests are for release candidate testing
t/release-minimum-version.t .. skipped: these tests are for release candidate testing
t/release-unused-vars.t ...... skipped: these tests are for release candidate testing
t/rt111783.t ................. ok
t/rt69426.t .................. ok
All tests successful.
Files=20, Tests=94,  8 wallclock secs ( 0.05 usr  0.04 sys +  0.77 cusr  0.10 csys =  0.96 CPU)
Result: PASS

------------------------------
PREREQUISITES
------------------------------

Prerequisite modules loaded:

requires:

    Module                              Need  Have    
    ----------------------------------- ----- --------
    base                                0     2.15    
    Carp                                0     1.50    
    Data::Dumper                        0     2.125   
    Encode                              0     2.39_01 
    Font::Metrics::Courier              0     0       
    Font::Metrics::CourierBold          0     0       
    Font::Metrics::CourierBoldOblique   0     0       
    Font::Metrics::CourierOblique       0     0       
    Font::Metrics::Helvetica            0     0       
    Font::Metrics::HelveticaBold        0     0       
    Font::Metrics::HelveticaBoldOblique 0     0       
    Font::Metrics::HelveticaOblique     0     0       
    Font::Metrics::TimesBold            0     0       
    Font::Metrics::TimesBoldItalic      0     0       
    Font::Metrics::TimesItalic          0     0       
    Font::Metrics::TimesRoman           0     0       
    HTML::Element                       3.15  5.07    
    HTML::TreeBuilder                   0     5.07    
    integer                             0     1.00    
    IO::File                            0     1.14    
    parent                              0     0.223   
    perl                                5.008 5.012005
    strict                              0     1.04    
    utf8                                0     1.08    
    warnings                            0     1.09    

build_requires:

    Module                              Need  Have    
    ----------------------------------- ----- --------
    blib                                1.01  1.04    
    bytes                               0     1.04    
    ExtUtils::MakeMaker                 0     7.34    
    File::Slurper                       0     0.012   
    File::Spec                          0     3.31_01 
    FindBin                             0     1.50    
    IO::Handle                          0     1.28    
    IPC::Open3                          0     1.05    
    lib                                 0     0.62    
    Test::More                          0.96  1.302162
    Test::Warnings                      0     0.026   

configure_requires:

    Module                              Need  Have    
    ----------------------------------- ----- --------
    ExtUtils::MakeMaker                 0     7.34    


------------------------------
ENVIRONMENT AND OTHER CONTEXT
------------------------------

Environment variables:

    AUTOMATED_TESTING = 1
    LANG = en_US.UTF-8
    NONINTERACTIVE_TESTING = 1
    PATH = /usr/local/bin:/usr/bin:/bin:/usr/local/games:/usr/games
    PERL = 5.12.5
    PERL5LIB = 
    PERL5OPT = 
    PERL5_CPANPLUS_IS_RUNNING = 30439
    PERL5_CPAN_IS_RUNNING = 30439
    PERLVER = 5.12.5
    PERL_INLINE_DIRECTORY = /home/david/.Inline-5.12.5
    PERL_MM_USE_DEFAULT = 1
    PERL_USE_UNSAFE_INC = 0
    SHELL = /bin/bash
    TERM = screen

Perl special variables (and OS-specific diagnostics, for MSWin32):

    $^X = /home/david/cpantesting/perl-5.12.5/bin/perl
    $UID/$EUID = 1000 / 1000
    $GID = 1000 27 1000
    $EGID = 1000 27 1000

Perl module toolchain versions installed:

    Module              Have    
    ------------------- --------
    CPAN                1.94_56 
    CPAN::Meta          2.143240
    Cwd                 3.31    
    ExtUtils::CBuilder  0.27    
    ExtUtils::Command   7.34    
    ExtUtils::Install   2.06    
    ExtUtils::MakeMaker 7.34    
    ExtUtils::Manifest  1.70    
    ExtUtils::ParseXS   3.35    
    File::Spec          3.31_01 
    JSON                n/a     
    JSON::PP            4.02    
    Module::Build       0.3603  
    Module::Signature   n/a     
    Parse::CPAN::Meta   1.4414  
    Test::Harness       3.42    
    Test::More          1.302162
    YAML                1.29    
    YAML::Syck          n/a     
    version             0.9924  


--

Summary of my perl5 (revision 5 version 12 subversion 5) configuration:
   
  Platform:
    osname=linux, osvers=4.9.0-8-amd64, archname=x86_64-linux-thread-multi
    uname='linux pigsty 4.9.0-8-amd64 #1 smp debian 4.9.144-3 (2019-02-02) x86_64 gnulinux '
    config_args='-de -Duse64bitall -Dusethreads -Dprefix=/home/david/cpantesting/perl-5.12.5 -A ccflags=-fwrapv'
    hint=previous, useposix=true, d_sigaction=define
    useithreads=define, usemultiplicity=define
    useperlio=define, d_sfio=undef, uselargefiles=define, usesocks=undef
    use64bitint=define, use64bitall=define, uselongdouble=undef
    usemymalloc=n, bincompat5005=undef
  Compiler:
    cc='cc', ccflags ='-D_REENTRANT -D_GNU_SOURCE -fno-strict-aliasing -pipe -fstack-protector -I/usr/local/include -D_LARGEFILE_SOURCE -D_FILE_OFFSET_BITS=64 -fwrapv',
    optimize='-O2',
    cppflags='-D_REENTRANT -D_GNU_SOURCE -fno-strict-aliasing -pipe -fstack-protector -I/usr/local/include -D_REENTRANT -D_GNU_SOURCE -fno-strict-aliasing -pipe -fstack-protector -I/usr/local/include -D_LARGEFILE_SOURCE -D_FILE_OFFSET_BITS=64 -fwrapv'
    ccversion='', gccversion='6.3.0 20170516', gccosandvers=''
    intsize=4, longsize=8, ptrsize=8, doublesize=8, byteorder=12345678
    d_longlong=define, longlongsize=8, d_longdbl=define, longdblsize=16
    ivtype='long', ivsize=8, nvtype='double', nvsize=8, Off_t='off_t', lseeksize=8
    alignbytes=8, prototype=define
  Linker and Libraries:
    ld='cc', ldflags =' -fstack-protector -L/usr/local/lib'
    libpth=/usr/local/lib /lib/x86_64-linux-gnu /lib/../lib /usr/lib/x86_64-linux-gnu /usr/lib/../lib /lib /usr/lib
    libs=-lnsl -ldb -ldl -lm -lcrypt -lutil -lpthread -lc
    perllibs=-lnsl -ldl -lm -lcrypt -lutil -lpthread -lc
    libc=libc-2.24.so, so=so, useshrplib=false, libperl=libperl.a
    gnulibc_version='2.24'
  Dynamic Linking:
    dlsrc=dl_dlopen.xs, dlext=so, d_dlsymun=undef, ccdlflags='-Wl,-E'
    cccdlflags='-fPIC', lddlflags='-shared -O2 -L/usr/local/lib -fstack-protector'


Characteristics of this binary (from libperl): 
  Compile-time options: MULTIPLICITY PERL_DONT_CREATE_GVSV
                        PERL_IMPLICIT_CONTEXT PERL_MALLOC_WRAP USE_64_BIT_ALL
                        USE_64_BIT_INT USE_ITHREADS USE_LARGE_FILES
                        USE_PERLIO USE_PERL_ATOF USE_REENTRANT_API
  Locally applied patches:
	Devel::PatchPerl 1.56
  Built under linux
  Compiled at Apr 25 2019 17:06:45
  %ENV:
    PERL="5.12.5"
    PERL5LIB=""
    PERL5OPT=""
    PERL5_CPANPLUS_IS_RUNNING="30439"
    PERL5_CPAN_IS_RUNNING="30439"
    PERLVER="5.12.5"
    PERL_INLINE_DIRECTORY="/home/david/.Inline-5.12.5"
    PERL_MM_USE_DEFAULT="1"
    PERL_USE_UNSAFE_INC="0"
  @INC:
    /home/david/cpantesting/perl-5.12.5/lib/site_perl/5.12.5/x86_64-linux-thread-multi
    /home/david/cpantesting/perl-5.12.5/lib/site_perl/5.12.5
    /home/david/cpantesting/perl-5.12.5/lib/5.12.5/x86_64-linux-thread-multi
    /home/david/cpantesting/perl-5.12.5/lib/5.12.5
    .