Net-Hadoop-Oozie v0.116 Perl 5 v5.32.0 amd64-freebsd
- Status
- Pass
- From
- Slaven Rezić
- Dist
-
Net-Hadoop-Oozie v0.116
- Platform
- Perl 5 v5.32.0 amd64-freebsd
- Date
- 2023-09-12 16:50:29
- ID
- 7ad13cae-518c-11ee-97f8-80e76d8775ea
This distribution has been tested as part of the CPAN Testers
project, supporting the Perl programming language. See
http://wiki.cpantesters.org/ for more information or email
questions to cpan-testers-discuss@perl.org
--
Dear Burak Gursoy,
This is a computer-generated report for Net-Hadoop-Oozie-0.116
on perl 5.32.0, created by CPAN-Reporter-1.2018.
Thank you for uploading your work to CPAN. Congratulations!
All tests were successful.
Sections of this report:
* Tester comments
* Program output
* Prerequisites
* Environment and other context
------------------------------
TESTER COMMENTS
------------------------------
Additional comments from tester:
none provided
------------------------------
PROGRAM OUTPUT
------------------------------
Output from '/usr/bin/make test':
PERL_DL_NONLAZY=1 "/usr/perl5.32.0p/bin/perl5.32.0" "-MExtUtils::Command::MM" "-MTest::Harness" "-e" "undef *Test::Harness::Switches; test_harness(0, 'blib/lib', 'blib/arch')" t/*.t
t/00-compile.t .................... ok
#
# Versions for all modules listed in MYMETA.json (including optional ones):
#
# === Configure Requires ===
#
# Module Want Have
# ------------------- ---- ----
# ExtUtils::MakeMaker any 7.70
#
# === Build Requires ===
#
# Module Want Have
# ------------------- ---- ----
# ExtUtils::MakeMaker any 7.70
#
# === Test Requires ===
#
# Module Want Have
# ------------------- ---- --------
# ExtUtils::MakeMaker any 7.70
# File::Spec any 3.78
# IO::Handle any 1.51
# IPC::Open3 any 1.21
# Test::CPAN::Meta any 0.25
# Test::More any 1.302195
#
# === Test Recommends ===
#
# Module Want Have
# ---------- -------- --------
# CPAN::Meta 2.120900 2.150010
#
# === Runtime Requires ===
#
# Module Want Have
# -------------------------------- ---- ----------
# CHI any 0.60
# Carp any 1.50
# Clone any 0.46
# Constant::FromGlobal any 0.10
# Data::Dumper any 2.183
# Date::Format any 2.24
# Date::Parse any 2.33
# Exporter any 5.74
# Hash::Flatten any 1.19
# JSON::XS any 4.03
# LWP::Authen::Negotiate any 0.08
# LWP::UserAgent any 6.72
# Moo any 2.005005
# Moo::Role any 2.005005
# Net::Hadoop::YARN any 0.203
# Net::Hadoop::YARN::Roles::Common any 0.203
# Ref::Util any 0.204
# Regexp::Common any 2017060201
# Scalar::Util any 1.63
# URI any 5.21
# XML::Simple any 2.25
# XML::Twig any 3.52
# constant any 1.33
# parent any 0.240
# strict any 1.11
# warnings any 1.47
#
t/00-report-prereqs.t ............. ok
t/01-api.t ........................ ok
t/02-schedule-test-coordinator.t .. ok
t/03-job-information.t ............ ok
t/04-suspend.t .................... ok
t/05-standalone-wf.t .............. ok
t/06-rerun.t ...................... ok
t/07-kill.t ....................... ok
t/08-sla.t ........................ ok
t/09-judge.t ...................... ok
t/author-pod-syntax.t ............. skipped: these tests are for testing by the author
t/release-distmeta.t .............. skipped: these tests are for release candidate testing
All tests successful.
Files=13, Tests=26, 4 wallclock secs ( 0.07 usr 0.02 sys + 3.66 cusr 1.03 csys = 4.79 CPU)
Result: PASS
------------------------------
PREREQUISITES
------------------------------
Prerequisite modules loaded:
requires:
Module Need Have
-------------------------------- ----- ----------
Carp 0 1.50
CHI 0 0.60
Clone 0 0.46
constant 0 1.33
Constant::FromGlobal 0 0.10
Data::Dumper 0 2.183
Date::Format 0 2.24
Date::Parse 0 2.33
Exporter 0 5.74
Hash::Flatten 0 1.19
JSON::XS 0 4.03
LWP::Authen::Negotiate 0 0.08
LWP::UserAgent 0 6.72
Moo 0 2.005005
Moo::Role 0 2.005005
Net::Hadoop::YARN 0 0.203
Net::Hadoop::YARN::Roles::Common 0 0.203
parent 0 0.240
perl 5.010 5.032000
Ref::Util 0 0.204
Regexp::Common 0 2017060201
Scalar::Util 0 1.63
strict 0 1.11
URI 0 5.21
warnings 0 1.47
XML::Simple 0 2.25
XML::Twig 0 3.52
build_requires:
Module Need Have
-------------------------------- ----- ----------
ExtUtils::MakeMaker 0 7.70
File::Spec 0 3.78
IO::Handle 0 1.51
IPC::Open3 0 1.21
Test::CPAN::Meta 0 0.25
Test::More 0 1.302195
configure_requires:
Module Need Have
-------------------------------- ----- ----------
ExtUtils::MakeMaker 0 7.70
------------------------------
ENVIRONMENT AND OTHER CONTEXT
------------------------------
Environment variables:
PATH = /usr/local/bin:/usr/bin:/bin:/usr/local/sbin:/usr/sbin:/sbin:/home/cpansand/bin/sh:/home/cpansand/bin:/usr/games:/home/cpansand/devel:/usr/home/eserte/src/srezic-misc/scripts
PERL5LIB = /home/cpansand/.cpan/build/2023083114/Net-Hadoop-YARN-0.203-4/blib/arch:/home/cpansand/.cpan/build/2023083114/Net-Hadoop-YARN-0.203-4/blib/lib:/home/cpansand/.cpan/build/2023083114/Hash-Path-0.02-4/blib/arch:/home/cpansand/.cpan/build/2023083114/Hash-Path-0.02-4/blib/lib:/home/cpansand/.cpan/build/2023083114/LWP-Authen-Negotiate-0.08-4/blib/arch:/home/cpansand/.cpan/build/2023083114/LWP-Authen-Negotiate-0.08-4/blib/lib:/home/cpansand/.cpan/build/2023083114/GSSAPI-0.28-4/blib/arch:/home/cpansand/.cpan/build/2023083114/GSSAPI-0.28-4/blib/lib:/home/cpansand/.cpan/build/2023083114/Constant-FromGlobal-0.10-4/blib/arch:/home/cpansand/.cpan/build/2023083114/Constant-FromGlobal-0.10-4/blib/lib
PERL5OPT =
PERL5_CPANPLUS_IS_RUNNING = 76871
PERL5_CPAN_IS_RUNNING = 76871
PERL5_CPAN_IS_RUNNING_IN_RECURSION = 69438,76871
PERL_BATCH = yes
PERL_CANARY_STABILITY_NOPROMPT = 1
PERL_CPAN_REPORTER_CONFIG = /var/tmp/cpansmoker-1023/2023083114/cpanreporter_000_config.ini
PERL_EXTUTILS_AUTOINSTALL = --defaultdeps
PERL_USE_UNSAFE_INC = 1
SHELL = /bin/sh
TMPDIR = /var/tmp/cpansmoker-1023/2023083114
Perl special variables (and OS-specific diagnostics, for MSWin32):
$^X = /usr/perl5.32.0p/bin/perl5.32.0
$UID/$EUID = 1023 / 1023
$GID = 1023 1023
$EGID = 1023 1023
Perl module toolchain versions installed:
Module Have
------------------- --------
CPAN 2.36
CPAN::Meta 2.150010
Cwd 3.78
ExtUtils::CBuilder 0.280236
ExtUtils::Command 7.70
ExtUtils::Install 2.20
ExtUtils::MakeMaker 7.70
ExtUtils::Manifest 1.75
ExtUtils::ParseXS 3.40
File::Spec 3.78
JSON 4.10
JSON::PP 4.15
Module::Build 0.4234
Module::Signature 0.88
Parse::CPAN::Meta 2.150010
Test::Harness 3.47
Test::More 1.302195
YAML 1.30
YAML::Syck 1.34
version 0.9929
--
Summary of my perl5 (revision 5 version 32 subversion 0) configuration:
Platform:
osname=freebsd
osvers=12.1-stable
archname=amd64-freebsd
uname='freebsd cloud1.bbbike.org 12.1-stable freebsd 12.1-stable b7dfc76ba0b(stable12) generic amd64 '
config_args='-ds -e -Dprefix=/usr/perl5.32.0p -Dcf_email=srezic@cpan.org -Doptimize=-O2 -pipe'
hint=recommended
useposix=true
d_sigaction=define
useithreads=undef
usemultiplicity=undef
use64bitint=define
use64bitall=define
uselongdouble=undef
usemymalloc=n
default_inc_excludes_dot=define
bincompat5005=undef
Compiler:
cc='cc'
ccflags ='-DHAS_FPSETMASK -DHAS_FLOATINGPOINT_H -fno-strict-aliasing -pipe -fstack-protector-strong -I/usr/local/include'
optimize='-O2 -pipe'
cppflags='-DHAS_FPSETMASK -DHAS_FLOATINGPOINT_H -fno-strict-aliasing -pipe -fstack-protector-strong -I/usr/local/include'
ccversion=''
gccversion='FreeBSD Clang 10.0.0 (git@github.com:llvm/llvm-project.git llvmorg-10.0.0-0-gd32170dbd5b)'
gccosandvers=''
intsize=4
longsize=8
ptrsize=8
doublesize=8
byteorder=12345678
doublekind=3
d_longlong=define
longlongsize=8
d_longdbl=define
longdblsize=16
longdblkind=3
ivtype='long'
ivsize=8
nvtype='double'
nvsize=8
Off_t='off_t'
lseeksize=8
alignbytes=8
prototype=define
Linker and Libraries:
ld='cc'
ldflags ='-pthread -Wl,-E -fstack-protector-strong -L/usr/local/lib'
libpth=/usr/lib /usr/local/lib /usr/lib/clang/10.0.0/lib /usr/lib
libs=-lpthread -lgdbm -ldl -lm -lcrypt -lutil -lc
perllibs=-lpthread -ldl -lm -lcrypt -lutil -lc
libc=
so=so
useshrplib=false
libperl=libperl.a
gnulibc_version=''
Dynamic Linking:
dlsrc=dl_dlopen.xs
dlext=so
d_dlsymun=undef
ccdlflags=' '
cccdlflags='-DPIC -fPIC'
lddlflags='-shared -L/usr/local/lib -fstack-protector-strong'
Characteristics of this binary (from libperl):
Compile-time options:
HAS_TIMES
PERLIO_LAYERS
PERL_COPY_ON_WRITE
PERL_DONT_CREATE_GVSV
PERL_MALLOC_WRAP
PERL_OP_PARENT
PERL_PRESERVE_IVUV
USE_64_BIT_ALL
USE_64_BIT_INT
USE_LARGE_FILES
USE_LOCALE
USE_LOCALE_COLLATE
USE_LOCALE_CTYPE
USE_LOCALE_NUMERIC
USE_LOCALE_TIME
USE_PERLIO
USE_PERL_ATOF
Built under freebsd
Compiled at Jun 21 2020 07:16:14
%ENV:
PERL5LIB="/home/cpansand/.cpan/build/2023083114/Net-Hadoop-YARN-0.203-4/blib/arch:/home/cpansand/.cpan/build/2023083114/Net-Hadoop-YARN-0.203-4/blib/lib:/home/cpansand/.cpan/build/2023083114/Hash-Path-0.02-4/blib/arch:/home/cpansand/.cpan/build/2023083114/Hash-Path-0.02-4/blib/lib:/home/cpansand/.cpan/build/2023083114/LWP-Authen-Negotiate-0.08-4/blib/arch:/home/cpansand/.cpan/build/2023083114/LWP-Authen-Negotiate-0.08-4/blib/lib:/home/cpansand/.cpan/build/2023083114/GSSAPI-0.28-4/blib/arch:/home/cpansand/.cpan/build/2023083114/GSSAPI-0.28-4/blib/lib:/home/cpansand/.cpan/build/2023083114/Constant-FromGlobal-0.10-4/blib/arch:/home/cpansand/.cpan/build/2023083114/Constant-FromGlobal-0.10-4/blib/lib"
PERL5OPT=""
PERL5_CPANPLUS_IS_RUNNING="76871"
PERL5_CPAN_IS_RUNNING="76871"
PERL5_CPAN_IS_RUNNING_IN_RECURSION="69438,76871"
PERL_BATCH="yes"
PERL_CANARY_STABILITY_NOPROMPT="1"
PERL_CPAN_REPORTER_CONFIG="/var/tmp/cpansmoker-1023/2023083114/cpanreporter_000_config.ini"
PERL_EXTUTILS_AUTOINSTALL="--defaultdeps"
PERL_USE_UNSAFE_INC="1"
@INC:
/home/cpansand/.cpan/build/2023083114/Net-Hadoop-YARN-0.203-4/blib/arch
/home/cpansand/.cpan/build/2023083114/Net-Hadoop-YARN-0.203-4/blib/lib
/home/cpansand/.cpan/build/2023083114/Hash-Path-0.02-4/blib/arch
/home/cpansand/.cpan/build/2023083114/Hash-Path-0.02-4/blib/lib
/home/cpansand/.cpan/build/2023083114/LWP-Authen-Negotiate-0.08-4/blib/arch
/home/cpansand/.cpan/build/2023083114/LWP-Authen-Negotiate-0.08-4/blib/lib
/home/cpansand/.cpan/build/2023083114/GSSAPI-0.28-4/blib/arch
/home/cpansand/.cpan/build/2023083114/GSSAPI-0.28-4/blib/lib
/home/cpansand/.cpan/build/2023083114/Constant-FromGlobal-0.10-4/blib/arch
/home/cpansand/.cpan/build/2023083114/Constant-FromGlobal-0.10-4/blib/lib
/usr/perl5.32.0p/lib/site_perl/5.32.0/amd64-freebsd
/usr/perl5.32.0p/lib/site_perl/5.32.0
/usr/perl5.32.0p/lib/5.32.0/amd64-freebsd
/usr/perl5.32.0p/lib/5.32.0
.