ODF-MailMerge v1.010 Perl 5 v5.22.0 amd64-freebsd

Status
Pass
From
Slaven Rezić
Dist
ODF-MailMerge v1.010
Platform
Perl 5 v5.22.0 amd64-freebsd
Date
2024-08-26 07:11:56
ID
7ac38fb8-637a-11ef-afdb-992d6e8775ea
This distribution has been tested as part of the CPAN Testers
project, supporting the Perl programming language.  See
http://wiki.cpantesters.org/ for more information or email
questions to cpan-testers-discuss@perl.org


--
Dear Jim Avera,

This is a computer-generated report for ODF-MailMerge-1.010
on perl 5.22.0, created by CPAN-Reporter-1.2019.

Thank you for uploading your work to CPAN.  Congratulations!
All tests were successful.

Sections of this report:

    * Tester comments
    * Program output
    * Prerequisites
    * Environment and other context

------------------------------
TESTER COMMENTS
------------------------------

Additional comments from tester:

none provided

------------------------------
PROGRAM OUTPUT
------------------------------

Output from '/usr/bin/make test':

Skip blib/lib/auto/share/dist/ODF-MailMerge/examples/Ex_Famnames_output.odt (unchanged)
Skip blib/lib/auto/share/dist/ODF-MailMerge/examples/Ex_Famnames_Skeleton.odt (unchanged)
Skip blib/lib/auto/share/dist/ODF-MailMerge/examples/family_names.csv (unchanged)
Skip blib/lib/auto/share/dist/ODF-MailMerge/cover.pdf (unchanged)
Skip blib/lib/auto/share/dist/ODF-MailMerge/examples/Ex_Famnames.pl (unchanged)
PERL_DL_NONLAZY=1 "/usr/perl5.22.0p/bin/perl5.22.0" "-MExtUtils::Command::MM" "-MTest::Harness" "-e" "undef *Test::Harness::Switches; test_harness(0, 'blib/lib', 'blib/arch')" t/*.t
t/10_basic.t ............. ok
t/20_mailmerge.t ......... ok
t/90_Ex_Famnames.t ....... skipped: LibreOffice is not avaialble
t/95_odfedit.t ........... ok
t/author-pod-coverage.t .. skipped: these tests are for testing by the author
t/author-pod-syntax.t .... skipped: these tests are for testing by the author
All tests successful.
Files=6, Tests=51, 12 wallclock secs ( 0.02 usr  0.02 sys +  5.01 cusr  5.80 csys = 10.86 CPU)
Result: PASS

------------------------------
PREREQUISITES
------------------------------

Prerequisite modules loaded:

requires:

    Module                     Need     Have    
    -------------------------- -------- --------
    Carp                       0        1.50    
    Clone                      0        0.46    
    constant                   0        1.33    
    Data::Dumper::Interp       6.009    7.007   
    DateTime                   0        1.65    
    Encode                     0        3.21    
    Encode::Locale             0        1.05    
    Exporter                   0        5.77    
    feature                    0        1.40    
    File::ShareDir             0        1.118   
    File::Spec::Functions      0        3.75    
    FindBin                    0        1.54    
    Getopt::Long               2.37     2.55    
    Guard                      0        1.023   
    List::MoreUtils            0        0.430   
    List::Util                 0        1.63    
    ODF::lpOD                  2.001    2.001   
    ODF::lpOD_Helper           6.006    6.014   
    open                       0        1.10    
    Path::Tiny                 0.144    0.146   
    perl                       5.022000 5.022000
    Pod::Usage                 0        2.03    
    Scalar::Util               0        1.63    
    Spreadsheet::Edit          1000.011 1000.015
    Spreadsheet::Edit::IO      1000.006 1000.015
    Spreadsheet::Edit::Log     1000.005 1000.015
    strict                     0        1.09    
    Text::ParseWords           3.31     3.31    
    utf8                       0        1.17    
    warnings                   0        1.32    

build_requires:

    Module                     Need     Have    
    -------------------------- -------- --------
    autovivification           0        0.18    
    Capture::Tiny              0        0.48    
    Carp::Always               0.16     0.16    
    Cwd                        0        3.75    
    Data::Dumper               0        2.183   
    DateTime::Format::Strptime 0        1.79    
    English                    0        1.09    
    Env                        0        1.04    
    ExtUtils::MakeMaker        0        7.70    
    File::Basename             0        2.85    
    File::Path                 0        2.18    
    File::Spec                 0        3.75    
    File::Temp                 0.23     0.2311  
    Import::Into               0        1.002005
    indirect                   0        0.38    
    IO::Uncompress::Gunzip     0        2.208   
    JSON                       0        4.10    
    lib                        0        0.63    
    multidimensional           0        0.014   
    parent                     0        0.239   
    POSIX                      0        1.53    
    Spreadsheet::Edit          1000.011 1000.015
    Spreadsheet::Edit::IO      1000.006 1000.015
    Test2::Plugin::BailOnFail  0        0.000162
    Test2::V0                  0        0.000162
    Time::HiRes                0        1.9764  

configure_requires:

    Module                     Need     Have    
    -------------------------- -------- --------
    ExtUtils::MakeMaker        0        7.70    
    File::ShareDir::Install    0.06     0.14    


------------------------------
ENVIRONMENT AND OTHER CONTEXT
------------------------------

Environment variables:

    LC_ALL = de_DE.ISO8859-1
    PATH = /usr/local/bin:/usr/bin:/bin:/usr/local/sbin:/usr/sbin:/sbin:/home/cpansand/bin/freebsd10.3:/home/cpansand/bin/sh:/home/cpansand/bin:/usr/games:/home/cpansand/devel:/home/eserte/src/srezic-misc/scripts
    PERL5LIB = 
    PERL5OPT = 
    PERL5_CPANPLUS_IS_RUNNING = 31819
    PERL5_CPAN_IS_RUNNING = 31819
    PERL5_CPAN_IS_RUNNING_IN_RECURSION = 24652,31819
    PERLDOC = -MPod::Perldoc::ToTextOverstrike
    PERL_BATCH = yes
    PERL_CANARY_STABILITY_NOPROMPT = 1
    PERL_CPAN_REPORTER_CONFIG = /var/tmp/cpansmoker-1023/2024082608/cpanreporter_000_config.ini
    PERL_EXTUTILS_AUTOINSTALL = --defaultdeps
    PERL_USE_UNSAFE_INC = 1
    SHELL = /usr/local/bin/zsh
    TERM = screen
    TMPDIR = /var/tmp/cpansmoker-1023/2024082608

Perl special variables (and OS-specific diagnostics, for MSWin32):

    $^X = /usr/perl5.22.0p/bin/perl5.22.0
    $UID/$EUID = 1023 / 1023
    $GID = 1023 1023
    $EGID = 1023 1023

Perl module toolchain versions installed:

    Module              Have    
    ------------------- --------
    CPAN                2.34    
    CPAN::Meta          2.150010
    Cwd                 3.75    
    ExtUtils::CBuilder  0.280236
    ExtUtils::Command   7.70    
    ExtUtils::Install   2.22    
    ExtUtils::MakeMaker 7.70    
    ExtUtils::Manifest  1.75    
    ExtUtils::ParseXS   3.51    
    File::Spec          3.75    
    JSON                4.10    
    JSON::PP            4.16    
    Module::Build       0.4234  
    Module::Signature   0.87    
    Parse::CPAN::Meta   2.150010
    Test2               1.302198
    Test::Harness       3.47    
    Test::More          1.302198
    YAML                1.30    
    YAML::Syck          1.34    
    version             0.9930  


--

Summary of my perl5 (revision 5 version 22 subversion 0) configuration:
   
  Platform:
    osname=freebsd, osvers=10.1-release, archname=amd64-freebsd
    uname='freebsd cvrsnica-freebsd-101.herceg.de 10.1-release freebsd 10.1-release #0 r274401: tue nov 11 21:02:49 utc 2014 root@releng1.nyi.freebsd.org:usrobjusrsrcsysgeneric amd64 '
    config_args='-ds -e -Dprefix=/usr/perl5.22.0p -Dcf_email=srezic@cpan.org'
    hint=recommended, useposix=true, d_sigaction=define
    useithreads=undef, usemultiplicity=undef
    use64bitint=define, use64bitall=define, uselongdouble=undef
    usemymalloc=n, bincompat5005=undef
  Compiler:
    cc='cc', ccflags ='-DHAS_FPSETMASK -DHAS_FLOATINGPOINT_H -fno-strict-aliasing -pipe -fstack-protector -I/usr/local/include -D_FORTIFY_SOURCE=2',
    optimize='-O',
    cppflags='-DHAS_FPSETMASK -DHAS_FLOATINGPOINT_H -fno-strict-aliasing -pipe -fstack-protector -I/usr/local/include'
    ccversion='', gccversion='4.2.1 Compatible FreeBSD Clang 3.4.1 (tags/RELEASE_34/dot1-final 208032)', gccosandvers=''
    intsize=4, longsize=8, ptrsize=8, doublesize=8, byteorder=12345678, doublekind=3
    d_longlong=define, longlongsize=8, d_longdbl=define, longdblsize=16, longdblkind=3
    ivtype='long', ivsize=8, nvtype='double', nvsize=8, Off_t='off_t', lseeksize=8
    alignbytes=8, prototype=define
  Linker and Libraries:
    ld='cc', ldflags ='-pthread -Wl,-E  -fstack-protector -L/usr/local/lib'
    libpth=/usr/lib /usr/local/lib /usr/include/clang/3.4.1 /usr/lib
    libs=-lpthread -lgdbm -lm -lcrypt -lutil -lc
    perllibs=-lpthread -lm -lcrypt -lutil -lc
    libc=, so=so, useshrplib=false, libperl=libperl.a
    gnulibc_version=''
  Dynamic Linking:
    dlsrc=dl_dlopen.xs, dlext=so, d_dlsymun=undef, ccdlflags=' '
    cccdlflags='-DPIC -fPIC', lddlflags='-shared  -L/usr/local/lib -fstack-protector'


Characteristics of this binary (from libperl): 
  Compile-time options: HAS_TIMES PERLIO_LAYERS PERL_DONT_CREATE_GVSV
                        PERL_HASH_FUNC_ONE_AT_A_TIME_HARD PERL_MALLOC_WRAP
                        PERL_NEW_COPY_ON_WRITE PERL_PRESERVE_IVUV
                        USE_64_BIT_ALL USE_64_BIT_INT USE_LARGE_FILES
                        USE_LOCALE USE_LOCALE_COLLATE USE_LOCALE_CTYPE
                        USE_LOCALE_NUMERIC USE_LOCALE_TIME USE_PERLIO
                        USE_PERL_ATOF
  Built under freebsd
  Compiled at Jun  1 2015 20:19:01
  %ENV:
    PERL5LIB=""
    PERL5OPT=""
    PERL5_CPANPLUS_IS_RUNNING="31819"
    PERL5_CPAN_IS_RUNNING="31819"
    PERL5_CPAN_IS_RUNNING_IN_RECURSION="24652,31819"
    PERLDOC="-MPod::Perldoc::ToTextOverstrike"
    PERL_BATCH="yes"
    PERL_CANARY_STABILITY_NOPROMPT="1"
    PERL_CPAN_REPORTER_CONFIG="/var/tmp/cpansmoker-1023/2024082608/cpanreporter_000_config.ini"
    PERL_EXTUTILS_AUTOINSTALL="--defaultdeps"
    PERL_USE_UNSAFE_INC="1"
  @INC:
    /usr/perl5.22.0p/lib/site_perl/5.22.0/amd64-freebsd
    /usr/perl5.22.0p/lib/site_perl/5.22.0
    /usr/perl5.22.0p/lib/5.22.0/amd64-freebsd
    /usr/perl5.22.0p/lib/5.22.0
    .