Fluent-Logger v0.27 Perl 5 v5.8.9 x86_64-linux

Status
Pass
From
Nigel Horne
Dist
Fluent-Logger v0.27
Platform
Perl 5 v5.8.9 x86_64-linux
Date
2018-12-14 01:13:34
ID
7a9b51a8-ff3d-11e8-afbf-aec3b07506ca
This distribution has been tested as part of the CPAN Testers
project, supporting the Perl programming language.  See
http://wiki.cpantesters.org/ for more information or email
questions to cpan-testers-discuss@perl.org


--
Dear FUJIWARA Shunichiro,

This is a computer-generated report for Fluent-Logger-0.27
on perl 5.8.9, created by CPAN-Reporter-1.2018.

Thank you for uploading your work to CPAN.  Congratulations!
All tests were successful.

Sections of this report:

    * Tester comments
    * Program output
    * Prerequisites
    * Environment and other context

------------------------------
TESTER COMMENTS
------------------------------

Additional comments from tester:

this report is from an automated smoke testing program
and was not reviewed by a human for accuracy

------------------------------
PROGRAM OUTPUT
------------------------------

Output from './Build test':

Use of uninitialized value in length at /tmp/build/Fluent-Logger-0.27-19/blib/lib/Fluent/Logger.pm line 147.
t/01_new.t .......................... ok
t/00_compile.t ...................... ok
Use of uninitialized value in length at /tmp/build/Fluent-Logger-0.27-19/blib/lib/Fluent/Logger.pm line 221.
t/02_unix_socket.t .................. ok
Use of uninitialized value in length at /tmp/build/Fluent-Logger-0.27-19/blib/lib/Fluent/Logger.pm line 221.
Can't exec "fluentd": No such file or directory at /tmp/build/Fluent-Logger-0.27-19/t/..//t/Util.pm line 34.
Use of uninitialized value in pattern match (m//) at /tmp/build/Fluent-Logger-0.27-19/t/..//t/Util.pm line 34.
t/04_live.t ......................... skipped: fluentd is not installed.
Can't exec "fluentd": No such file or directory at /tmp/build/Fluent-Logger-0.27-19/t/..//t/Util.pm line 34.
Use of uninitialized value in pattern match (m//) at /tmp/build/Fluent-Logger-0.27-19/t/..//t/Util.pm line 34.
t/05_prefer_integer.t ............... skipped: fluentd is not installed.
Can't exec "fluentd": No such file or directory at /tmp/build/Fluent-Logger-0.27-19/t/..//t/Util.pm line 34.
Use of uninitialized value in pattern match (m//) at /tmp/build/Fluent-Logger-0.27-19/t/..//t/Util.pm line 34.
t/06_fork.t ......................... skipped: fluentd is not installed.
Can't exec "fluentd": No such file or directory at /tmp/build/Fluent-Logger-0.27-19/t/..//t/Util.pm line 34.
Use of uninitialized value in pattern match (m//) at /tmp/build/Fluent-Logger-0.27-19/t/..//t/Util.pm line 34.
t/07_str_bin.t ...................... skipped: fluentd is not installed.
t/03_tcp.t .......................... ok
Can't exec "fluentd": No such file or directory at /tmp/build/Fluent-Logger-0.27-19/t/..//t/Util.pm line 34.
Use of uninitialized value in pattern match (m//) at /tmp/build/Fluent-Logger-0.27-19/t/..//t/Util.pm line 34.
t/08_udp.t .......................... skipped: fluentd is not installed.
2018-12-13T20:13:33-0500 Fluent::Logger[94133335100768](127.0.0.1:46571): Can't connect: Connection refused at t/09_buffer_overflow_handler.t line 16.
Use of uninitialized value in length at /tmp/build/Fluent-Logger-0.27-19/blib/lib/Fluent/Logger.pm line 221.
2018-12-13T20:13:33-0500 Fluent::Logger[94133335100768](127.0.0.1:46571): Can't connect: Connection refused at t/09_buffer_overflow_handler.t line 19.
2018-12-13T20:13:33-0500 Fluent::Logger[94133335100768](127.0.0.1:46571): Cannot send data: Connection is not available at /tmp/build/Fluent-Logger-0.27-19/blib/lib/Fluent/Logger.pm line 329. at t/09_buffer_overflow_handler.t line 19.
2018-12-13T20:13:33-0500 Fluent::Logger[94133335100768](127.0.0.1:46571): flushing pending data on close at t/09_buffer_overflow_handler.t line 24.
2018-12-13T20:13:33-0500 Fluent::Logger[94133335100768](127.0.0.1:46571): Can't connect: Connection refused at t/09_buffer_overflow_handler.t line 24.
2018-12-13T20:13:33-0500 Fluent::Logger[94133335100768](127.0.0.1:46571): Can't send pending data. LOST 2097194 bytes.: Connection is not available at /tmp/build/Fluent-Logger-0.27-19/blib/lib/Fluent/Logger.pm line 329. at t/09_buffer_overflow_handler.t line 24.
2018-12-13T20:13:33-0500 Fluent::Logger[94144396438128](127.0.0.1:37905): Can't connect: Connection refused at t/10_truncate_buffet_at_overflow.t line 12.
Use of uninitialized value in length at /tmp/build/Fluent-Logger-0.27-19/blib/lib/Fluent/Logger.pm line 221.
2018-12-13T20:13:33-0500 Fluent::Logger[94144396438128](127.0.0.1:37905): Can't connect: Connection refused at t/10_truncate_buffet_at_overflow.t line 19.
2018-12-13T20:13:33-0500 Fluent::Logger[94144396438128](127.0.0.1:37905): Cannot send data: Connection is not available at /tmp/build/Fluent-Logger-0.27-19/blib/lib/Fluent/Logger.pm line 329. at t/10_truncate_buffet_at_overflow.t line 19.
t/09_buffer_overflow_handler.t ...... ok
2018-12-13T20:13:33-0500 Fluent::Logger[94144396438128](127.0.0.1:37905): Can't connect: Connection refused at t/10_truncate_buffet_at_overflow.t line 23.
2018-12-13T20:13:33-0500 Fluent::Logger[94144396438128](127.0.0.1:37905): Cannot send data: Connection is not available at /tmp/build/Fluent-Logger-0.27-19/blib/lib/Fluent/Logger.pm line 329. at t/10_truncate_buffet_at_overflow.t line 23.
2018-12-13T20:13:33-0500 Fluent::Logger[94144396438128](127.0.0.1:37905): Can't connect: Connection refused at t/10_truncate_buffet_at_overflow.t line 23.
2018-12-13T20:13:33-0500 Fluent::Logger[94144396438128](127.0.0.1:37905): Cannot send data: Connection is not available at /tmp/build/Fluent-Logger-0.27-19/blib/lib/Fluent/Logger.pm line 329. at t/10_truncate_buffet_at_overflow.t line 23.
2018-12-13T20:13:33-0500 Fluent::Logger[94144396438128](127.0.0.1:37905): Can't connect: Connection refused at t/10_truncate_buffet_at_overflow.t line 23.
2018-12-13T20:13:33-0500 Fluent::Logger[94144396438128](127.0.0.1:37905): Cannot send data: Connection is not available at /tmp/build/Fluent-Logger-0.27-19/blib/lib/Fluent/Logger.pm line 329. at t/10_truncate_buffet_at_overflow.t line 23.
2018-12-13T20:13:33-0500 Fluent::Logger[94144396438128](127.0.0.1:37905): Can't connect: Connection refused at t/10_truncate_buffet_at_overflow.t line 23.
2018-12-13T20:13:33-0500 Fluent::Logger[94144396438128](127.0.0.1:37905): Cannot send data: Connection is not available at /tmp/build/Fluent-Logger-0.27-19/blib/lib/Fluent/Logger.pm line 329. at t/10_truncate_buffet_at_overflow.t line 23.
2018-12-13T20:13:33-0500 Fluent::Logger[94144396438128](127.0.0.1:37905): Can't connect: Connection refused at t/10_truncate_buffet_at_overflow.t line 23.
2018-12-13T20:13:33-0500 Fluent::Logger[94144396438128](127.0.0.1:37905): Cannot send data: Connection is not available at /tmp/build/Fluent-Logger-0.27-19/blib/lib/Fluent/Logger.pm line 329. at t/10_truncate_buffet_at_overflow.t line 23.
2018-12-13T20:13:33-0500 Fluent::Logger[94144396438128](127.0.0.1:37905): Can't connect: Connection refused at t/10_truncate_buffet_at_overflow.t line 23.
2018-12-13T20:13:33-0500 Fluent::Logger[94144396438128](127.0.0.1:37905): Cannot send data: Connection is not available at /tmp/build/Fluent-Logger-0.27-19/blib/lib/Fluent/Logger.pm line 329. at t/10_truncate_buffet_at_overflow.t line 23.
2018-12-13T20:13:33-0500 Fluent::Logger[94144396438128](127.0.0.1:37905): Can't connect: Connection refused at t/10_truncate_buffet_at_overflow.t line 23.
2018-12-13T20:13:33-0500 Fluent::Logger[94144396438128](127.0.0.1:37905): Cannot send data: Connection is not available at /tmp/build/Fluent-Logger-0.27-19/blib/lib/Fluent/Logger.pm line 329. at t/10_truncate_buffet_at_overflow.t line 23.
2018-12-13T20:13:33-0500 Fluent::Logger[94144396438128](127.0.0.1:37905): Can't connect: Connection refused at t/10_truncate_buffet_at_overflow.t line 23.
2018-12-13T20:13:33-0500 Fluent::Logger[94144396438128](127.0.0.1:37905): Cannot send data: Connection is not available at /tmp/build/Fluent-Logger-0.27-19/blib/lib/Fluent/Logger.pm line 329. at t/10_truncate_buffet_at_overflow.t line 23.
2018-12-13T20:13:33-0500 Fluent::Logger[94144396438128](127.0.0.1:37905): flushing pending data on close at t/10_truncate_buffet_at_overflow.t line 29.
2018-12-13T20:13:33-0500 Fluent::Logger[94144396438128](127.0.0.1:37905): Can't connect: Connection refused at t/10_truncate_buffet_at_overflow.t line 29.
2018-12-13T20:13:33-0500 Fluent::Logger[94144396438128](127.0.0.1:37905): Can't send pending data. LOST 7340179 bytes.: Connection is not available at /tmp/build/Fluent-Logger-0.27-19/blib/lib/Fluent/Logger.pm line 329. at t/10_truncate_buffet_at_overflow.t line 29.
t/10_truncate_buffet_at_overflow.t .. ok
Can't exec "fluentd": No such file or directory at /tmp/build/Fluent-Logger-0.27-19/t/..//t/Util.pm line 34.
Use of uninitialized value in pattern match (m//) at /tmp/build/Fluent-Logger-0.27-19/t/..//t/Util.pm line 34.
t/11_retry_immediately.t ............ skipped: fluentd is not installed.
All tests successful.
Files=12, Tests=35,  3 wallclock secs ( 0.06 usr  0.03 sys +  2.10 cusr  0.53 csys =  2.72 CPU)
Result: PASS

------------------------------
PREREQUISITES
------------------------------

Prerequisite modules loaded:

requires:

    Module                    Need    Have    
    ------------------------- ------- --------
    Class::Tiny               0       1.006   
    Data::MessagePack         0.35_01 1.00    
    Data::MessagePack::Stream 0       1.04    
    Time::Piece               0       1.33    
    UUID::Tiny                0       1.04    

build_requires:

    Module                    Need    Have    
    ------------------------- ------- --------
    Capture::Tiny             0       0.48    
    ExtUtils::MakeMaker       6.36    7.34    
    Path::Class               0       0.37    
    Test::More                0.88    1.302136
    Test::SharedFork          0       0.35    
    Test::TCP                 1.3     2.19    
    version                   0.77    0.9924  

configure_requires:

    Module                    Need    Have    
    ------------------------- ------- --------
    Module::Build::Tiny       0.035   0.039   


------------------------------
ENVIRONMENT AND OTHER CONTEXT
------------------------------

Environment variables:

    AUTOMATED_TESTING = 1
    HARNESS_OPTIONS = j2
    LANG = en_US.UTF-8
    PATH = /home/njh/perl5/perlbrew/bin:/home/njh/perl5/perlbrew/perls/perl-5.8.9/bin:/home/njh/src/njh/smoker/bin:/usr/bin:/bin
    PERL5LIB = /tmp/build/UUID-Tiny-1.04-20/blib/arch:/tmp/build/UUID-Tiny-1.04-20/blib/lib:/tmp/build/Time-Piece-1.33-1/blib/arch:/tmp/build/Time-Piece-1.33-1/blib/lib:/tmp/build/Test-TCP-2.19-34/blib/arch:/tmp/build/Test-TCP-2.19-34/blib/lib:/tmp/build/IO-Socket-IP-0.39-49/blib/arch:/tmp/build/IO-Socket-IP-0.39-49/blib/lib:/tmp/build/Socket-2.027-6/blib/arch:/tmp/build/Socket-2.027-6/blib/lib:/tmp/build/ExtUtils-Constant-0.25-5/blib/arch:/tmp/build/ExtUtils-Constant-0.25-5/blib/lib:/tmp/build/Test-SharedFork-0.35-20/blib/arch:/tmp/build/Test-SharedFork-0.35-20/blib/lib:/tmp/build/Path-Class-0.37-19/blib/arch:/tmp/build/Path-Class-0.37-19/blib/lib:/tmp/build/Data-MessagePack-Stream-1.04-19/blib/arch:/tmp/build/Data-MessagePack-Stream-1.04-19/blib/lib:/tmp/build/Module-Build-XSUtil-0.19-23/blib/arch:/tmp/build/Module-Build-XSUtil-0.19-23/blib/lib:/tmp/build/File-Copy-Recursive-Reduced-0.006-23/blib/arch:/tmp/build/File-Copy-Recursive-Reduced-0.006-23/blib/lib:/tmp/build/Devel-CheckCompiler-0.07-23/blib/arch:/tmp/build/Devel-CheckCompiler-0.07-23/blib/lib:/tmp/build/Cwd-Guard-0.05-23/blib/arch:/tmp/build/Cwd-Guard-0.05-23/blib/lib:/tmp/build/Data-MessagePack-1.00-19/blib/arch:/tmp/build/Data-MessagePack-1.00-19/blib/lib:/tmp/build/Test-Requires-0.10-64/blib/arch:/tmp/build/Test-Requires-0.10-64/blib/lib:/tmp/build/Devel-PPPort-3.43-16/blib/arch:/tmp/build/Devel-PPPort-3.43-16/blib/lib:/tmp/build/AnyEvent-7.14-31/blib/arch:/tmp/build/AnyEvent-7.14-31/blib/lib:/tmp/build/Canary-Stability-2012-13/blib/arch:/tmp/build/Canary-Stability-2012-13/blib/lib
    PERL5OPT = 
    PERL5_CPANPLUS_IS_RUNNING = 23167
    PERL5_CPAN_IS_RUNNING = 23167
    PERLBREW_HOME = /home/njh/.perlbrew
    PERLBREW_MANPATH = /home/njh/perl5/perlbrew/perls/perl-5.8.9/man
    PERLBREW_PATH = /home/njh/perl5/perlbrew/bin:/home/njh/perl5/perlbrew/perls/perl-5.8.9/bin
    PERLBREW_PERL = perl-5.8.9
    PERLBREW_ROOT = /home/njh/perl5/perlbrew
    PERLBREW_SHELLRC_VERSION = 0.83
    PERLBREW_VERSION = 0.83
    SHELL = /bin/sh
    TEMP = /tmp/user/1000
    TMPDIR = /tmp/user/1000/testwrapper.23153

Perl special variables (and OS-specific diagnostics, for MSWin32):

    $^X = /home/njh/perl5/perlbrew/perls/perl-5.8.9/bin/perl
    $UID/$EUID = 1000 / 1000
    $GID = 1000 4 24 25 29 30 44 46 103 108 115 123 996 1000
    $EGID = 1000 4 24 25 29 30 44 46 103 108 115 123 996 1000

Perl module toolchain versions installed:

    Module              Have    
    ------------------- --------
    CPAN                2.16    
    CPAN::Meta          2.143240
    Cwd                 3.74    
    ExtUtils::CBuilder  0.280230
    ExtUtils::Command   7.34    
    ExtUtils::Install   2.06    
    ExtUtils::MakeMaker 7.34    
    ExtUtils::Manifest  1.70    
    ExtUtils::ParseXS   3.35    
    File::Spec          3.74    
    JSON                2.97001 
    JSON::PP            2.97001 
    Module::Build       0.4224  
    Module::Signature   n/a     
    Parse::CPAN::Meta   1.4414  
    Test::Harness       3.42    
    Test::More          1.302136
    YAML                1.27    
    YAML::Syck          1.31    
    version             0.9924  


--

Summary of my perl5 (revision 5 version 8 subversion 9) configuration:
  Platform:
    osname=linux, osvers=4.16.0-1-amd64, archname=x86_64-linux
    uname='linux amelia 4.16.0-1-amd64 #1 smp debian 4.16.5-1 (2018-04-29) x86_64 gnulinux '
    config_args='-de -Dprefix=/home/njh/perl5/perlbrew/perls/perl-5.8.9 -Aeval:scriptdir=/home/njh/perl5/perlbrew/perls/perl-5.8.9/bin'
    hint=recommended, useposix=true, d_sigaction=define
    usethreads=undef use5005threads=undef useithreads=undef usemultiplicity=undef
    useperlio=define d_sfio=undef uselargefiles=define usesocks=undef
    use64bitint=define use64bitall=define uselongdouble=undef
    usemymalloc=n, bincompat5005=undef
  Compiler:
    cc='cc', ccflags ='-fno-strict-aliasing -pipe -I/usr/local/include -D_LARGEFILE_SOURCE -D_FILE_OFFSET_BITS=64',
    optimize='-O2',
    cppflags='-fno-strict-aliasing -pipe -I/usr/local/include'
    ccversion='', gccversion='7.3.0', gccosandvers=''
    intsize=4, longsize=8, ptrsize=8, doublesize=8, byteorder=12345678
    d_longlong=define, longlongsize=8, d_longdbl=define, longdblsize=16
    ivtype='long', ivsize=8, nvtype='double', nvsize=8, Off_t='off_t', lseeksize=8
    alignbytes=8, prototype=define
  Linker and Libraries:
    ld='cc', ldflags =' -L/usr/local/lib'
    libpth=/usr/local/lib /lib/x86_64-linux-gnu /lib/../lib /usr/lib/x86_64-linux-gnu /usr/lib/../lib /lib /usr/lib /lib64 /usr/lib64
    libs=-lnsl -lgdbm -ldb -ldl -lm -lcrypt -lutil -lc
    perllibs=-lnsl -ldl -lm -lcrypt -lutil -lc
    libc=libc-2.27.so, so=so, useshrplib=false, libperl=libperl.a
    gnulibc_version='2.27'
  Dynamic Linking:
    dlsrc=dl_dlopen.xs, dlext=so, d_dlsymun=undef, ccdlflags='-Wl,-E'
    cccdlflags='-fPIC', lddlflags='-shared -O2 -L/usr/local/lib'


Characteristics of this binary (from libperl): 
  Compile-time options: PERL_MALLOC_WRAP USE_64_BIT_ALL USE_64_BIT_INT
                        USE_FAST_STDIO USE_LARGE_FILES USE_PERLIO
  Locally applied patches:
	Devel::PatchPerl 1.48
  Built under linux
  Compiled at Jun 16 2018 07:39:02
  %ENV:
    PERL5LIB="/tmp/build/UUID-Tiny-1.04-20/blib/arch:/tmp/build/UUID-Tiny-1.04-20/blib/lib:/tmp/build/Time-Piece-1.33-1/blib/arch:/tmp/build/Time-Piece-1.33-1/blib/lib:/tmp/build/Test-TCP-2.19-34/blib/arch:/tmp/build/Test-TCP-2.19-34/blib/lib:/tmp/build/IO-Socket-IP-0.39-49/blib/arch:/tmp/build/IO-Socket-IP-0.39-49/blib/lib:/tmp/build/Socket-2.027-6/blib/arch:/tmp/build/Socket-2.027-6/blib/lib:/tmp/build/ExtUtils-Constant-0.25-5/blib/arch:/tmp/build/ExtUtils-Constant-0.25-5/blib/lib:/tmp/build/Test-SharedFork-0.35-20/blib/arch:/tmp/build/Test-SharedFork-0.35-20/blib/lib:/tmp/build/Path-Class-0.37-19/blib/arch:/tmp/build/Path-Class-0.37-19/blib/lib:/tmp/build/Data-MessagePack-Stream-1.04-19/blib/arch:/tmp/build/Data-MessagePack-Stream-1.04-19/blib/lib:/tmp/build/Module-Build-XSUtil-0.19-23/blib/arch:/tmp/build/Module-Build-XSUtil-0.19-23/blib/lib:/tmp/build/File-Copy-Recursive-Reduced-0.006-23/blib/arch:/tmp/build/File-Copy-Recursive-Reduced-0.006-23/blib/lib:/tmp/build/Devel-CheckCompiler-0.07-23/blib/arch:/tmp/build/Devel-CheckCompiler-0.07-23/blib/lib:/tmp/build/Cwd-Guard-0.05-23/blib/arch:/tmp/build/Cwd-Guard-0.05-23/blib/lib:/tmp/build/Data-MessagePack-1.00-19/blib/arch:/tmp/build/Data-MessagePack-1.00-19/blib/lib:/tmp/build/Test-Requires-0.10-64/blib/arch:/tmp/build/Test-Requires-0.10-64/blib/lib:/tmp/build/Devel-PPPort-3.43-16/blib/arch:/tmp/build/Devel-PPPort-3.43-16/blib/lib:/tmp/build/AnyEvent-7.14-31/blib/arch:/tmp/build/AnyEvent-7.14-31/blib/lib:/tmp/build/Canary-Stability-2012-13/blib/arch:/tmp/build/Canary-Stability-2012-13/blib/lib"
    PERL5OPT=""
    PERL5_CPANPLUS_IS_RUNNING="23167"
    PERL5_CPAN_IS_RUNNING="23167"
    PERLBREW_HOME="/home/njh/.perlbrew"
    PERLBREW_MANPATH="/home/njh/perl5/perlbrew/perls/perl-5.8.9/man"
    PERLBREW_PATH="/home/njh/perl5/perlbrew/bin:/home/njh/perl5/perlbrew/perls/perl-5.8.9/bin"
    PERLBREW_PERL="perl-5.8.9"
    PERLBREW_ROOT="/home/njh/perl5/perlbrew"
    PERLBREW_SHELLRC_VERSION="0.83"
    PERLBREW_VERSION="0.83"
  @INC:
    /tmp/build/UUID-Tiny-1.04-20/blib/arch
    /tmp/build/UUID-Tiny-1.04-20/blib/lib
    /tmp/build/Time-Piece-1.33-1/blib/arch
    /tmp/build/Time-Piece-1.33-1/blib/lib
    /tmp/build/Test-TCP-2.19-34/blib/arch
    /tmp/build/Test-TCP-2.19-34/blib/lib
    /tmp/build/IO-Socket-IP-0.39-49/blib/arch
    /tmp/build/IO-Socket-IP-0.39-49/blib/lib
    /tmp/build/Socket-2.027-6/blib/arch
    /tmp/build/Socket-2.027-6/blib/lib
    /tmp/build/ExtUtils-Constant-0.25-5/blib/arch
    /tmp/build/ExtUtils-Constant-0.25-5/blib/lib
    /tmp/build/Test-SharedFork-0.35-20/blib/arch
    /tmp/build/Test-SharedFork-0.35-20/blib/lib
    /tmp/build/Path-Class-0.37-19/blib/arch
    /tmp/build/Path-Class-0.37-19/blib/lib
    /tmp/build/Data-MessagePack-Stream-1.04-19/blib/arch
    /tmp/build/Data-MessagePack-Stream-1.04-19/blib/lib
    /tmp/build/Module-Build-XSUtil-0.19-23/blib/arch
    /tmp/build/Module-Build-XSUtil-0.19-23/blib/lib
    /tmp/build/File-Copy-Recursive-Reduced-0.006-23/blib/arch
    /tmp/build/File-Copy-Recursive-Reduced-0.006-23/blib/lib
    /tmp/build/Devel-CheckCompiler-0.07-23/blib/arch
    /tmp/build/Devel-CheckCompiler-0.07-23/blib/lib
    /tmp/build/Cwd-Guard-0.05-23/blib/arch
    /tmp/build/Cwd-Guard-0.05-23/blib/lib
    /tmp/build/Data-MessagePack-1.00-19/blib/arch
    /tmp/build/Data-MessagePack-1.00-19/blib/lib
    /tmp/build/Test-Requires-0.10-64/blib/arch
    /tmp/build/Test-Requires-0.10-64/blib/lib
    /tmp/build/Devel-PPPort-3.43-16/blib/arch
    /tmp/build/Devel-PPPort-3.43-16/blib/lib
    /tmp/build/AnyEvent-7.14-31/blib/arch
    /tmp/build/AnyEvent-7.14-31/blib/lib
    /tmp/build/Canary-Stability-2012-13/blib/arch
    /tmp/build/Canary-Stability-2012-13/blib/lib
    /home/njh/perl5/perlbrew/perls/perl-5.8.9/lib/5.8.9/x86_64-linux
    /home/njh/perl5/perlbrew/perls/perl-5.8.9/lib/5.8.9
    /home/njh/perl5/perlbrew/perls/perl-5.8.9/lib/site_perl/5.8.9/x86_64-linux
    /home/njh/perl5/perlbrew/perls/perl-5.8.9/lib/site_perl/5.8.9
    .