Template-Mustache v1.1.0 Perl 5 v5.22.1 amd64-freebsd

Status
Pass
From
Slaven Rezić (SREZIC)
Dist
Template-Mustache v1.1.0
Platform
Perl 5 v5.22.1 amd64-freebsd
Date
2017-09-28 01:08:03
ID
7a79487a-a3e9-11e7-a80d-8fda9904ca6b
This distribution has been tested as part of the CPAN Testers
project, supporting the Perl programming language.  See
http://wiki.cpantesters.org/ for more information or email
questions to cpan-testers-discuss@perl.org


--
Dear Yanick Champoux,

This is a computer-generated report for Template-Mustache-1.1.0
on perl 5.22.1, created by CPAN-Reporter-1.2018.

Thank you for uploading your work to CPAN.  Congratulations!
All tests were successful.

Sections of this report:

    * Tester comments
    * Program output
    * Prerequisites
    * Environment and other context

------------------------------
TESTER COMMENTS
------------------------------

Additional comments from tester:

none provided

------------------------------
PROGRAM OUTPUT
------------------------------

Output from '/usr/bin/make test':

PERL_DL_NONLAZY=1 "/usr/perl5.22.1p/bin/perl5.22.1" "-MExtUtils::Command::MM" "-MTest::Harness" "-e" "undef *Test::Harness::Switches; test_harness(0, 'blib/lib', 'blib/arch')" t/*.t
t/00-compile.t ......................... ok
# 
# Versions for all modules listed in MYMETA.json (including optional ones):
# 
# === Configure Requires ===
# 
#     Module              Want Have
#     ------------------- ---- ----
#     ExtUtils::MakeMaker  any 7.24
# 
# === Build Requires ===
# 
#     Module              Want Have
#     ------------------- ---- ----
#     ExtUtils::MakeMaker  any 7.24
# 
# === Test Requires ===
# 
#     Module              Want     Have
#     ------------------- ---- --------
#     ExtUtils::MakeMaker  any     7.24
#     File::Spec           any     3.62
#     File::Temp           any   0.2304
#     IO::Handle           any     1.35
#     IPC::Open3           any     1.18
#     Test::Exception      any     0.43
#     Test::More          0.88 1.302096
#     Test::Most           any     0.35
#     Test::Requires       any     0.10
#     base                 any     2.22
# 
# === Test Recommends ===
# 
#     Module         Want     Have
#     ---------- -------- --------
#     CPAN::Meta 2.120900 2.150010
# 
# === Runtime Requires ===
# 
#     Module                Want     Have
#     ----------------- -------- --------
#     Carp                   any     1.38
#     Escape::Houdini        any    0.3.0
#     List::AllUtils         any     0.13
#     Moo                    any 2.003002
#     MooseX::MungeHas       any    0.008
#     Parse::RecDescent 1.967015 1.967015
#     Path::Tiny             any    0.104
#     Scalar::Util           any     1.49
#     Text::Balanced         any     2.03
#     YAML::XS               any     0.65
#     autodie                any     2.29
#     strict                 any     1.09
#     vars                   any     1.03
#     warnings               any     1.34
# 
t/00-report-prereqs.t .................. ok
t/001_spec_compatibility.t ............. skipped: Couldn't find specs; try running `git submodule update --init`
t/basic.t .............................. ok
t/lambdas_receive_render_helper.t ...... ok
t/moose-trait.t ........................ ok

       ERROR (line 3): Invalid template: Was expecting eofile but found
                       "{{#section}}" instead

       ERROR (line 2): Invalid template: Was expecting eofile but found
                       "{{#a}}" instead

       ERROR (line 3): Invalid template: Was expecting eofile but found
                       "{{/section}}" instead

       ERROR (line 1): Invalid template: Was expecting eofile but found "{{%
                       something }}" instead
t/parse_errors.t ....................... ok
t/partials.t ........................... ok
t/read_data_from_classes.t ............. ok
t/read_data_from_hashes.t .............. ok
t/read_data_from_instances.t ........... ok
t/read_data_from_subclass.t ............ ok
t/read_partials_from_file_system.t ..... ok
t/read_partials_from_hashes.t .......... ok
t/read_partials_from_partial_method.t .. ok
t/read_partials_from_subs.t ............ ok
t/read_templates_from_file_system.t .... ok
t/read_templates_from_subclass.t ....... ok

       ERROR (line 1): Invalid template: Was expecting eofile but found
                       "{{#foo}}{{.}}{{#/foo}}" instead
t/sections.t ........................... ok
t/variable-resolution.t ................ ok
All tests successful.
Files=20, Tests=49, 10 wallclock secs ( 0.00 usr  0.10 sys +  0.79 cusr  2.09 csys =  2.98 CPU)
Result: PASS

------------------------------
PREREQUISITES
------------------------------

Prerequisite modules loaded:

requires:

    Module              Need     Have    
    ------------------- -------- --------
    autodie             0        2.29    
    Carp                0        1.38    
    Escape::Houdini     0        0.3.0   
    List::AllUtils      0        0.13    
    Moo                 0        2.003002
    MooseX::MungeHas    0        0.008   
    Parse::RecDescent   1.967015 1.967015
    Path::Tiny          0        0.104   
    perl                5.012000 5.022001
    Scalar::Util        0        1.49    
    strict              0        1.09    
    Text::Balanced      0        2.03    
    vars                0        1.03    
    warnings            0        1.34    
    YAML::XS            0        0.65    

build_requires:

    Module              Need     Have    
    ------------------- -------- --------
    base                0        2.22    
    ExtUtils::MakeMaker 0        7.24    
    File::Spec          0        3.62    
    File::Temp          0        0.2304  
    IO::Handle          0        1.35    
    IPC::Open3          0        1.18    
    Test::Exception     0        0.43    
    Test::More          0.88     1.302096
    Test::Most          0        0.35    
    Test::Requires      0        0.10    

configure_requires:

    Module              Need     Have    
    ------------------- -------- --------
    ExtUtils::MakeMaker 0        7.24    


------------------------------
ENVIRONMENT AND OTHER CONTEXT
------------------------------

Environment variables:

    LC_ALL = de_DE.ISO8859-1
    PATH = /usr/local/bin:/usr/bin:/bin:/usr/local/sbin:/usr/sbin:/sbin:/home/cpansand/bin/freebsd10.3:/home/cpansand/bin/sh:/home/cpansand/bin:/usr/games:/home/cpansand/devel:/home/eserte/src/srezic-misc/scripts
    PERL5LIB = 
    PERL5OPT = 
    PERL5_CPANPLUS_IS_RUNNING = 49752
    PERL5_CPAN_IS_RUNNING = 49752
    PERL5_CPAN_IS_RUNNING_IN_RECURSION = 49677,49752
    PERLDOC = -MPod::Perldoc::ToTextOverstrike
    PERL_BATCH = yes
    PERL_CANARY_STABILITY_NOPROMPT = 1
    PERL_CPAN_REPORTER_CONFIG = /var/tmp/cpansmoker-1023/2017092803/cpanreporter_000_config.ini
    PERL_EXTUTILS_AUTOINSTALL = --defaultdeps
    SHELL = /usr/local/bin/zsh
    TERM = screen
    TMPDIR = /var/tmp/cpansmoker-1023/2017092803

Perl special variables (and OS-specific diagnostics, for MSWin32):

    $^X = /usr/perl5.22.1p/bin/perl5.22.1
    $UID/$EUID = 1023 / 1023
    $GID = 1023 1023
    $EGID = 1023 1023

Perl module toolchain versions installed:

    Module              Have    
    ------------------- --------
    CPAN                2.16    
    CPAN::Meta          2.150010
    Cwd                 3.62    
    ExtUtils::CBuilder  0.280226
    ExtUtils::Command   7.24    
    ExtUtils::Install   2.14    
    ExtUtils::MakeMaker 7.24    
    ExtUtils::Manifest  1.70    
    ExtUtils::ParseXS   3.30    
    File::Spec          3.62    
    JSON                2.94    
    JSON::PP            2.94    
    Module::Build       0.4224  
    Module::Signature   0.79    
    Parse::CPAN::Meta   2.150010
    Test::Harness       3.38    
    Test::More          1.302096
    YAML                1.23    
    YAML::Syck          1.29    
    version             0.9917  


--

Summary of my perl5 (revision 5 version 22 subversion 1) configuration:
   
  Platform:
    osname=freebsd, osvers=10.1-release, archname=amd64-freebsd
    uname='freebsd cvrsnica-freebsd-101.herceg.de 10.1-release freebsd 10.1-release #0 r274401: tue nov 11 21:02:49 utc 2014 root@releng1.nyi.freebsd.org:usrobjusrsrcsysgeneric amd64 '
    config_args='-ds -e -Dprefix=/usr/perl5.22.1p -Dcf_email=srezic@cpan.org'
    hint=recommended, useposix=true, d_sigaction=define
    useithreads=undef, usemultiplicity=undef
    use64bitint=define, use64bitall=define, uselongdouble=undef
    usemymalloc=n, bincompat5005=undef
  Compiler:
    cc='cc', ccflags ='-DHAS_FPSETMASK -DHAS_FLOATINGPOINT_H -fno-strict-aliasing -pipe -fstack-protector -I/usr/local/include -D_FORTIFY_SOURCE=2',
    optimize='-O',
    cppflags='-DHAS_FPSETMASK -DHAS_FLOATINGPOINT_H -fno-strict-aliasing -pipe -fstack-protector -I/usr/local/include'
    ccversion='', gccversion='4.2.1 Compatible FreeBSD Clang 3.4.1 (tags/RELEASE_34/dot1-final 208032)', gccosandvers=''
    intsize=4, longsize=8, ptrsize=8, doublesize=8, byteorder=12345678, doublekind=3
    d_longlong=define, longlongsize=8, d_longdbl=define, longdblsize=16, longdblkind=3
    ivtype='long', ivsize=8, nvtype='double', nvsize=8, Off_t='off_t', lseeksize=8
    alignbytes=8, prototype=define
  Linker and Libraries:
    ld='cc', ldflags ='-pthread -Wl,-E  -fstack-protector -L/usr/local/lib'
    libpth=/usr/lib /usr/local/lib /usr/include/clang/3.4.1 /usr/lib
    libs=-lpthread -lgdbm -lm -lcrypt -lutil -lc
    perllibs=-lpthread -lm -lcrypt -lutil -lc
    libc=, so=so, useshrplib=false, libperl=libperl.a
    gnulibc_version=''
  Dynamic Linking:
    dlsrc=dl_dlopen.xs, dlext=so, d_dlsymun=undef, ccdlflags=' '
    cccdlflags='-DPIC -fPIC', lddlflags='-shared  -L/usr/local/lib -fstack-protector'


Characteristics of this binary (from libperl): 
  Compile-time options: HAS_TIMES PERLIO_LAYERS PERL_DONT_CREATE_GVSV
                        PERL_HASH_FUNC_ONE_AT_A_TIME_HARD PERL_MALLOC_WRAP
                        PERL_NEW_COPY_ON_WRITE PERL_PRESERVE_IVUV
                        USE_64_BIT_ALL USE_64_BIT_INT USE_LARGE_FILES
                        USE_LOCALE USE_LOCALE_COLLATE USE_LOCALE_CTYPE
                        USE_LOCALE_NUMERIC USE_LOCALE_TIME USE_PERLIO
                        USE_PERL_ATOF
  Built under freebsd
  Compiled at Dec 15 2015 07:47:22
  %ENV:
    PERL5LIB=""
    PERL5OPT=""
    PERL5_CPANPLUS_IS_RUNNING="49752"
    PERL5_CPAN_IS_RUNNING="49752"
    PERL5_CPAN_IS_RUNNING_IN_RECURSION="49677,49752"
    PERLDOC="-MPod::Perldoc::ToTextOverstrike"
    PERL_BATCH="yes"
    PERL_CANARY_STABILITY_NOPROMPT="1"
    PERL_CPAN_REPORTER_CONFIG="/var/tmp/cpansmoker-1023/2017092803/cpanreporter_000_config.ini"
    PERL_EXTUTILS_AUTOINSTALL="--defaultdeps"
  @INC:
    /usr/perl5.22.1p/lib/site_perl/5.22.1/amd64-freebsd
    /usr/perl5.22.1p/lib/site_perl/5.22.1
    /usr/perl5.22.1p/lib/5.22.1/amd64-freebsd
    /usr/perl5.22.1p/lib/5.22.1
    .