POE v1.367 Perl 5 v5.24.1 x86_64-linux

Status
Pass
From
Dist
POE v1.367
Platform
Perl 5 v5.24.1 x86_64-linux
Date
2018-03-21 15:49:45
ID
7a54a85c-2d1f-11e8-9115-9f47f3f0d6ae
This distribution has been tested as part of the CPAN Testers
project, supporting the Perl programming language.  See
http://wiki.cpantesters.org/ for more information or email
questions to cpan-testers-discuss@perl.org


--
Dear Rocco Caputo,

This is a computer-generated report for POE-1.367
on perl 5.24.1, created by CPAN-Reporter-1.2018.

Thank you for uploading your work to CPAN.  Congratulations!
All tests were successful.

Sections of this report:

    * Tester comments
    * Program output
    * Prerequisites
    * Environment and other context

------------------------------
TESTER COMMENTS
------------------------------

Additional comments from tester:

this report is from an automated smoke testing program
and was not reviewed by a human for accuracy

------------------------------
PROGRAM OUTPUT
------------------------------

Output from '/usr/bin/make test':

"/usr/bin/perl" mylib/gen-tests.perl lib/POE.pm
PERL_DL_NONLAZY=1 "/usr/bin/perl" "-MExtUtils::Command::MM" "-MTest::Harness" "-e" "undef *Test::Harness::Switches; test_harness(0, 'blib/lib', 'blib/arch')" t/*.t t/*/*.t t/*/*/*.t
# Testing POE 1.367, POE::Test::Loops 1.360, Perl 5.024001, /usr/bin/perl on linux
# pogomips: 5915912
t/00_info.t ........................................ ok
t/10_units/01_pod/01_pod.t ......................... skipped: enable by setting RELEASE_TESTING
t/10_units/01_pod/02_pod_coverage.t ................ skipped: enable by setting RELEASE_TESTING
t/10_units/01_pod/03_pod_no404s.t .................. skipped: enable by setting RELEASE_TESTING
t/10_units/01_pod/04_pod_linkcheck.t ............... skipped: enable by setting RELEASE_TESTING
t/10_units/02_pipes/01_base.t ...................... skipped: not implemented yet
t/10_units/02_pipes/02_oneway.t .................... ok
t/10_units/02_pipes/03_twoway.t .................... ok
t/10_units/03_base/01_poe.t ........................ ok
t/10_units/03_base/03_component.t .................. ok
t/10_units/03_base/04_driver.t ..................... ok
t/10_units/03_base/05_filter.t ..................... ok
t/10_units/03_base/06_loop.t ....................... ok
t/10_units/03_base/07_queue.t ...................... ok
t/10_units/03_base/08_resource.t ................... ok
t/10_units/03_base/09_resources.t .................. ok
t/10_units/03_base/10_wheel.t ...................... ok
t/10_units/03_base/11_assert_usage.t ............... ok
t/10_units/03_base/12_assert_retval.t .............. ok
t/10_units/03_base/13_assert_data.t ................ ok
t/10_units/03_base/14_kernel.t ..................... ok
t/10_units/03_base/15_kernel_internal.t ............ ok
t/10_units/03_base/16_nfa_usage.t .................. ok
t/10_units/03_base/17_detach_start.t ............... ok
t/10_units/04_drivers/01_sysrw.t ................... ok
t/10_units/05_filters/01_block.t ................... ok
t/10_units/05_filters/02_grep.t .................... ok
Downgrading wide characters in HTTP header. Consider installing Email::MIME::RFC2047::Encoder at /var/tmp/CPAN/POE-1.367-0/blib/lib/POE/Filter/HTTPD.pm line 73.
	POE::Filter::HTTPD::__ANON__("En \x{e9}t\x{e9}") called at /var/tmp/CPAN/POE-1.367-0/blib/lib/POE/Filter/HTTPD.pm line 449
	POE::Filter::HTTPD::headers_as_strings(POE::Filter::HTTPD=ARRAY(0x126e8a0), HTTP::Headers=HASH(0x11edca8), "\x{d}\x{a}") called at /var/tmp/CPAN/POE-1.367-0/blib/lib/POE/Filter/HTTPD.pm line 411
	POE::Filter::HTTPD::put(POE::Filter::HTTPD=ARRAY(0x126e8a0), ARRAY(0x126f050)) called at t/10_units/05_filters/03_http.t line 426
t/10_units/05_filters/03_http.t .................... ok
t/10_units/05_filters/04_line.t .................... ok
t/10_units/05_filters/05_map.t ..................... ok
t/10_units/05_filters/06_recordblock.t ............. ok
t/10_units/05_filters/07_reference.t ............... ok
t/10_units/05_filters/08_stream.t .................. ok
t/10_units/05_filters/50_stackable.t ............... ok
t/10_units/05_filters/51_reference_die.t ........... ok
t/10_units/05_filters/99_filterchange.t ............ ok
t/10_units/06_queues/01_array.t .................... ok
t/10_units/07_exceptions/01_normal.t ............... ok
t/10_units/07_exceptions/02_turn_off.t ............. ok
t/10_units/07_exceptions/03_not_handled.t .......... ok
t/10_units/08_loops/01_explicit_loop.t ............. ok
t/10_units/08_loops/02_explicit_loop_fail.t ........ ok
t/10_units/08_loops/03_explicit_loop_poll.t ........ ok
t/10_units/08_loops/04_explicit_loop_envvar.t ...... ok
t/10_units/08_loops/05_kernel_loop.t ............... ok
t/10_units/08_loops/06_kernel_loop_poll.t .......... ok
t/10_units/08_loops/07_kernel_loop_fail.t .......... ok
t/10_units/08_loops/08_kernel_loop_search_poll.t ... ok
t/10_units/08_loops/09_naive_loop_load.t ........... ok
t/10_units/08_loops/10_naive_loop_load_poll.t ...... ok
t/10_units/08_loops/11_double_loop.t ............... ok
t/20_resources/10_perl/aliases.t ................... ok
t/20_resources/10_perl/caller_state.t .............. ok
t/20_resources/10_perl/events.t .................... ok
t/20_resources/10_perl/extrefs.t ................... ok
t/20_resources/10_perl/extrefs_gc.t ................ ok
t/20_resources/10_perl/filehandles.t ............... ok
t/20_resources/10_perl/sessions.t .................. ok
t/20_resources/10_perl/sids.t ...................... ok
t/20_resources/10_perl/signals.t ................... ok
# Testing POE 1.367, POE::Test::Loops 1.360, Using Loop(POE::Loop::IO_Poll), Perl 5.024001, /usr/bin/perl on linux
t/30_loops/io_poll/00_info.t ....................... ok
t/30_loops/io_poll/all_errors.t .................... skipped: most of these should move into other test files
t/30_loops/io_poll/comp_tcp.t ...................... ok
# You might see a 'disconnect' error during this test.
# It may be ignored.
t/30_loops/io_poll/comp_tcp_concurrent.t ........... ok
t/30_loops/io_poll/connect_errors.t ................ ok
t/30_loops/io_poll/k_alarms.t ...................... ok
t/30_loops/io_poll/k_aliases.t ..................... ok
t/30_loops/io_poll/k_detach.t ...................... ok
t/30_loops/io_poll/k_run_returns.t ................. ok
t/30_loops/io_poll/k_selects.t ..................... ok
t/30_loops/io_poll/k_sig_child.t ................... ok
t/30_loops/io_poll/k_signals.t ..................... ok
t/30_loops/io_poll/k_signals_rerun.t ............... ok
t/30_loops/io_poll/sbk_signal_init.t ............... ok
t/30_loops/io_poll/ses_nfa.t ....................... ok
# This test generates some STDERR during trace testing.
=== 9013 === 23 -> _start (from /var/tmp/CPAN/POE-1.367-0/blib/lib/POE/Kernel.pm at 1497)
=== 9013 === 23 -> woot (from /usr/local/lib64/perl5/5.24.1/POE/Test/Loops/ses_session.pm at 691)
=== 9013 === 23 -> narf (from /usr/local/lib64/perl5/5.24.1/POE/Test/Loops/ses_session.pm at 692)
=== 9013 === 23 -> _stop (from /var/tmp/CPAN/POE-1.367-0/blib/lib/POE/Resource/Sessions.pm at 571)
t/30_loops/io_poll/ses_session.t ................... ok
t/30_loops/io_poll/wheel_accept.t .................. ok
t/30_loops/io_poll/wheel_curses.t .................. skipped: Curses not available
t/30_loops/io_poll/wheel_readline.t ................ skipped: not running in a terminal
t/30_loops/io_poll/wheel_readwrite.t ............... ok
t/30_loops/io_poll/wheel_run.t ..................... ok
t/30_loops/io_poll/wheel_run_size.t ................ skipped: This test requires Term::Size
t/30_loops/io_poll/wheel_sf_ipv6.t ................. skipped: Socket::GetAddrInfo is needed for IPv6 tests
t/30_loops/io_poll/wheel_sf_tcp.t .................. ok
t/30_loops/io_poll/wheel_sf_udp.t .................. ok
t/30_loops/io_poll/wheel_sf_unix.t ................. ok
t/30_loops/io_poll/wheel_tail.t .................... ok
t/30_loops/io_poll/z_kogman_sig_order.t ............ ok
t/30_loops/io_poll/z_leolo_wheel_run.t ............. ok
# Using '/bin/true' as our thing to run under system()
t/30_loops/io_poll/z_merijn_sigchld_system.t ....... ok
t/30_loops/io_poll/z_rt39872_sigchld.t ............. ok
# Parent 9052 waiting 3sec for slow systems to settle.
# sending sigusr1
# sent sigusr1
t/30_loops/io_poll/z_rt39872_sigchld_stop.t ........ ok
t/30_loops/io_poll/z_rt53302_fh_watchers.t ......... ok
t/30_loops/io_poll/z_rt54319_bazerka_followtail.t .. ok
t/30_loops/io_poll/z_steinert_signal_integrity.t ... ok
# Testing POE 1.367, POE::Test::Loops 1.360, Using Loop(POE::Loop::Select), Perl 5.024001, /usr/bin/perl on linux
t/30_loops/select/00_info.t ........................ ok
t/30_loops/select/all_errors.t ..................... skipped: most of these should move into other test files
t/30_loops/select/comp_tcp.t ....................... ok
# You might see a 'disconnect' error during this test.
# It may be ignored.
t/30_loops/select/comp_tcp_concurrent.t ............ ok
t/30_loops/select/connect_errors.t ................. ok
t/30_loops/select/k_alarms.t ....................... ok
t/30_loops/select/k_aliases.t ...................... ok
t/30_loops/select/k_detach.t ....................... ok
t/30_loops/select/k_run_returns.t .................. ok
t/30_loops/select/k_selects.t ...................... ok
t/30_loops/select/k_sig_child.t .................... ok
t/30_loops/select/k_signals.t ...................... ok
t/30_loops/select/k_signals_rerun.t ................ ok
t/30_loops/select/sbk_signal_init.t ................ ok
t/30_loops/select/ses_nfa.t ........................ ok
# This test generates some STDERR during trace testing.
=== 9097 === 23 -> _start (from /var/tmp/CPAN/POE-1.367-0/blib/lib/POE/Kernel.pm at 1497)
=== 9097 === 23 -> woot (from /usr/local/lib64/perl5/5.24.1/POE/Test/Loops/ses_session.pm at 691)
=== 9097 === 23 -> narf (from /usr/local/lib64/perl5/5.24.1/POE/Test/Loops/ses_session.pm at 692)
=== 9097 === 23 -> _stop (from /var/tmp/CPAN/POE-1.367-0/blib/lib/POE/Resource/Sessions.pm at 571)
t/30_loops/select/ses_session.t .................... ok
t/30_loops/select/wheel_accept.t ................... ok
t/30_loops/select/wheel_curses.t ................... skipped: Curses not available
t/30_loops/select/wheel_readline.t ................. skipped: not running in a terminal
t/30_loops/select/wheel_readwrite.t ................ ok
t/30_loops/select/wheel_run.t ...................... ok
t/30_loops/select/wheel_run_size.t ................. skipped: This test requires Term::Size
t/30_loops/select/wheel_sf_ipv6.t .................. skipped: Socket::GetAddrInfo is needed for IPv6 tests
t/30_loops/select/wheel_sf_tcp.t ................... ok
t/30_loops/select/wheel_sf_udp.t ................... ok
t/30_loops/select/wheel_sf_unix.t .................. ok
t/30_loops/select/wheel_tail.t ..................... ok
t/30_loops/select/z_kogman_sig_order.t ............. ok
t/30_loops/select/z_leolo_wheel_run.t .............. ok
# Using '/bin/true' as our thing to run under system()
t/30_loops/select/z_merijn_sigchld_system.t ........ ok
t/30_loops/select/z_rt39872_sigchld.t .............. ok
# Parent 9136 waiting 3sec for slow systems to settle.
# sending sigusr1
# sent sigusr1
t/30_loops/select/z_rt39872_sigchld_stop.t ......... ok
t/30_loops/select/z_rt53302_fh_watchers.t .......... ok
t/30_loops/select/z_rt54319_bazerka_followtail.t ... ok
t/30_loops/select/z_steinert_signal_integrity.t .... ok
t/90_regression/agaran-filter-httpd.t .............. ok
t/90_regression/averell-callback-ret.t ............. ok
t/90_regression/bingos-followtail.t ................ ok
t/90_regression/broeren-win32-nbio.t ............... skipped: This test examines ActiveState Perl behavior.
t/90_regression/cfedde-filter-httpd.t .............. ok
t/90_regression/ferrari-server-unix.t .............. ok
t/90_regression/grinnz-die-in-die.t ................ ok
Died at t/90_regression/hinrik-wheel-run-die.t line 21.
t/90_regression/hinrik-wheel-run-die.t ............. ok
# This test can take up to 10 seconds
t/90_regression/kjeldahl-stop-start-polling.t ...... ok
# This test can take up to 10 seconds
t/90_regression/kjeldahl-stop-start-sig-nopipe.t ... ok
# This test can take up to 10 seconds
t/90_regression/kjeldahl-stop-start-sig-pipe.t ..... ok
t/90_regression/leolo-sig-die.t .................... ok
t/90_regression/meh-startstop-return.t ............. ok
t/90_regression/neyuki_detach.t .................... ok
t/90_regression/pipe-followtail.t .................. ok
t/90_regression/prumike-win32-stat.t ............... skipped: This test examines Strawberry/ActiveState Perl behavior.
t/90_regression/rt14444-arg1.t ..................... ok
t/90_regression/rt1648-tied-stderr.t ............... ok
t/90_regression/rt19908-merlyn-stop.t .............. ok
t/90_regression/rt23181-sigchld-rc.t ............... ok
t/90_regression/rt47966-sigchld.t .................. skipped: enable by setting RELEASE_TESTING
t/90_regression/rt56417-wheel-run.t ................ ok
t/90_regression/rt65460-forking.t .................. ok
t/90_regression/socketfactory-timeout.t ............ ok
t/90_regression/somni-poco-server-tcp.t ............ ok
t/90_regression/steinert-passed-wheel.t ............ ok
t/90_regression/suzman_windows.t ................... ok
t/90_regression/ton-stop-corruption.t .............. ok
t/90_regression/tracing-sane-exit.t ................ ok
t/90_regression/whelan-dieprop.t ................... ok
t/90_regression/whjackson-followtail.t ............. ok
All tests successful.

Test Summary Report
-------------------
t/10_units/05_filters/03_http.t                  (Wstat: 0 Tests: 137 Failed: 0)
  TODO passed:   85
Files=161, Tests=4221, 170 wallclock secs ( 1.98 usr  0.52 sys + 73.58 cusr 10.11 csys = 86.19 CPU)
Result: PASS

------------------------------
PREREQUISITES
------------------------------

Prerequisite modules loaded:

requires:

    Module           Need  Have    
    ---------------- ----- --------
    Carp             0     1.40    
    Errno            1.09  1.25    
    Exporter         0     5.72    
    File::Spec       0.87  3.63_01 
    IO               1.24  1.36_01 
    IO::Handle       1.27  1.36    
    IO::Pipely       0.005 0.005   
    IO::Tty          1.08  1.12    
    POE::Test::Loops 1.360 1.360   
    POSIX            1.02  1.65    
    Socket           1.7   2.020_03
    Storable         2.16  2.56_01 
    Test::Harness    2.26  3.42    
    Time::HiRes      1.59  1.9733  

build_requires:

    Module           Need  Have    
    ---------------- ----- --------
    POE::Test::Loops 1.360 1.360   

configure_requires:

    Module           Need  Have    
    ---------------- ----- --------
    POE::Test::Loops 1.360 1.360   


------------------------------
ENVIRONMENT AND OTHER CONTEXT
------------------------------

Environment variables:

    AUTOMATED_TESTING = 1
    NONINTERACTIVE_TESTING = 1
    PATH = /opt/perl5/bin:/images/bin:/opt/bin:/usr/x86_64-pc-linux-gnu/gcc-bin/6.4.0:/usr/lib/llvm/5/bin:/usr/lib/llvm/4/bin:/usr/local/bin:/usr/bin:/bin:/opt/bin
    PERL5LIB = 
    PERL5OPT = 
    PERL5_CPANPLUS_IS_RUNNING = 6861
    PERL5_CPAN_IS_RUNNING = 6861
    PERL_MM_USE_DEFAULT = 1
    TERM = xterm

Perl special variables (and OS-specific diagnostics, for MSWin32):

    $^X = /usr/bin/perl
    $UID/$EUID = 0 / 0
    $GID = 0 0 1 2 3 4 6 10 11 26 27
    $EGID = 0 0 1 2 3 4 6 10 11 26 27

Perl module toolchain versions installed:

    Module              Have      
    ------------------- ----------
    CPAN                2.16      
    CPAN::Meta          2.150010  
    Cwd                 3.63_01   
    ExtUtils::CBuilder  0.280230  
    ExtUtils::Command   7.34      
    ExtUtils::Install   2.06      
    ExtUtils::MakeMaker 7.34      
    ExtUtils::Manifest  1.70      
    ExtUtils::ParseXS   3.31      
    File::Spec          3.63_01   
    JSON                2.97001   
    JSON::PP            2.27300_01
    Module::Build       0.4224    
    Module::Signature   n/a       
    Parse::CPAN::Meta   2.150010  
    Test::Harness       3.42      
    Test::More          1.302133  
    YAML                1.24      
    YAML::Syck          1.30      
    version             0.9916    


--

Summary of my perl5 (revision 5 version 24 subversion 1) configuration:
   
  Platform:
    osname=linux, osvers=4.7.10-hardened-infra32, archname=x86_64-linux
    uname='linux nightheron 4.7.10-hardened-infra32 #1 smp sat oct 29 00:05:28 utc 2016 x86_64 intel(r) xeon(r) cpu e5430 @ 2.66ghz genuineintel gnulinux '
    config_args='-des -Dinstallprefix=/usr -Dinstallusrbinperl=n -Di_ndbm -Di_gdbm -Di_db -DDEBUGGING=none -Dinc_version_list=5.24.0/x86_64-linux 5.24.0  -Dlibpth=/usr/local/lib64 /lib64 /usr/lib64 -Dnoextensions=ODBM_File -Duseshrplib -Darchname=x86_64-linux -Dcc=x86_64-pc-linux-gnu-gcc -Doptimize=-O2 -pipe -Dldflags=-Wl,-O1 -Wl,--as-needed -Dprefix=/usr -Dsiteprefix=/usr/local -Dvendorprefix=/usr -Dscriptdir=/usr/bin -Dprivlib=/usr/lib64/perl5/5.24.1 -Darchlib=/usr/lib64/perl5/5.24.1/x86_64-linux -Dsitelib=/usr/local/lib64/perl5/5.24.1 -Dsitearch=/usr/local/lib64/perl5/5.24.1/x86_64-linux -Dvendorlib=/usr/lib64/perl5/vendor_perl/5.24.1 -Dvendorarch=/usr/lib64/perl5/vendor_perl/5.24.1/x86_64-linux -Dman1dir=/usr/share/man/man1 -Dman3dir=/usr/share/man/man3 -Dsiteman1dir=/usr/local/man/man1 -Dsiteman3dir=/usr/local/man/man3 -Dvendorman1dir=/usr/share/man/man1 -Dvendorman3dir=/usr/share/man/man3 -Dman1ext=1 -Dman3ext=3pm -Dlibperl=libperl.so.5.24.1 -Dlocincpth=/usr/include  -Dglibpth=/lib64 /usr/lib64  -Duselargefiles -Dd_semctl_semun -Dcf_by=Gentoo -Dmyhostname=localhost -Dperladmin=root@localhost -Ud_csh -Dsh=/bin/sh -Dtargetsh=/bin/sh -Uusenm -Di_ndbm -Di_gdbm -Di_db -DDEBUGGING=none -Dinc_version_list=5.24.0/x86_64-linux 5.24.0  -Dlibpth=/usr/local/lib64 /lib64 /usr/lib64 -Dnoextensions=ODBM_File'
    hint=recommended, useposix=true, d_sigaction=define
    useithreads=undef, usemultiplicity=undef
    use64bitint=define, use64bitall=define, uselongdouble=undef
    usemymalloc=n, bincompat5005=undef
  Compiler:
    cc='x86_64-pc-linux-gnu-gcc', ccflags ='-fwrapv -fno-strict-aliasing -pipe -D_LARGEFILE_SOURCE -D_FILE_OFFSET_BITS=64',
    optimize='-O2 -pipe',
    cppflags='-fwrapv -fno-strict-aliasing -pipe'
    ccversion='', gccversion='5.4.0', gccosandvers=''
    intsize=4, longsize=8, ptrsize=8, doublesize=8, byteorder=12345678, doublekind=3
    d_longlong=define, longlongsize=8, d_longdbl=define, longdblsize=16, longdblkind=3
    ivtype='long', ivsize=8, nvtype='double', nvsize=8, Off_t='off_t', lseeksize=8
    alignbytes=8, prototype=define
  Linker and Libraries:
    ld='x86_64-pc-linux-gnu-gcc', ldflags ='-Wl,-O1 -Wl,--as-needed'
    libpth=/usr/local/lib64 /lib64 /usr/lib64 /usr/lib/gcc/x86_64-pc-linux-gnu/5.4.0/include-fixed /usr/lib /lib/../lib64 /usr/lib/../lib64 /lib
    libs=-lpthread -lnsl -lgdbm -ldb -ldl -lm -lcrypt -lutil -lc -lgdbm_compat
    perllibs=-lpthread -lnsl -ldl -lm -lcrypt -lutil -lc
    libc=libc-2.23.so, so=so, useshrplib=true, libperl=libperl.so.5.24.1
    gnulibc_version='2.23'
  Dynamic Linking:
    dlsrc=dl_dlopen.xs, dlext=so, d_dlsymun=undef, ccdlflags='-Wl,-E'
    cccdlflags='-fPIC', lddlflags='-shared -O2 -pipe -Wl,-O1 -Wl,--as-needed'


Characteristics of this binary (from libperl): 
  Compile-time options: HAS_TIMES PERLIO_LAYERS PERL_COPY_ON_WRITE
                        PERL_DONT_CREATE_GVSV
                        PERL_HASH_FUNC_ONE_AT_A_TIME_HARD PERL_MALLOC_WRAP
                        PERL_PRESERVE_IVUV USE_64_BIT_ALL USE_64_BIT_INT
                        USE_LARGE_FILES USE_LOCALE USE_LOCALE_COLLATE
                        USE_LOCALE_CTYPE USE_LOCALE_NUMERIC USE_LOCALE_TIME
                        USE_PERLIO USE_PERL_ATOF
  Locally applied patches:
	gentoo/hints_hpux - Fix hpux hints
	gentoo/aix_soname - aix gcc detection and shared library soname support
	gentoo/EUMM-RUNPATH - https://bugs.gentoo.org/105054 cpan/ExtUtils-MakeMaker: drop $PORTAGE_TMPDIR from LD_RUN_PATH
	gentoo/config_over - Remove -rpath and append LDFLAGS to lddlflags
	gentoo/opensolaris_headers - Add headers for opensolaris
	gentoo/patchlevel - List packaged patches for perl-5.24.1-r1(#3) in patchlevel.h
	gentoo/cleanup-paths - Cleanup PATH and shrpenv
	gentoo/enc2xs - Tweak enc2xs to follow symlinks and ignore missing @INC directories.
	gentoo/darwin-cc-ld - https://bugs.gentoo.org/297751 darwin: Use $CC to link
	gentoo/cpan_definstalldirs - Provide a sensible INSTALLDIRS default for modules installed from CPAN.
	gentoo/interix - Fix interix hints
	gentoo/create_libperl_soname - https://bugs.gentoo.org/286840 Set libperl soname
	gentoo/mod_paths - Add /etc/perl to @INC
	gentoo/EUMM_perllocalpod - cpan/ExtUtils-MakeMaker: remove targets that generate perllocal.pod
	gentoo/drop_fstack_protector - https://bugs.gentoo.org/348557 Don't force -fstack-protector on everyone
	gentoo/usr_local - Configure: Don't include sources in /usr/local/ for compiling perl
	gentoo/D-SHA-CFLAGS - https://bugs.gentoo.org/506818 Do not set custom CFLAGS in cpan/Digest-SHA
	gentoo/io_socket_ip_tests - cpan/IO-Socket-IP: Disable network tests
	gentoo/cygwin-libperl - Cygwin: avoid libperl.dll.dll.a
	gentoo/tests - Fixup EUMM perlocal.pod tests and customised SHA1s
	gentoo/basepm-dot-inc - base.pm: Protect against . in @INC
	gentoo/zlib-1.2.9-backported-fixes - [rt#119762] Compress-Raw-Zlib: backport zlib 1.2.9+ fixes from upstream 2.073
	gentoo/gcc6-lto-configure - [RT#128131] fix symbol detection with gcc 6 link-time optimization
	debian/cpan-missing-site-dirs - Fix CPAN::FirstTime defaults with nonexisting site dirs if a parent is writable
	debian/makemaker-pasthru - Pass LD settings through to subdirectories
	fixes/memoize_storable_nstore - [rt.cpan.org #77790] Memoize::Storable: respect 'nstore' option not respected
	fixes/podman-pipe - Better errors for man pages from standard input
	fixes/respect_umask - Respect umask during installation
	fixes/net_smtp_docs - [rt.cpan.org #36038] Document the Net::SMTP 'Port' option
	fixes/document_makemaker_ccflags - [rt.cpan.org #68613] Document that CCFLAGS should include $Config{ccflags}
	fixes/parallel-manisort.patch - Fix parallel building
  Built under linux
  Compiled at May  4 2017 04:17:56
  %ENV:
    PERL5LIB=""
    PERL5OPT=""
    PERL5_CPANPLUS_IS_RUNNING="6861"
    PERL5_CPAN_IS_RUNNING="6861"
    PERL_MM_USE_DEFAULT="1"
  @INC:
    /etc/perl
    /usr/local/lib64/perl5/5.24.1/x86_64-linux
    /usr/local/lib64/perl5/5.24.1
    /usr/lib64/perl5/vendor_perl/5.24.1/x86_64-linux
    /usr/lib64/perl5/vendor_perl/5.24.1
    /usr/local/lib64/perl5
    /usr/lib64/perl5/vendor_perl
    /usr/lib64/perl5/5.24.1/x86_64-linux
    /usr/lib64/perl5/5.24.1
    .