Back
From: metabase:user:20a45eae-6c1a-1014-abaf-4bc2b30e56df
Subject: PASS Class-Value-Net-1.110250 v5.12.3 Windows (Cygwin)
Date: 2011-02-03T23:46:15Z
This distribution has been tested as part of the CPAN Testers
project, supporting the Perl programming language. See
http://wiki.cpantesters.org/ for more information or email
questions to cpan-testers-discuss@perl.org
--
Dear Marcel Gruenauer,
This is a computer-generated report for Class-Value-Net-1.110250
on perl 5.12.3, created by CPAN-Reporter-1.1902.
Thank you for uploading your work to CPAN. Congratulations!
All tests were successful.
Sections of this report:
* Tester comments
* Program output
* Prerequisites
* Environment and other context
------------------------------
TESTER COMMENTS
------------------------------
Additional comments from tester:
this report is from an automated smoke testing program
and was not reviewed by a human for accuracy
------------------------------
PROGRAM OUTPUT
------------------------------
Output from '/usr/bin/make test':
PERL_DL_NONLAZY=1 /opt/perl/inst/perl-5.12.3-cygwin-thread-multi-64int/bin/perl5.12.3.exe "-MExtUtils::Command::MM" "-e" "test_harness(0, 'blib/lib', 'blib/arch')" t/*.t
t/00-compile.t ............... ok
# Testing with Perl 5.012003, /opt/perl/inst/perl-5.12.3-cygwin-thread-multi-64int/bin/perl5.12.3
# Carp version is 1.17
# Class::Value version is 1.100840
# Class::Value::Boolean version is 1.100840
# Class::Value::Enum version is 1.100840
# Class::Value::Exception::Base version is 1.100840
# Class::Value::SemanticAdapter version is 1.100841
# Class::Value::String version is 1.100840
# Class::Value::Test version is 1.100840
# Data::Semantic::Net::IPAddress::TestData::IPv4 version is 1.101760
# Data::Semantic::Net::IPAddress::TestData::IPv6 version is 1.101760
# English version is 1.04
# Error version is 0.17016
# Error::Hierarchy::Mixin version is 1.103530
# Error::Hierarchy::Test version is 1.103530
# ExtUtils::MakeMaker version is 6.56
# File::Find version is 1.15
# File::Temp version is 0.22
# Scalar::Util version is 1.23
# Test::CompanionClasses version is 1.101370
# Test::CompanionClasses::Base version is 1.101370
# Test::More version is 0.96
# constant version is 1.20
# parent version is 0.224
t/000-report-versions.t ...... ok
t/01_companion_classes.t ..... ok
t/02_hostname.t .............. ok
t/author-critic.t ............ skipped: Test::Perl::Critic required to criticise code
t/release-check-changes.t .... skipped: these tests are for release candidate testing
t/release-dist-manifest.t .... skipped: these tests are for release candidate testing
t/release-distmeta.t ......... skipped: these tests are for release candidate testing
t/release-eol.t .............. skipped: these tests are for release candidate testing
t/release-has-version.t ...... skipped: these tests are for release candidate testing
t/release-kwalitee.t ......... skipped: these tests are for release candidate testing
t/release-minimum-version.t .. skipped: these tests are for release candidate testing
t/release-no-tabs.t .......... skipped: these tests are for release candidate testing
t/release-pod-coverage.t ..... skipped: these tests are for release candidate testing
t/release-pod-spell.t ........ skipped: these tests are for release candidate testing
t/release-pod-syntax.t ....... skipped: these tests are for release candidate testing
t/release-portability.t ...... skipped: these tests are for release candidate testing
t/release-synopsis.t ......... skipped: these tests are for release candidate testing
t/release-unused-vars.t ...... skipped: these tests are for release candidate testing
All tests successful.
Files=19, Tests=96, 32 wallclock secs ( 1.19 usr 0.14 sys + 14.35 cusr 17.82 csys = 33.50 CPU)
Result: PASS
------------------------------
PREREQUISITES
------------------------------
Prerequisite modules loaded:
requires:
Module Need Have
---------------------------------------------- -------- --------
Class::Value::Boolean 0 1.100840
Class::Value::Enum 0 1.100840
Class::Value::Exception::Base 0 1.100840
Class::Value::SemanticAdapter 0 1.100841
Class::Value::String 0 1.100840
Class::Value::Test 0 1.100840
constant 0 1.20
Data::Semantic::Net::IPAddress::TestData::IPv4 1.101750 1.101760
Data::Semantic::Net::IPAddress::TestData::IPv6 0 1.101760
Error::Hierarchy::Mixin 0 1.103530
Error::Hierarchy::Test 0 1.103530
parent 0 0.224
perl 5.008 5.012003
Test::CompanionClasses::Base 0 1.101370
Test::More 0 0.96
build_requires:
Module Need Have
---------------------------------------------- -------- --------
Carp 0 1.17
Class::Value 0 1.100840
English 0 1.04
Error 0 0.17016
File::Find 0 1.15
File::Temp 0 0.22
Scalar::Util 0 1.23
Test::CompanionClasses 0 1.101370
Test::More 0.94 0.96
configure_requires:
Module Need Have
---------------------------------------------- -------- --------
ExtUtils::MakeMaker 6.31 6.56
------------------------------
ENVIRONMENT AND OTHER CONTEXT
------------------------------
Environment variables:
AUTHOR_TESTING = 1
AUTOMATED_TESTING = 1
COMSPEC = C:\WINDOWS\system32\cmd.exe
NUMBER_OF_PROCESSORS = 4
PATH = /opt/perl/inst/perl-5.12.3-cygwin-thread-multi-64int/local/bin:/opt/perl/inst/perl-5.12.3-cygwin-thread-multi-64int/bin:/usr/local/bin:/usr/bin
PERL5LIB = /opt/perl/inst/perl-5.12.3-cygwin-thread-multi-64int/local/lib/site_perl:/opt/perl/inst/perl-5.12.3-cygwin-thread-multi-64int/local/lib/perl5:/opt/perl/inst/perl-5.12.3-cygwin-thread-multi-64int/local/lib
PERL5OPT =
PERL5_CPANPLUS_IS_RUNNING = 5772
PERL5_CPAN_IS_RUNNING = 5772
PERL5_CPAN_IS_RUNNING_IN_RECURSION = 2700,5772
PERL_CR_SMOKER_CURRENT = Class-Value-Net-1.110250
PERL_EXTUTILS_AUTOINSTALL = --defaultdeps
PERL_MM_USE_DEFAULT = 1
PERL_TEST_CRITIC = 1
PROCESSOR_IDENTIFIER = x86 Family 6 Model 37 Stepping 5, GenuineIntel
TEMP = /cygdrive/c/DOCUME~1/ospja/LOKALE~1/Temp
TERM = cygwin
Perl special variables (and OS-specific diagnostics, for MSWin32):
$^X = /opt/perl/inst/perl-5.12.3-cygwin-thread-multi-64int/bin/perl5.12.3
$UID/$EUID = 22755 / 22755
$GID = 10513 544 545 555 43588 44771 44776 47153 45205 10513 51781 18818 43044 30568 43061 36594 18761 56667 12652 12669 12778 42734 20077 51528 11073 51645 61702 17963 51289 43366 55368 57206 20667 20955 49381 50556 23333 65644 65646 51916 51926 51837 45099 30321 49625 31369 45094
$EGID = 10513 544 545 555 43588 44771 44776 47153 45205 10513 51781 18818 43044 30568 43061 36594 18761 56667 12652 12669 12778 42734 20077 51528 11073 51645 61702 17963 51289 43366 55368 57206 20667 20955 49381 50556 23333 65644 65646 51916 51926 51837 45099 30321 49625 31369 45094
Perl module toolchain versions installed:
Module Have
------------------- --------
CPAN 1.94_56
Cwd 3.33
ExtUtils::CBuilder 0.280202
ExtUtils::Command 1.16
ExtUtils::Install 1.55
ExtUtils::MakeMaker 6.56
ExtUtils::Manifest 1.58
ExtUtils::ParseXS 2.2206
File::Spec 3.33
Module::Build 0.3607
Module::Signature 0.66
Test::Harness 3.22
Test::More 0.96
YAML 0.72
YAML::Syck 1.17
version 0.88
--
Summary of my perl5 (revision 5 version 12 subversion 3) configuration:
Platform:
osname=cygwin, osvers=1.7.7(0.23053), archname=cygwin-thread-multi-64int
uname='cygwin_nt-5.1 los116 1.7.7(0.23053) 2010-08-31 09:58 i686 cygwin '
config_args='-de -Dcc=gcc -Dprefix=/opt/perl/inst/perl-5.12.3-cygwin-thread-multi-64int -Dperladmin=pjacklam@online.no -Dusedevel -Dmksymlinks -Dusethreads -Dusemultiplicity -Duse64bitint'
hint=recommended, useposix=true, d_sigaction=define
useithreads=define, usemultiplicity=define
useperlio=define, d_sfio=undef, uselargefiles=define, usesocks=undef
use64bitint=define, use64bitall=undef, uselongdouble=undef
usemymalloc=y, bincompat5005=undef
Compiler:
cc='gcc', ccflags ='-DPERL_USE_SAFE_PUTENV -U__STRICT_ANSI__ -fno-strict-aliasing -pipe -fstack-protector',
optimize='-O3',
cppflags='-DPERL_USE_SAFE_PUTENV -U__STRICT_ANSI__ -fno-strict-aliasing -pipe -fstack-protector'
ccversion='', gccversion='4.3.4 20090804 (release) 1', gccosandvers=''
intsize=4, longsize=4, ptrsize=4, doublesize=8, byteorder=12345678
d_longlong=define, longlongsize=8, d_longdbl=define, longdblsize=12
ivtype='long long', ivsize=8, nvtype='double', nvsize=8, Off_t='off_t', lseeksize=8
alignbytes=8, prototype=define
Linker and Libraries:
ld='g++', ldflags =' -Wl,--enable-auto-import -Wl,--export-all-symbols -Wl,--stack,8388608 -Wl,--enable-auto-image-base -fstack-protector -L/usr/local/lib'
libpth=/usr/local/lib /usr/lib /lib
libs=-lgdbm -ldb -ldl -lcrypt -lgdbm_compat
perllibs=-ldl -lcrypt
libc=/usr/lib/libc.a, so=dll, useshrplib=true, libperl=cygperl5_12_3.dll
gnulibc_version=''
Dynamic Linking:
dlsrc=dl_dlopen.xs, dlext=dll, d_dlsymun=undef, ccdlflags=' '
cccdlflags=' ', lddlflags=' --shared -Wl,--enable-auto-import -Wl,--export-all-symbols -Wl,--stack,8388608 -Wl,--enable-auto-image-base -L/usr/local/lib -fstack-protector'
Characteristics of this binary (from libperl):
Compile-time options: MULTIPLICITY MYMALLOC PERL_DONT_CREATE_GVSV
PERL_IMPLICIT_CONTEXT PERL_MALLOC_WRAP PERL_USE_DEVEL
PERL_USE_SAFE_PUTENV USE_64_BIT_INT USE_ITHREADS
USE_LARGE_FILES USE_PERLIO USE_PERL_ATOF
USE_REENTRANT_API
Built under cygwin
Compiled at Jan 22 2011 17:31:39
%ENV:
PERL5LIB="/opt/perl/inst/perl-5.12.3-cygwin-thread-multi-64int/local/lib/site_perl:/opt/perl/inst/perl-5.12.3-cygwin-thread-multi-64int/local/lib/perl5:/opt/perl/inst/perl-5.12.3-cygwin-thread-multi-64int/local/lib"
PERL5OPT=""
PERL5_CPANPLUS_IS_RUNNING="5772"
PERL5_CPAN_IS_RUNNING="5772"
PERL5_CPAN_IS_RUNNING_IN_RECURSION="2700,5772"
PERL_CR_SMOKER_CURRENT="Class-Value-Net-1.110250"
PERL_EXTUTILS_AUTOINSTALL="--defaultdeps"
PERL_MM_USE_DEFAULT="1"
PERL_TEST_CRITIC="1"
CYGWIN="codepage:utf8 nodosfilewarning"
@INC:
/opt/perl/inst/perl-5.12.3-cygwin-thread-multi-64int/local/lib/site_perl/5.12.3/cygwin-thread-multi-64int
/opt/perl/inst/perl-5.12.3-cygwin-thread-multi-64int/local/lib/site_perl/5.12.3
/opt/perl/inst/perl-5.12.3-cygwin-thread-multi-64int/local/lib/site_perl
/opt/perl/inst/perl-5.12.3-cygwin-thread-multi-64int/local/lib/perl5/cygwin-thread-multi-64int
/opt/perl/inst/perl-5.12.3-cygwin-thread-multi-64int/local/lib/perl5
/opt/perl/inst/perl-5.12.3-cygwin-thread-multi-64int/local/lib/5.12.3/cygwin-thread-multi-64int
/opt/perl/inst/perl-5.12.3-cygwin-thread-multi-64int/local/lib/5.12.3
/opt/perl/inst/perl-5.12.3-cygwin-thread-multi-64int/local/lib
/opt/perl/inst/perl-5.12.3-cygwin-thread-multi-64int/lib/site_perl/5.12.3/cygwin-thread-multi-64int
/opt/perl/inst/perl-5.12.3-cygwin-thread-multi-64int/lib/site_perl/5.12.3
/opt/perl/inst/perl-5.12.3-cygwin-thread-multi-64int/lib/5.12.3/cygwin-thread-multi-64int
/opt/perl/inst/perl-5.12.3-cygwin-thread-multi-64int/lib/5.12.3
.