IO-stringy v2.111 Perl 5 v5.26.2 x86_64-dragonfly-thread-multi

Status
Pass
From
Nigel Horne
Dist
IO-stringy v2.111
Platform
Perl 5 v5.26.2 x86_64-dragonfly-thread-multi
Date
2018-04-24 17:18:16
ID
79f1dd2e-47e3-11e8-9da6-f703c768dc7a
This distribution has been tested as part of the CPAN Testers
project, supporting the Perl programming language.  See
http://wiki.cpantesters.org/ for more information or email
questions to cpan-testers-discuss@perl.org


--
Dear Dianne Skoll,

This is a computer-generated report for IO-stringy-2.111
on perl 5.26.2, created by CPAN-Reporter-1.2018.

Thank you for uploading your work to CPAN.  Congratulations!
All tests were successful.

Sections of this report:

    * Tester comments
    * Program output
    * Prerequisites
    * Environment and other context

------------------------------
TESTER COMMENTS
------------------------------

Additional comments from tester:

none provided

------------------------------
PROGRAM OUTPUT
------------------------------

Output from '/usr/bin/make test':

PERL_DL_NONLAZY=1 "/home/njh/perl5/perlbrew/perls/cperl-5.26.2/bin/cperl5.26.2" "-MExtUtils::Command::MM" "-MTest::Harness" "-e" "undef *Test::Harness::Switches; test_harness(0, 'blib/lib', 'blib/arch')" t/*.t
t/IO_InnerFile.t .... ok
t/IO_Lines.t ........ ok
t/IO_Scalar.t ....... ok
t/IO_ScalarArray.t .. ok
t/IO_WrapTie.t ...... ok
t/simple.t .......... ok
t/two.t ............. ok
All tests successful.
Files=7, Tests=125,  0 wallclock secs ( 0.08 usr  0.02 sys +  0.34 cusr  0.17 csys =  0.62 CPU)
Result: PASS

------------------------------
PREREQUISITES
------------------------------

Prerequisite modules loaded:

build_requires:

    Module              Need Have   
    ------------------- ---- -------
    ExtUtils::MakeMaker 0    8.30_04

configure_requires:

    Module              Need Have   
    ------------------- ---- -------
    ExtUtils::MakeMaker 0    8.30_04


------------------------------
ENVIRONMENT AND OTHER CONTEXT
------------------------------

Environment variables:

    HARNESS_OPTIONS = j2:c
    PATH = /home/njh/perl5/perlbrew/bin:/home/njh/perl5/perlbrew/perls/cperl-5.26.2/bin:/sbin:/bin:/usr/sbin:/usr/bin:/usr/games:/usr/local/sbin:/usr/local/bin:/usr/pkg/sbin:/usr/pkg/bin:/home/njh/bin
    PERL5LIB = 
    PERL5OPT = 
    PERL5_CPANPLUS_IS_RUNNING = 720774
    PERL5_CPAN_IS_RUNNING = 720774
    PERLBREW_HOME = /home/njh/.perlbrew
    PERLBREW_MANPATH = /home/njh/perl5/perlbrew/perls/cperl-5.26.2/man
    PERLBREW_PATH = /home/njh/perl5/perlbrew/bin:/home/njh/perl5/perlbrew/perls/cperl-5.26.2/bin
    PERLBREW_PERL = cperl-5.26.2
    PERLBREW_ROOT = /home/njh/perl5/perlbrew
    PERLBREW_SHELLRC_VERSION = 0.82
    PERLBREW_VERSION = 0.82
    PERL_USE_UNSAFE_INC = 1
    SHELL = /usr/local/bin/bash
    TERM = xterm-256color
    TMPDIR = /tmp

Perl special variables (and OS-specific diagnostics, for MSWin32):

    $^X = /home/njh/perl5/perlbrew/perls/cperl-5.26.2/bin/cperl5.26.2
    $UID/$EUID = 1001 / 1001
    $GID = 1001 1001 0
    $EGID = 1001 1001 0

Perl module toolchain versions installed:

    Module              Have      
    ------------------- ----------
    CPAN                2.18_01   
    CPAN::Meta          2.150010c 
    Cwd                 4.68c     
    ExtUtils::CBuilder  0.280230  
    ExtUtils::Command   7.30      
    ExtUtils::Install   2.14      
    ExtUtils::MakeMaker 8.30_04   
    ExtUtils::Manifest  1.70      
    ExtUtils::ParseXS   3.36_03   
    File::Spec          4.68c     
    JSON                n/a       
    JSON::PP            2.97001_04
    Module::Build       0.4224    
    Module::Signature   n/a       
    Parse::CPAN::Meta   1.5000c   
    Test::Harness       3.39_01   
    Test::More          1.401015c 
    YAML                1.24      
    YAML::Syck          n/a       
    version             0.9918_02c


--

Summary of my cperl (revision 5 version 26 subversion 2) configuration:
   
  Platform:
    osname=dragonfly, osvers=5.0-release, archname=x86_64-dragonfly-thread-multi
    uname='dragonfly david.bandsman.co.uk 5.0-release dragonfly v5.0.2-release #4: sun dec 3 17:42:25 est 2017 root@www.shiningsilence.com:usrobjhomejustinrelease5_0sysx86_64_generic x86_64 '
    config_args='-de -Dprefix=/home/njh/perl5/perlbrew/perls/cperl-5.26.2 -Dusedevel -Dusemultiplicity -Dusethreads -Dusecperl -Accflags= -Aeval:scriptdir=/home/njh/perl5/perlbrew/perls/cperl-5.26.2/bin'
    hint=recommended, useposix=true, d_sigaction=define
    useithreads=define, usemultiplicity=define
    use64bitint=define, use64bitall=define, uselongdouble=undef
    usemymalloc=n, bincompat5005=undef default_inc_excludes_dot=define
  Compiler:
    cc='cc', ccflags ='-DHAS_FPSETMASK -DHAS_FLOATINGPOINT_H -fwrapv -fno-strict-aliasing -pipe -fstack-protector-strong -I/usr/local/include -D_FORTIFY_SOURCE=2',
    optimize='-O',
    cppflags='-DHAS_FPSETMASK -DHAS_FLOATINGPOINT_H -fwrapv -fno-strict-aliasing -pipe -fstack-protector-strong -I/usr/local/include'
    ccversion='', gccversion='5.4.1 [DragonFly] Release/2016-08-27', gccosandvers=''
    intsize=4, longsize=8, ptrsize=8, doublesize=8, byteorder=12345678, doublekind=3
    d_longlong=define, longlongsize=8, d_longdbl=define, longdblsize=16, longdblkind=3
    ivtype='long', ivsize=8, nvtype='double', nvsize=8, Off_t='off_t', lseeksize=8
    alignbytes=8, prototype=define
  Linker and Libraries:
    ld='cc', ldflags ='-pthread -Wl,-E  -fstack-protector-strong -L/usr/local/lib'
    libpth=/usr/lib /usr/local/lib /usr/lib/gcc50
    libs=-lpthread -ldl -lm -lcrypt -lutil -lc
    perllibs=-lpthread -ldl -lm -lcrypt -lutil -lc
    libc=, so=so, useshrplib=false, libperl=libperl.a
    gnulibc_version=''
  Dynamic Linking:
    dlsrc=dl_dlopen.xs, dlext=so, d_dlsymun=undef, ccdlflags=' '
    cccdlflags='-DPIC -fPIC', lddlflags='-shared  -L/usr/local/lib -fstack-protector-strong'


Characteristics of this binary (from libperl): 
  Compile-time options: HAS_TIMES MULTIPLICITY PERLIO_LAYERS
                        PERL_COPY_ON_WRITE PERL_DONT_CREATE_GVSV
                        PERL_HASH_FUNC_FNV1A PERL_IMPLICIT_CONTEXT
                        PERL_MALLOC_WRAP PERL_OP_PARENT PERL_PERTURB_KEYS_TOP
                        PERL_PRESERVE_IVUV PERL_USE_DEVEL USE_64_BIT_ALL
                        USE_64_BIT_INT USE_CPERL USE_ITHREADS USE_LARGE_FILES
                        USE_LOCALE USE_LOCALE_COLLATE USE_LOCALE_CTYPE
                        USE_LOCALE_NUMERIC USE_LOCALE_TIME USE_PERLIO
                        USE_PERL_ATOF USE_REENTRANT_API
  Built under dragonfly
  Compiled at Mon Apr 16 00:47:45 EST 2018
  %ENV:
    PERL5LIB=""
    PERL5OPT=""
    PERL5_CPANPLUS_IS_RUNNING="720774"
    PERL5_CPAN_IS_RUNNING="720774"
    PERLBREW_HOME="/home/njh/.perlbrew"
    PERLBREW_MANPATH="/home/njh/perl5/perlbrew/perls/cperl-5.26.2/man"
    PERLBREW_PATH="/home/njh/perl5/perlbrew/bin:/home/njh/perl5/perlbrew/perls/cperl-5.26.2/bin"
    PERLBREW_PERL="cperl-5.26.2"
    PERLBREW_ROOT="/home/njh/perl5/perlbrew"
    PERLBREW_SHELLRC_VERSION="0.82"
    PERLBREW_VERSION="0.82"
    PERL_USE_UNSAFE_INC="1"
  @INC:
    /home/njh/perl5/perlbrew/perls/cperl-5.26.2/lib/site_cperl/5.26.2/x86_64-dragonfly-thread-multi
    /home/njh/perl5/perlbrew/perls/cperl-5.26.2/lib/site_cperl/5.26.2
    /home/njh/perl5/perlbrew/perls/cperl-5.26.2/lib/5.26.2/x86_64-dragonfly-thread-multi
    /home/njh/perl5/perlbrew/perls/cperl-5.26.2/lib/5.26.2
    .