MooseX-Extended v0.35 Perl 5 v5.24.3 i686-linux-thread-multi-64int-ld
        
            - Status
 
            - Pass
 
            - From
 
            - Chris Williams (BINGOS)
 
            - Dist
 
            - 
                MooseX-Extended v0.35
            
 
            - Platform
 
            - Perl 5 v5.24.3 i686-linux-thread-multi-64int-ld
 
            - Date
 
            - 2023-06-17 12:21:24
 
            - ID
 
            - 79eb50d0-0d09-11ee-98b0-b3c3213a625c
 
        
        This distribution has been tested as part of the CPAN Testers
project, supporting the Perl programming language.  See
http://wiki.cpantesters.org/ for more information or email
questions to cpan-testers-discuss@perl.org
--
Dear Curtis Poe,
This is a computer-generated error report created automatically by
CPANPLUS, version 0.9914. Testers personal comments may appear
at the end of this report.
Thank you for uploading your work to CPAN.  Congratulations!
All tests were successful.
TEST RESULTS:
Below is the error stack from stage 'make test':
PERL_DL_NONLAZY=1 "/home/cpan/pit/rel-ld/perl-5.24.3/bin/perl" "-MExtUtils::Command::MM" "-MTest::Harness" "-e" "undef *Test::Harness::Switches; test_harness(0, 'blib/lib', 'blib/arch')" t/*.t
# Testing MooseX::Extended 0.35, Perl 5.024003, /home/cpan/pit/rel-ld/perl-5.24.3/bin/perl
t/00-load.t ............... ok
# 
# Versions for all modules listed in MYMETA.json (including optional ones):
# 
# === Configure Requires ===
# 
#     Module              Want Have
#     ------------------- ---- ----
#     ExtUtils::MakeMaker  any 7.70
# 
# === Build Requires ===
# 
#     Module              Want Have
#     ------------------- ---- ----
#     ExtUtils::MakeMaker  any 7.70
# 
# === Test Requires ===
# 
#     Module              Want     Have
#     ------------------- ---- --------
#     Capture::Tiny        any     0.48
#     DateTime             any     1.59
#     ExtUtils::MakeMaker  any     7.70
#     File::Spec           any     3.75
#     List::Util           any     1.63
#     Scalar::Util         any     1.63
#     Test::Builder        any 1.302195
#     Test::More           any 1.302195
#     Test::Most           any     0.38
#     base                 any  2.23_01
#     lib                  any     0.63
#     version              any   0.9929
# 
# === Test Recommends ===
# 
#     Module              Want     Have
#     --------------- -------- --------
#     CPAN::Meta      2.120900 2.150010
#     Data::Printer        any 1.001000
#     IO::Async::Loop      any  missing
# 
# === Runtime Requires ===
# 
#     Module                            Want     Have
#     ----------------------------- -------- --------
#     B::Hooks::AtRuntime                  8        8
#     Carp                               any     1.40
#     Data::Printer                      any 1.001000
#     Exporter                           any     5.72
#     Import::Into                       any 1.002005
#     Module::Load                       any     0.36
#     Moose                              any   2.2203
#     Moose::Exception                   any   2.2203
#     Moose::Exception::Role::Class      any   2.2203
#     Moose::Exporter                    any   2.2203
#     Moose::Meta::Role                  any   2.2203
#     Moose::Role                        any   2.2203
#     Moose::Util                        any   2.2203
#     MooseX::Role::WarnOnConflict       any     0.01
#     MooseX::StrictConstructor          any     0.21
#     Ref::Util                          any    0.204
#     Storable                           any     3.25
#     Type::Library                      any 2.004000
#     Type::Params                       any 2.004000
#     Type::Tiny                    1.012004 2.004000
#     Type::Utils                        any 2.004000
#     Types::Common::Numeric             any 2.004000
#     Types::Common::String              any 2.004000
#     Types::Standard                    any 2.004000
#     constant                           any     1.33
#     feature                            any     1.42
#     mro                                any     1.18
#     namespace::autoclean               any     0.29
#     parent                             any    0.234
#     perl                          5.020000 5.024003
#     strict                             any     1.11
#     true                            v1.0.2   v1.0.2
#     warnings                           any     1.36
# 
# === Runtime Suggests ===
# 
#     Module                        Want     Have
#     ------------------------- -------- --------
#     Function::Parameters      2.001003 2.002003
#     Future                        0.48  missing
#     Future::AsyncAwait            0.58  missing
#     Syntax::Keyword::MultiSub     0.03  missing
#     Syntax::Keyword::Try         0.027  missing
# 
t/00-report-prereqs.t ..... ok
t/async.t ................. skipped: Perl version 5.26.0 required for async. You have perl version v5.24.3
t/basic.t ................. ok
t/clone.t ................. ok
t/configuration.t ......... ok
t/custom.t ................ ok
t/exceptions.t ............ ok
t/excludes_field_param.t .. ok
t/field_init_arg.t ........ ok
t/import-lists.t .......... skipped: Could not load Syntax::Keyword::Try: Can't locate Syntax/Keyword/Try.pm in @INC (you may need to install the Syntax::Keyword::Try module) (@INC contains: t/lib /home/cpan/pit/rel-ld/conf/perl-5.24.3/.cpanplus/5.24.3/build/etOLJpDKoJ/MooseX-Extended-0.35/blib/lib /home/cpan/pit/rel-ld/conf/perl-5.24.3/.cpanplus/5.24.3/build/etOLJpDKoJ/MooseX-Extended-0.35/blib/arch /home/cpan/pit/jail/F4RF_9hkac/lib/perl5/5.24.3/i686-linux-thread-multi-64int-ld /home/cpan/pit/jail/F4RF_9hkac/lib/perl5/5.24.3 /home/cpan/pit/jail/F4RF_9hkac/lib/perl5/i686-linux-thread-multi-64int-ld /home/cpan/pit/jail/F4RF_9hkac/lib/perl5 /home/cpan/pit/rel-ld/perl-5.24.3/lib/site_perl/5.24.3/i686-linux-thread-multi-64int-ld /home/cpan/pit/rel-ld/perl-5.24.3/lib/site_perl/5.24.3 /home/cpan/pit/rel-ld/perl-5.24.3/lib/5.24.3/i686-linux-thread-multi-64int-ld /home/cpan/pit/rel-ld/perl-5.24.3/lib/5.24.3 .) at /home/cpan/pit/rel-ld/perl-5.24.3/lib/site_perl/5.24.3/Module/Load.pm line 78.
t/inheritance.t ........... ok
t/inline.t ................ ok
t/method-keyword.t ........ skipped: Perl version   required for method. You have perl version v5.24.3
t/moose_compatibility.t ... ok
t/multimethods.t .......... skipped: Perl version   required for multimethods. You have perl version v5.24.3
t/roles.t ................. ok
t/rwp.t ................... ok
t/stringy-eval.t .......... ok
t/try.t ................... skipped: Could not load Syntax::Keyword::Try: Can't locate Syntax/Keyword/Try.pm in @INC (you may need to install the Syntax::Keyword::Try module) (@INC contains: t/lib /home/cpan/pit/rel-ld/conf/perl-5.24.3/.cpanplus/5.24.3/build/etOLJpDKoJ/MooseX-Extended-0.35/blib/lib /home/cpan/pit/rel-ld/conf/perl-5.24.3/.cpanplus/5.24.3/build/etOLJpDKoJ/MooseX-Extended-0.35/blib/arch /home/cpan/pit/jail/F4RF_9hkac/lib/perl5/5.24.3/i686-linux-thread-multi-64int-ld /home/cpan/pit/jail/F4RF_9hkac/lib/perl5/5.24.3 /home/cpan/pit/jail/F4RF_9hkac/lib/perl5/i686-linux-thread-multi-64int-ld /home/cpan/pit/jail/F4RF_9hkac/lib/perl5 /home/cpan/pit/rel-ld/perl-5.24.3/lib/site_perl/5.24.3/i686-linux-thread-multi-64int-ld /home/cpan/pit/rel-ld/perl-5.24.3/lib/site_perl/5.24.3 /home/cpan/pit/rel-ld/perl-5.24.3/lib/5.24.3/i686-linux-thread-multi-64int-ld /home/cpan/pit/rel-ld/perl-5.24.3/lib/5.24.3 .) at /home/cpan/pit/rel-ld/perl-5.24.3/lib/site_perl/5.24.3/Module/Load.pm line 78.
t/types.t ................. ok
t/warnings.t .............. skipped: Perl >= 5.028 only
All tests successful.
Files=22, Tests=110,  8 wallclock secs ( 0.07 usr  0.02 sys +  6.78 cusr  0.48 csys =  7.35 CPU)
Result: PASS
PREREQUISITES:
Here is a list of prerequisites you specified and versions we
managed to load:
	  Module Name                        Have     Want
	  B::Hooks::AtRuntime                   8        8
	  Capture::Tiny                      0.48        0
	  Carp                               1.40        0
	  Data::Printer                  1.001000        0
	  DateTime                           1.59        0
	  Exporter                           5.72        0
	  ExtUtils::MakeMaker                7.70        0
	  File::Spec                         3.75        0
	  Import::Into                   1.002005        0
	  List::Util                         1.63        0
	  Module::Load                       0.36        0
	  Moose                            2.2203        0
	  Moose::Exception                 2.2203        0
	  Moose::Exception::Role::Class    2.2203        0
	  Moose::Exporter                  2.2203        0
	  Moose::Meta::Role                2.2203        0
	  Moose::Role                      2.2203        0
	  Moose::Util                      2.2203        0
	  MooseX::Role::WarnOnConflict       0.01        0
	  MooseX::StrictConstructor          0.21        0
	  Ref::Util                         0.204        0
	  Scalar::Util                       1.63        0
	  Storable                           3.25        0
	  Test::Builder                  1.302195        0
	  Test::More                     1.302195        0
	  Test::Most                         0.38        0
	  Type::Library                  2.004000        0
	  Type::Params                   2.004000        0
	  Type::Tiny                     2.004000 1.012004
	  Type::Utils                    2.004000        0
	  Types::Common::Numeric         2.004000        0
	  Types::Common::String          2.004000        0
	  Types::Standard                2.004000        0
	  base                            2.23_01        0
	  constant                           1.33        0
	  feature                            1.42        0
	  lib                                0.63        0
	  mro                                1.18        0
	  namespace::autoclean               0.29        0
	  parent                            0.234        0
	  strict                             1.11        0
	  true                             v1.0.2   v1.0.2
	  version                          0.9929        0
	  warnings                           1.36        0
Perl module toolchain versions installed:
	Module Name                        Have
	CPANPLUS                         0.9914
	CPANPLUS::Dist::Build              0.90
	Cwd                                3.75
	ExtUtils::CBuilder             0.280236
	ExtUtils::Command                  7.70
	ExtUtils::Install                  2.22
	ExtUtils::MakeMaker                7.70
	ExtUtils::Manifest                 1.75
	ExtUtils::ParseXS                  3.44
	File::Spec                         3.75
	Module::Build                    0.4234
	Pod::Parser                        1.63
	Pod::Simple                        3.32
	Test2                          1.302195
	Test::Harness                      3.44
	Test::More                     1.302195
	version                          0.9929
******************************** NOTE ********************************
The comments above are created mechanically, possibly without manual
checking by the sender.  As there are many people performing automatic
tests on each upload to CPAN, it is likely that you will receive
identical messages about the same problem.
If you believe that the message is mistaken, please reply to the first
one with correction and/or additional informations, and do not take
it personally.  We appreciate your patience. :)
**********************************************************************
Additional comments:
This report was machine-generated by CPANPLUS::Dist::YACSmoke 1.08.
Powered by minismokebox version 0.68
CPANPLUS is prefering Build.PL
------------------------------
ENVIRONMENT AND OTHER CONTEXT
------------------------------
Environment variables:
    AUTOMATED_TESTING = 1
    LANG = en_GB.UTF-8
    LANGUAGE = en_GB:en
    NONINTERACTIVE_TESTING = 1
    PATH = /usr/local/bin:/usr/bin:/bin:/usr/local/games:/usr/games
    PERL5LIB = /home/cpan/pit/jail/F4RF_9hkac/lib/perl5:/home/cpan/pit/rel-ld/conf/perl-5.24.3/.cpanplus/5.24.3/build/etOLJpDKoJ/MooseX-Extended-0.35/blib/lib:/home/cpan/pit/rel-ld/conf/perl-5.24.3/.cpanplus/5.24.3/build/etOLJpDKoJ/MooseX-Extended-0.35/blib/arch
    PERL5_CPANPLUS_IS_RUNNING = 12914
    PERL5_CPANPLUS_IS_VERSION = 0.9914
    PERL5_MINISMOKEBOX = 0.68
    PERL5_YACSMOKE_BASE = /home/cpan/pit/rel-ld/conf/perl-5.24.3
    PERL_EXTUTILS_AUTOINSTALL = --defaultdeps
    PERL_LOCAL_LIB_ROOT = /home/cpan/pit/jail/F4RF_9hkac
    PERL_MB_OPT = --install_base "/home/cpan/pit/jail/F4RF_9hkac"
    PERL_MM_OPT = INSTALL_BASE=/home/cpan/pit/jail/F4RF_9hkac
    PERL_MM_USE_DEFAULT = 1
    PERL_USE_UNSAFE_INC = 1
    SHELL = /bin/bash
    TERM = screen.xterm-256color
Perl special variables (and OS-specific diagnostics, for MSWin32):
    Perl: $^X = /home/cpan/pit/rel-ld/perl-5.24.3/bin/perl
    UID:  $<  = 1001
    EUID: $>  = 1001
    GID:  $(  = 1001 1001
    EGID: $)  = 1001 1001
-------------------------------
--
Summary of my perl5 (revision 5 version 24 subversion 3) configuration:
   
  Platform:
    osname=linux, osvers=5.10.0-12-686, archname=i686-linux-thread-multi-64int-ld
    uname='linux dagobah 5.10.0-12-686 #1 smp debian 5.10.103-1 (2022-03-07) i686 gnulinux '
    config_args='-des -Dprefix=/home/cpan/pit/rel-ld/perl-5.24.3 -Dusethreads -Duse64bitint -Duselongdouble'
    hint=recommended, useposix=true, d_sigaction=define
    useithreads=define, usemultiplicity=define
    use64bitint=define, use64bitall=undef, uselongdouble=define
    usemymalloc=n, bincompat5005=undef
  Compiler:
    cc='cc', ccflags ='-D_REENTRANT -D_GNU_SOURCE -fwrapv -fno-strict-aliasing -pipe -fstack-protector-strong -I/usr/local/include -D_LARGEFILE_SOURCE -D_FILE_OFFSET_BITS=64 -D_FORTIFY_SOURCE=2',
    optimize='-O2',
    cppflags='-D_REENTRANT -D_GNU_SOURCE -fwrapv -fno-strict-aliasing -pipe -fstack-protector-strong -I/usr/local/include'
    ccversion='', gccversion='10.2.1 20210110', gccosandvers=''
    intsize=4, longsize=4, ptrsize=4, doublesize=8, byteorder=12345678, doublekind=3
    d_longlong=define, longlongsize=8, d_longdbl=define, longdblsize=12, longdblkind=3
    ivtype='long long', ivsize=8, nvtype='long double', nvsize=12, Off_t='off_t', lseeksize=8
    alignbytes=4, prototype=define
  Linker and Libraries:
    ld='cc', ldflags =' -fstack-protector-strong -L/usr/local/lib'
    libpth=/usr/local/lib /usr/include/i386-linux-gnu /usr/lib /lib/i386-linux-gnu /lib/../lib /usr/lib/i386-linux-gnu /usr/lib/../lib /lib /lib64 /usr/lib64
    libs=-lpthread -lnsl -lgdbm -ldl -lm -lcrypt -lutil -lc
    perllibs=-lpthread -lnsl -ldl -lm -lcrypt -lutil -lc
    libc=libc-2.31.so, so=so, useshrplib=false, libperl=libperl.a
    gnulibc_version='2.31'
  Dynamic Linking:
    dlsrc=dl_dlopen.xs, dlext=so, d_dlsymun=undef, ccdlflags='-Wl,-E'
    cccdlflags='-fPIC', lddlflags='-shared -O2 -L/usr/local/lib -fstack-protector-strong'
Characteristics of this binary (from libperl): 
  Compile-time options: HAS_TIMES MULTIPLICITY PERLIO_LAYERS
                        PERL_COPY_ON_WRITE PERL_DONT_CREATE_GVSV
                        PERL_HASH_FUNC_ONE_AT_A_TIME_HARD
                        PERL_IMPLICIT_CONTEXT PERL_MALLOC_WRAP
                        PERL_PRESERVE_IVUV USE_64_BIT_INT USE_ITHREADS
                        USE_LARGE_FILES USE_LOCALE USE_LOCALE_COLLATE
                        USE_LOCALE_CTYPE USE_LOCALE_NUMERIC USE_LOCALE_TIME
                        USE_LONG_DOUBLE USE_PERLIO USE_PERL_ATOF
                        USE_REENTRANT_API
  Locally applied patches:
	Devel::PatchPerl 2.08
  Built under linux
  Compiled at Mar 20 2022 00:56:22
  %ENV:
    PERL5LIB="/home/cpan/pit/jail/F4RF_9hkac/lib/perl5:/home/cpan/pit/rel-ld/conf/perl-5.24.3/.cpanplus/5.24.3/build/etOLJpDKoJ/MooseX-Extended-0.35/blib/lib:/home/cpan/pit/rel-ld/conf/perl-5.24.3/.cpanplus/5.24.3/build/etOLJpDKoJ/MooseX-Extended-0.35/blib/arch"
    PERL5_CPANPLUS_IS_RUNNING="12914"
    PERL5_CPANPLUS_IS_VERSION="0.9914"
    PERL5_MINISMOKEBOX="0.68"
    PERL5_YACSMOKE_BASE="/home/cpan/pit/rel-ld/conf/perl-5.24.3"
    PERL_EXTUTILS_AUTOINSTALL="--defaultdeps"
    PERL_LOCAL_LIB_ROOT="/home/cpan/pit/jail/F4RF_9hkac"
    PERL_MB_OPT="--install_base "/home/cpan/pit/jail/F4RF_9hkac""
    PERL_MM_OPT="INSTALL_BASE=/home/cpan/pit/jail/F4RF_9hkac"
    PERL_MM_USE_DEFAULT="1"
    PERL_USE_UNSAFE_INC="1"
  @INC:
    /home/cpan/pit/jail/F4RF_9hkac/lib/perl5/5.24.3/i686-linux-thread-multi-64int-ld
    /home/cpan/pit/jail/F4RF_9hkac/lib/perl5/5.24.3
    /home/cpan/pit/jail/F4RF_9hkac/lib/perl5/i686-linux-thread-multi-64int-ld
    /home/cpan/pit/jail/F4RF_9hkac/lib/perl5
    /home/cpan/pit/rel-ld/conf/perl-5.24.3/.cpanplus/5.24.3/build/etOLJpDKoJ/MooseX-Extended-0.35/blib/lib
    /home/cpan/pit/rel-ld/conf/perl-5.24.3/.cpanplus/5.24.3/build/etOLJpDKoJ/MooseX-Extended-0.35/blib/arch
    /home/cpan/pit/rel-ld/perl-5.24.3/lib/site_perl/5.24.3/i686-linux-thread-multi-64int-ld
    /home/cpan/pit/rel-ld/perl-5.24.3/lib/site_perl/5.24.3
    /home/cpan/pit/rel-ld/perl-5.24.3/lib/5.24.3/i686-linux-thread-multi-64int-ld
    /home/cpan/pit/rel-ld/perl-5.24.3/lib/5.24.3
    .