MooseX-Types v0.51 Perl 5 v5.24.2 amd64-freebsd

Status
Pass
From
Slaven Rezić
Dist
MooseX-Types v0.51
Platform
Perl 5 v5.24.2 amd64-freebsd
Date
2025-04-20 00:50:38
ID
79db2d38-1d81-11f0-90f9-b0f86d8775ea
This distribution has been tested as part of the CPAN Testers
project, supporting the Perl programming language.  See
http://wiki.cpantesters.org/ for more information or email
questions to cpan-testers-discuss@perl.org


--
Dear Karen Etheridge,

This is a computer-generated report for MooseX-Types-0.51
on perl 5.24.2, created by CPAN-Reporter-1.2018.

Thank you for uploading your work to CPAN.  Congratulations!
All tests were successful.

Sections of this report:

    * Tester comments
    * Program output
    * Prerequisites
    * Environment and other context

------------------------------
TESTER COMMENTS
------------------------------

Additional comments from tester:

this report is from an automated smoke testing program
and was not reviewed by a human for accuracy

------------------------------
PROGRAM OUTPUT
------------------------------

Output from './Build test':

# 
# Versions for all modules listed in MYMETA.json (including optional ones):
# 
# === Configure Requires ===
# 
#     Module               Want     Have
#     ------------------- ----- --------
#     Module::Build::Tiny 0.034    0.039
#     perl                5.008 5.024002
# 
# === Configure Suggests ===
# 
#     Module      Want       Have
#     -------- ------- ----------
#     JSON::PP 2.27300 2.27300_01
# 
# === Test Requires ===
# 
#     Module            Want     Have
#     ---------------- ----- --------
#     File::Spec         any     3.75
#     Module::Metadata   any 1.000031
#     Moose::Role        any   2.2011
#     Term::ANSIColor    any     4.04
#     Test::Fatal        any    0.014
#     Test::More        0.88 1.302140
#     Test::Needs        any 0.002005
#     if                 any   0.0606
#     lib                any     0.63
#     perl             5.008 5.024002
# 
# === Test Recommends ===
# 
#     Module         Want     Have
#     ---------- -------- --------
#     CPAN::Meta 2.120900 2.150010
# 
# === Runtime Requires ===
# 
#     Module                                 Want     Have
#     ---------------------------------- -------- --------
#     Carp                                    any     1.40
#     Carp::Clan                             6.00     6.06
#     Exporter                                any     5.72
#     Module::Runtime                         any    0.016
#     Moose                                  1.06   2.2011
#     Moose::Exporter                         any   2.2011
#     Moose::Meta::TypeConstraint::Union      any   2.2011
#     Moose::Util::TypeConstraints            any   2.2011
#     Scalar::Util                           1.19     1.50
#     Sub::Exporter                           any    0.987
#     Sub::Exporter::ForMethods          0.100052 0.100052
#     Sub::Install                            any    0.928
#     Sub::Util                               any     1.50
#     base                                    any  2.23_01
#     namespace::autoclean                   0.16     0.28
#     overload                                any     1.26
#     parent                                  any    0.234
#     perl                                  5.008 5.024002
#     strict                                  any     1.11
#     warnings                                any     1.36
# 
# === Other Modules ===
# 
#     Module                     Have
#     -------------------- ----------
#     Dist::CheckConflicts       0.11
#     Encode                     2.98
#     File::Temp               0.2304
#     JSON::PP             2.27300_01
#     Module::Runtime           0.016
#     Sub::Name                  0.21
#     YAML                       1.23
#     autodie                    2.29
#     namespace::clean           0.27
# 
t/00-report-prereqs.t .............. ok
t/10_moose-types.t ................. ok
t/11_library-definition.t .......... ok
t/12_wrapper-definition.t .......... ok
t/13_typedecorator.t ............... ok
t/14_compatibility-sub-exporter.t .. ok
t/15_recursion.t ................... ok
t/16_introspection.t ............... ok
t/17_syntax_errors.t ............... ok
t/18_combined_libs.t ............... ok
t/19_typelib_with_role.t ........... ok
t/20_union_with_string_type.t ...... ok
t/21_coerce_parameterized_types.t .. ok
t/22_class_type.t .................. ok
t/23_any_subtype.t ................. ok
t/24_class_can_isa.t ............... ok
t/25-fully-qualified.t ............. ok
t/26-multi-combined.t .............. ok
t/regressions/01-is_subtype_of.t ... ok
t/zzz-check-breaks.t ............... ok
All tests successful.
Files=20, Tests=250,  4 wallclock secs ( 0.05 usr  0.05 sys +  2.11 cusr  1.98 csys =  4.18 CPU)
Result: PASS

------------------------------
PREREQUISITES
------------------------------

Prerequisite modules loaded:

requires:

    Module                             Need     Have    
    ---------------------------------- -------- --------
    base                               0        2.23_01 
    Carp                               0        1.40    
    Carp::Clan                         6.00     6.06    
    Exporter                           0        5.72    
    Module::Runtime                    0        0.016   
    Moose                              1.06     2.2011  
    Moose::Exporter                    0        2.2011  
    Moose::Meta::TypeConstraint::Union 0        2.2011  
    Moose::Util::TypeConstraints       0        2.2011  
    namespace::autoclean               0.16     0.28    
    overload                           0        1.26    
    parent                             0        0.234   
    perl                               5.008    5.024002
    Scalar::Util                       1.19     1.50    
    strict                             0        1.11    
    Sub::Exporter                      0        0.987   
    Sub::Exporter::ForMethods          0.100052 0.100052
    Sub::Install                       0        0.928   
    Sub::Util                          0        1.50    
    warnings                           0        1.36    

build_requires:

    Module                             Need     Have    
    ---------------------------------- -------- --------
    File::Spec                         0        3.75    
    if                                 0        0.0606  
    lib                                0        0.63    
    Module::Metadata                   0        1.000031
    Moose::Role                        0        2.2011  
    perl                               5.008    5.024002
    Term::ANSIColor                    0        4.04    
    Test::Fatal                        0        0.014   
    Test::More                         0.88     1.302140
    Test::Needs                        0        0.002005

configure_requires:

    Module                             Need     Have    
    ---------------------------------- -------- --------
    Module::Build::Tiny                0.034    0.039   
    perl                               5.008    5.024002


------------------------------
ENVIRONMENT AND OTHER CONTEXT
------------------------------

Environment variables:

    AUTOMATED_TESTING = 1
    LC_ALL = de_DE.ISO8859-1
    PATH = /usr/local/bin:/usr/bin:/bin:/usr/local/sbin:/usr/sbin:/sbin:/home/cpansand/bin/freebsd10.3:/home/cpansand/bin/sh:/home/cpansand/bin:/usr/games:/home/cpansand/devel:/home/eserte/src/srezic-misc/scripts
    PERL5LIB = 
    PERL5OPT = 
    PERL5_CPANPLUS_IS_RUNNING = 28522
    PERL5_CPAN_IS_RUNNING = 28522
    PERL5_CPAN_IS_RUNNING_IN_RECURSION = 19861,28522
    PERLDOC = -MPod::Perldoc::ToTextOverstrike
    PERL_BATCH = yes
    PERL_CANARY_STABILITY_NOPROMPT = 1
    PERL_CPAN_REPORTER_CONFIG = /var/tmp/cpansmoker-1023/2025042002/cpanreporter_000_config.ini
    PERL_EXTUTILS_AUTOINSTALL = --defaultdeps
    SHELL = /usr/local/bin/zsh
    TERM = screen
    TMPDIR = /var/tmp/cpansmoker-1023/2025042002

Perl special variables (and OS-specific diagnostics, for MSWin32):

    $^X = /usr/perl5.24.2p/bin/perl
    $UID/$EUID = 1023 / 1023
    $GID = 1023 1023
    $EGID = 1023 1023

Perl module toolchain versions installed:

    Module              Have      
    ------------------- ----------
    CPAN                2.11_01   
    CPAN::Meta          2.150010  
    Cwd                 3.75      
    ExtUtils::CBuilder  0.280225  
    ExtUtils::Command   7.58      
    ExtUtils::Install   2.06      
    ExtUtils::MakeMaker 7.58      
    ExtUtils::Manifest  1.71      
    ExtUtils::ParseXS   3.31      
    File::Spec          3.75      
    JSON                2.94      
    JSON::PP            2.27300_01
    Module::Build       0.4224    
    Module::Signature   n/a       
    Parse::CPAN::Meta   2.150010  
    Test::Harness       3.36_01   
    Test::More          1.302140  
    YAML                1.23      
    YAML::Syck          1.30      
    version             0.9924    


--

Summary of my perl5 (revision 5 version 24 subversion 2) configuration:
   
  Platform:
    osname=freebsd, osvers=10.3-release-p11, archname=amd64-freebsd
    uname='freebsd cvrsnica-freebsd-101.herceg.de 10.3-release-p11 freebsd 10.3-release-p11 #0: mon oct 24 18:49:24 utc 2016 root@amd64-builder.daemonology.net:usrobjusrsrcsysgeneric amd64 '
    config_args='-ds -e -Dprefix=/usr/perl5.24.2p -Dcf_email=srezic@cpan.org -Doptimize=-O2 -pipe'
    hint=recommended, useposix=true, d_sigaction=define
    useithreads=undef, usemultiplicity=undef
    use64bitint=define, use64bitall=define, uselongdouble=undef
    usemymalloc=n, bincompat5005=undef
  Compiler:
    cc='cc', ccflags ='-DHAS_FPSETMASK -DHAS_FLOATINGPOINT_H -fno-strict-aliasing -pipe -fstack-protector -I/usr/local/include -D_FORTIFY_SOURCE=2',
    optimize='-O2 -pipe',
    cppflags='-DHAS_FPSETMASK -DHAS_FLOATINGPOINT_H -fno-strict-aliasing -pipe -fstack-protector -I/usr/local/include'
    ccversion='', gccversion='4.2.1 Compatible FreeBSD Clang 3.4.1 (tags/RELEASE_34/dot1-final 208032)', gccosandvers=''
    intsize=4, longsize=8, ptrsize=8, doublesize=8, byteorder=12345678, doublekind=3
    d_longlong=define, longlongsize=8, d_longdbl=define, longdblsize=16, longdblkind=3
    ivtype='long', ivsize=8, nvtype='double', nvsize=8, Off_t='off_t', lseeksize=8
    alignbytes=8, prototype=define
  Linker and Libraries:
    ld='cc', ldflags ='-pthread -Wl,-E  -fstack-protector -L/usr/local/lib'
    libpth=/usr/lib /usr/local/lib /usr/include/clang/3.4.1 /usr/lib
    libs=-lpthread -lgdbm -lm -lcrypt -lutil -lc
    perllibs=-lpthread -lm -lcrypt -lutil -lc
    libc=, so=so, useshrplib=false, libperl=libperl.a
    gnulibc_version=''
  Dynamic Linking:
    dlsrc=dl_dlopen.xs, dlext=so, d_dlsymun=undef, ccdlflags=' '
    cccdlflags='-DPIC -fPIC', lddlflags='-shared  -L/usr/local/lib -fstack-protector'


Characteristics of this binary (from libperl): 
  Compile-time options: HAS_TIMES PERLIO_LAYERS PERL_COPY_ON_WRITE
                        PERL_DONT_CREATE_GVSV
                        PERL_HASH_FUNC_ONE_AT_A_TIME_HARD PERL_MALLOC_WRAP
                        PERL_PRESERVE_IVUV USE_64_BIT_ALL USE_64_BIT_INT
                        USE_LARGE_FILES USE_LOCALE USE_LOCALE_COLLATE
                        USE_LOCALE_CTYPE USE_LOCALE_NUMERIC USE_LOCALE_TIME
                        USE_PERLIO USE_PERL_ATOF
  Built under freebsd
  Compiled at Jul 29 2017 11:20:18
  %ENV:
    PERL5LIB=""
    PERL5OPT=""
    PERL5_CPANPLUS_IS_RUNNING="28522"
    PERL5_CPAN_IS_RUNNING="28522"
    PERL5_CPAN_IS_RUNNING_IN_RECURSION="19861,28522"
    PERLDOC="-MPod::Perldoc::ToTextOverstrike"
    PERL_BATCH="yes"
    PERL_CANARY_STABILITY_NOPROMPT="1"
    PERL_CPAN_REPORTER_CONFIG="/var/tmp/cpansmoker-1023/2025042002/cpanreporter_000_config.ini"
    PERL_EXTUTILS_AUTOINSTALL="--defaultdeps"
  @INC:
    /usr/perl5.24.2p/lib/site_perl/5.24.2/amd64-freebsd
    /usr/perl5.24.2p/lib/site_perl/5.24.2
    /usr/perl5.24.2p/lib/5.24.2/amd64-freebsd
    /usr/perl5.24.2p/lib/5.24.2
    .