Report for Form-Processor-1.162360

Back
From: metabase:user:320bfe00-2aae-11df-837a-5e0a49663a4f
Subject: PASS Form-Processor-1.162360 v5.10.1 GNU/Linux
Date: 2016-08-24T00:12:42Z

This distribution has been tested as part of the CPAN Testers
project, supporting the Perl programming language.  See
http://wiki.cpantesters.org/ for more information or email
questions to cpan-testers-discuss@perl.org


--
Dear Bill Moseley,

This is a computer-generated report for Form-Processor-1.162360
on perl 5.10.1, created by CPAN-Reporter-1.2018.

Thank you for uploading your work to CPAN.  Congratulations!
All tests were successful.

Sections of this report:

    * Tester comments
    * Program output
    * Prerequisites
    * Environment and other context

------------------------------
TESTER COMMENTS
------------------------------

Additional comments from tester:

this report is from an automated smoke testing program
and was not reviewed by a human for accuracy

------------------------------
PROGRAM OUTPUT
------------------------------

Output from '/usr/bin/make test':

Skip blib/lib/auto/share/dist/Form-Processor/passwords.txt (unchanged)
Skip blib/lib/auto/share/dist/Form-Processor/README (unchanged)
PERL_DL_NONLAZY=1 "/home/sand/src/perl/repoperls/installed-perls/perl/perl-5.10.1/8942/bin/perl" "-MExtUtils::Command::MM" "-MTest::Harness" "-e" "undef *Test::Harness::Switches; test_harness(0, 'blib/lib', 'blib/arch')" t/*.t
t/10-Field-Boolean.t .......... ok
t/10-Field-Checkbox.t ......... ok
t/10-Field-CIDR_List.t ........ ok
t/10-Field-Date_yyyy_mm_dd.t .. ok
t/10-Field-DateTime.t ......... ok
t/10-Field-DateTimeDMYHM.t .... ok
t/10-Field-DateTimeDMYHM2.t ... ok
t/10-Field-DateTimeManip.t .... ok
t/10-Field-Email.t ............ ok
t/10-Field-FutureDate.t ....... skipped: t/10-Field-FutureDate.t: This Field test not implemented yet
t/10-Field-Hidden.t ........... ok
t/10-Field-Hour.t ............. ok
t/10-Field-HtmlArea.t ......... ok
t/10-Field-Integer.t .......... ok
t/10-Field-IntRange.t ......... ok
t/10-Field-MD5_Password.t ..... ok
t/10-Field-Minute.t ........... ok
t/10-Field-Money.t ............ ok
t/10-Field-Month.t ............ ok
t/10-Field-MonthDay.t ......... ok
t/10-Field-MonthName.t ........ ok
t/10-Field-Multiple.t ......... ok
t/10-Field-OneToTen.t ......... ok
t/10-Field-Password.t ......... ok
t/10-Field-Phone.t ............ ok
t/10-Field-PosInteger.t ....... ok
t/10-Field-Readonly.t ......... ok
t/10-Field-Second.t ........... ok
t/10-Field-Select.t ........... ok
t/10-Field-Template.t ......... ok
t/10-Field-Text.t ............. ok
t/10-Field-TextArea.t ......... ok
t/10-Field-TxtPassword.t ...... ok
t/10-Field-Upload.t ........... ok
t/10-Field-URL.t .............. ok
t/10-Field-Username.t ......... ok
t/10-Field-USPhone.t .......... ok
t/10-Field-USZipcode.t ........ ok
t/10-Field-Weekday.t .......... ok
t/10-Field-WeekdayStr.t ....... ok
t/10-Field-Year.t ............. ok
t/20form.t .................... ok
All tests successful.
Files=42, Tests=318,  9 wallclock secs ( 0.15 usr  0.20 sys +  3.91 cusr  0.91 csys =  5.17 CPU)
Result: PASS

------------------------------
PREREQUISITES
------------------------------

Prerequisite modules loaded:

requires:

    Module                             Need  Have    
    ---------------------------------- ----- --------
    base                               0     2.23    
    Carp                               0     1.38    
    Crypt::ScryptKDF                   0.009 0.010   
    Data::Dumper                       0     2.161   
    Data::Password::Entropy            0     0.08    
    Data::UUID                         0     1.221   
    DateTime                           0     1.37    
    DateTime::Format::DateManip        0     0.04    
    Digest::MD5                        0     2.55    
    Email::Valid                       0     1.199   
    Encode                             0     2.85    
    File::ShareDir                     0     1.102   
    File::Temp                         0     0.2304  
    HTML::Tidy                         0     1.56    
    Locale::Maketext                   0     1.27    
    Net::CIDR                          0     0.18    
    Rose::Object                       0     0.860   
    Rose::Object::MakeMethods::Generic 0     0.859   
    Scalar::Util                       0     1.46_01 
    strict                             0     1.04    
    Template::Parser                   0     2.89    
    UNIVERSAL::require                 0     0.18    
    warnings                           0     1.06    

build_requires:

    Module                             Need  Have    
    ---------------------------------- ----- --------
    Date::Manip                        0     6.54    
    ExtUtils::MakeMaker                0     7.24    
    Test::More                         0     1.302054

configure_requires:

    Module                             Need  Have    
    ---------------------------------- ----- --------
    ExtUtils::MakeMaker                0     7.24    
    File::ShareDir::Install            0.06  0.11    


------------------------------
ENVIRONMENT AND OTHER CONTEXT
------------------------------

Environment variables:

    AUTOMATED_TESTING = 1
    LANG = en_US.UTF-8
    LANGUAGE = en_US:en
    PATH = /usr/lib/ccache:/home/sand/bin:/usr/local/bin:/usr/bin:/bin:/usr/games:/usr/local/perl/bin:/usr/X11/bin:/sbin:/usr/sbin
    PERL5LIB = 
    PERL5OPT = 
    PERL5_CPANPLUS_IS_RUNNING = 29841
    PERL5_CPAN_IS_RUNNING = 29841
    PERL_CANARY_STABILITY_NOPROMPT = 1
    PERL_MM_USE_DEFAULT = 1
    SHELL = /usr/bin/zsh
    TERM = screen

Perl special variables (and OS-specific diagnostics, for MSWin32):

    $^X = /home/sand/src/perl/repoperls/installed-perls/perl/perl-5.10.1/8942/bin/perl
    $UID/$EUID = 1005 / 1005
    $GID = 1005 1005
    $EGID = 1005 1005

Perl module toolchain versions installed:

    Module              Have    
    ------------------- --------
    CPAN                2.15    
    CPAN::Meta          2.150009
    Cwd                 3.62    
    ExtUtils::CBuilder  0.280224
    ExtUtils::Command   7.24    
    ExtUtils::Install   1.54    
    ExtUtils::MakeMaker 7.24    
    ExtUtils::Manifest  1.70    
    ExtUtils::ParseXS   3.30    
    File::Spec          3.62    
    JSON                2.90    
    JSON::PP            2.27400 
    Module::Build       0.4220  
    Module::Signature   0.80    
    Parse::CPAN::Meta   2.150009
    Test::Harness       3.36    
    Test::More          1.302054
    YAML                1.18    
    YAML::Syck          1.29    
    version             0.9917  


--

Summary of my perl5 (revision 5 version 10 subversion 1) configuration:
  Commit id: 5348debf9fd57fc15c26529386769684fab96e57
  Platform:
    osname=linux, osvers=4.3.0-1-amd64, archname=x86_64-linux-ld
    uname='linux k83 4.3.0-1-amd64 #1 smp debian 4.3.3-7 (2016-01-19) x86_64 gnulinux '
    config_args='-Dprefix=/home/sand/src/perl/repoperls/installed-perls/perl/perl-5.10.1/8942 -Dmyhostname=k83 -Dinstallusrbinperl=n -Uversiononly -Dusedevel -des -Ui_db -Dlibswanted=cl pthread socket inet nsl gdbm dbm malloc dl ld sun m crypt sec util c cposix posix ucb BSD gdbm_compat -Uuseithreads -Duselongdouble -DDEBUGGING=-g'
    hint=recommended, useposix=true, d_sigaction=define
    useithreads=undef, usemultiplicity=undef
    useperlio=define, d_sfio=undef, uselargefiles=define, usesocks=undef
    use64bitint=define, use64bitall=define, uselongdouble=define
    usemymalloc=n, bincompat5005=undef
  Compiler:
    cc='cc', ccflags ='-fno-strict-aliasing -pipe -fstack-protector -I/usr/local/include -D_LARGEFILE_SOURCE -D_FILE_OFFSET_BITS=64',
    optimize='-O2 -g',
    cppflags='-fno-strict-aliasing -pipe -fstack-protector -I/usr/local/include'
    ccversion='', gccversion='5.3.1 20160121', gccosandvers=''
    intsize=4, longsize=8, ptrsize=8, doublesize=8, byteorder=12345678
    d_longlong=define, longlongsize=8, d_longdbl=define, longdblsize=16
    ivtype='long', ivsize=8, nvtype='long double', nvsize=16, Off_t='off_t', lseeksize=8
    alignbytes=16, prototype=define
  Linker and Libraries:
    ld='cc', ldflags =' -fstack-protector -L/usr/local/lib'
    libpth=/usr/local/lib /lib/x86_64-linux-gnu /lib/../lib /usr/lib/x86_64-linux-gnu /usr/lib/../lib /lib /usr/lib
    libs=-lpthread -lnsl -lgdbm -ldl -lm -lcrypt -lutil -lc -lgdbm_compat
    perllibs=-lpthread -lnsl -ldl -lm -lcrypt -lutil -lc
    libc=libc-2.21.so, so=so, useshrplib=false, libperl=libperl.a
    gnulibc_version='2.21'
  Dynamic Linking:
    dlsrc=dl_dlopen.xs, dlext=so, d_dlsymun=undef, ccdlflags='-Wl,-E'
    cccdlflags='-fPIC', lddlflags='-shared -O2 -g -L/usr/local/lib -fstack-protector'


Characteristics of this binary (from libperl): 
  Compile-time options: PERL_DONT_CREATE_GVSV PERL_MALLOC_WRAP PERL_USE_DEVEL
                        USE_64_BIT_ALL USE_64_BIT_INT USE_LARGE_FILES
                        USE_LONG_DOUBLE USE_PERLIO
  Locally applied patches:
	Devel::PatchPerl 1.40
  Built under linux
  Compiled at Feb 27 2016 05:10:30
  %ENV:
    PERL5LIB=""
    PERL5OPT=""
    PERL5_CPANPLUS_IS_RUNNING="29841"
    PERL5_CPAN_IS_RUNNING="29841"
    PERL_CANARY_STABILITY_NOPROMPT="1"
    PERL_MM_USE_DEFAULT="1"
  @INC:
    /home/sand/src/perl/repoperls/installed-perls/perl/perl-5.10.1/8942/lib/5.10.1/x86_64-linux-ld
    /home/sand/src/perl/repoperls/installed-perls/perl/perl-5.10.1/8942/lib/5.10.1
    /home/sand/src/perl/repoperls/installed-perls/perl/perl-5.10.1/8942/lib/site_perl/5.10.1/x86_64-linux-ld
    /home/sand/src/perl/repoperls/installed-perls/perl/perl-5.10.1/8942/lib/site_perl/5.10.1
    .