Back
From: metabase:user:30f4dfbe-2aae-11df-837a-5e0a49663a4f
Subject: PASS AppleII-LibA2-0.201 v5.16.2 Mac OS X
Date: 2015-09-13T06:20:05Z
This distribution has been tested as part of the CPAN Testers
project, supporting the Perl programming language. See
http://wiki.cpantesters.org/ for more information or email
questions to cpan-testers-discuss@perl.org
--
Dear Christopher J. Madsen,
This is a computer-generated report for AppleII-LibA2-0.201
on perl 5.16.2, created by CPAN-Reporter-1.2015.
Thank you for uploading your work to CPAN. Congratulations!
All tests were successful.
Sections of this report:
* Tester comments
* Program output
* Prerequisites
* Environment and other context
------------------------------
TESTER COMMENTS
------------------------------
Additional comments from tester:
this report is from an automated smoke testing program
and was not reviewed by a human for accuracy
------------------------------
PROGRAM OUTPUT
------------------------------
Output from './Build test':
# Listing %INC
# Carp 1.36
# Exporter 5.72
# Fcntl 1.11
# File::Glob 1.17
# Getopt::Long 2.47
# IO 1.25_06
# IO::File 1.16
# IO::Handle 1.33
# IO::Seekable 1.1
# POSIX 1.30
# SelectSaver 1.02
# Symbol 1.07
# Term::ReadLine 1.14
# Term::ReadLine::Perl 1.0303
# Tie::Hash 1.04
# XSLoader 0.16
# constant 1.33
# feature 1.27
# overload 1.18
# overloading 0.02
# strict 1.07
# vars 1.02
# warnings 1.13
# warnings::register 1.02
t/00-all_prereqs.t .. ok
# Testing AppleII-LibA2 0.201
t/00-load.t ......... ok
t/10-Disk.t ......... ok
t/20-ProDOS.t ....... ok
t/30-PDsubs.t ....... ok
All tests successful.
Files=5, Tests=120, 0 wallclock secs ( 0.02 usr 0.00 sys + 0.11 cusr 0.02 csys = 0.15 CPU)
Result: PASS
------------------------------
PREREQUISITES
------------------------------
Prerequisite modules loaded:
requires:
Module Need Have
-------------- ----- --------
Carp 0 1.36
Exporter 5.57 5.72
File::Glob 0 1.17
Getopt::Long 2.10 2.47
IO::File 0 1.16
perl 5.006 5.016002
POSIX 0 1.30
Term::ReadLine 0 1.14
build_requires:
Module Need Have
-------------- ----- --------
FindBin 0 1.51
Module::Build 0 0.4214
Test::More 0 1.001014
configure_requires:
Module Need Have
-------------- ----- --------
Cwd 0 3.47
Module::Build 0.21 0.4214
perl 5.006 5.016002
------------------------------
ENVIRONMENT AND OTHER CONTEXT
------------------------------
Environment variables:
AUTOMATED_TESTING = 1
LANG = en_US.UTF-8
LC_ALL = POSIX
LD_LIBRARY_PATH = :/net/traces01.be-md.ncbi.nlm.nih.gov/trace_software/vdb/mac/release/x86_64/lib
NO_NETWORK_TESTING = 1
PATH = /Users/hornenj/perl5/perlbrew/bin:/Users/hornenj/perl5/perlbrew/perls/perl-5.16.2/bin:/Users/hornenj/bin:/Users/hornenj/perl5/perlbrew/bin:/sw/lib/perl5/ExtUtils:/sw/bin:/am/ncbiapdata/bin:/usr/bin:/bin:/usr/X11R6/bin:/netopt/ncbi_tools/bin:/usr/local/ncbi/blast/bin:/net/traces01.be-md.ncbi.nlm.nih.gov/trace_software/vdb/mac/release/x86_64/bin
PERL5LIB =
PERL5OPT =
PERL5_CPANPLUS_IS_RUNNING = 81866
PERL5_CPAN_IS_RUNNING = 81866
PERL5_MINISMOKEBOX = 0.58
PERLBREW_BASHRC_VERSION = 0.73
PERLBREW_HOME = /Users/hornenj/.perlbrew
PERLBREW_LIB =
PERLBREW_MANPATH = /Users/hornenj/perl5/perlbrew/perls/perl-5.16.2/man
PERLBREW_PATH = /Users/hornenj/perl5/perlbrew/bin:/Users/hornenj/perl5/perlbrew/perls/perl-5.16.2/bin
PERLBREW_PERL = perl-5.16.2
PERLBREW_ROOT = /Users/hornenj/perl5/perlbrew
PERLBREW_VERSION = 0.73
PERL_EXTUTILS_AUTOINSTALL = --defaultdeps
PERL_LOCAL_LIB_ROOT =
PERL_MM_USE_DEFAULT = 1
SHELL = /bin/bash
TERM = xterm-256color
TMPDIR = /var/folders/pz/pd7y1qjs6s3cbk170cw50fjc000c61/T/
VERSIONER_PERL_PREFER_32_BIT = no
VERSIONER_PERL_VERSION = 5.18
ac_cv_path_INTLTOOL_PERL = /usr/bin/perl
Perl special variables (and OS-specific diagnostics, for MSWin32):
$^X = /Users/hornenj/perl5/perlbrew/perls/perl-5.16.2/bin/perl
$UID/$EUID = 12481 / 12481
$GID = 14 14 5344 527 241
$EGID = 14 14 5344 527 241
Perl module toolchain versions installed:
Module Have
------------------- --------
CPAN 2.10
CPAN::Meta 2.150005
Cwd 3.47
ExtUtils::CBuilder 0.280223
ExtUtils::Command 7.08
ExtUtils::Install 2.04
ExtUtils::MakeMaker 7.08
ExtUtils::Manifest 1.70
ExtUtils::ParseXS 3.30
File::Spec 3.47
JSON 2.90
JSON::PP 2.27300
Module::Build 0.4214
Module::Signature n/a
Parse::CPAN::Meta 1.4417
Test::Harness 3.35
Test::More 1.001014
YAML 1.15
YAML::Syck 1.29
version 0.9912
--
Summary of my perl5 (revision 5 version 16 subversion 2) configuration:
Platform:
osname=darwin, osvers=12.2.1, archname=darwin-2level
uname='darwin ncbimac2008.ncbi.nlm.nih.gov 12.2.1 darwin kernel version 12.2.1: thu oct 18 12:13:47 pdt 2012; root:xnu-2050.20.9~1release_x86_64 x86_64 '
config_args='-de -Dprefix=/Users/hornenj/perl5/perlbrew/perls/perl-5.16.2'
hint=previous, useposix=true, d_sigaction=define
useithreads=undef, usemultiplicity=undef
useperlio=define, d_sfio=undef, uselargefiles=define, usesocks=undef
use64bitint=define, use64bitall=define, uselongdouble=undef
usemymalloc=n, bincompat5005=undef
Compiler:
cc='cc', ccflags ='-fno-common -DPERL_DARWIN -fno-strict-aliasing -pipe -fstack-protector',
optimize='-O3',
cppflags='-fno-common -DPERL_DARWIN -fno-strict-aliasing -pipe -fstack-protector -fno-common -DPERL_DARWIN -fno-strict-aliasing -pipe -fstack-protector'
ccversion='', gccversion='4.2.1 Compatible Apple LLVM 4.2 (clang-425.0.24)', gccosandvers=''
intsize=4, longsize=8, ptrsize=8, doublesize=8, byteorder=12345678
d_longlong=define, longlongsize=8, d_longdbl=define, longdblsize=16
ivtype='long', ivsize=8, nvtype='double', nvsize=8, Off_t='off_t', lseeksize=8
alignbytes=8, prototype=define
Linker and Libraries:
ld='env MACOSX_DEPLOYMENT_TARGET=10.3 cc', ldflags =' -fstack-protector'
libpth=/usr/lib
libs=-ldbm -ldl -lm -lutil -lc
perllibs=-ldl -lm -lutil -lc
libc=, so=dylib, useshrplib=false, libperl=libperl.a
gnulibc_version=''
Dynamic Linking:
dlsrc=dl_dlopen.xs, dlext=bundle, d_dlsymun=undef, ccdlflags=' '
cccdlflags=' ', lddlflags=' -bundle -undefined dynamic_lookup -fstack-protector'
Characteristics of this binary (from libperl):
Compile-time options: HAS_TIMES PERLIO_LAYERS PERL_DONT_CREATE_GVSV
PERL_MALLOC_WRAP PERL_PRESERVE_IVUV USE_64_BIT_ALL
USE_64_BIT_INT USE_LARGE_FILES USE_LOCALE
USE_LOCALE_COLLATE USE_LOCALE_CTYPE
USE_LOCALE_NUMERIC USE_PERLIO USE_PERL_ATOF
Built under darwin
Compiled at Mar 4 2013 16:03:07
%ENV:
PERL5LIB=""
PERL5OPT=""
PERL5_CPANPLUS_IS_RUNNING="81866"
PERL5_CPAN_IS_RUNNING="81866"
PERL5_MINISMOKEBOX="0.58"
PERLBREW_BASHRC_VERSION="0.73"
PERLBREW_HOME="/Users/hornenj/.perlbrew"
PERLBREW_LIB=""
PERLBREW_MANPATH="/Users/hornenj/perl5/perlbrew/perls/perl-5.16.2/man"
PERLBREW_PATH="/Users/hornenj/perl5/perlbrew/bin:/Users/hornenj/perl5/perlbrew/perls/perl-5.16.2/bin"
PERLBREW_PERL="perl-5.16.2"
PERLBREW_ROOT="/Users/hornenj/perl5/perlbrew"
PERLBREW_VERSION="0.73"
PERL_EXTUTILS_AUTOINSTALL="--defaultdeps"
PERL_LOCAL_LIB_ROOT=""
PERL_MM_USE_DEFAULT="1"
@INC:
/Users/hornenj/perl5/perlbrew/perls/perl-5.16.2/lib/site_perl/5.16.2/darwin-2level
/Users/hornenj/perl5/perlbrew/perls/perl-5.16.2/lib/site_perl/5.16.2
/Users/hornenj/perl5/perlbrew/perls/perl-5.16.2/lib/5.16.2/darwin-2level
/Users/hornenj/perl5/perlbrew/perls/perl-5.16.2/lib/5.16.2
.