WWW-LogicBoxes v1.11.0 Perl 5 v5.35.3 x86_64-linux

Status
Pass
From
Andreas J. König (ANDK)
Dist
WWW-LogicBoxes v1.11.0
Platform
Perl 5 v5.35.3 x86_64-linux
Date
2021-09-04 07:26:52
ID
79a04b44-0d51-11ec-a4b2-db572562f8d9
This distribution has been tested as part of the CPAN Testers
project, supporting the Perl programming language.  See
http://wiki.cpantesters.org/ for more information or email
questions to cpan-testers-discuss@perl.org


--
Dear Robert Stone,

This is a computer-generated report for WWW-LogicBoxes-1.11.0
on perl 5.35.3, created by CPAN-Reporter-1.2018.

Thank you for uploading your work to CPAN.  Congratulations!
All tests were successful.

Sections of this report:

    * Tester comments
    * Program output
    * Prerequisites
    * Environment and other context

------------------------------
TESTER COMMENTS
------------------------------

Additional comments from tester:

this report is from an automated smoke testing program
and was not reviewed by a human for accuracy

------------------------------
PROGRAM OUTPUT
------------------------------

Output from './Build test':

t/00-compile.t ............................................................. ok
t/author-critic.t .......................................................... skipped: these tests are for testing by the author
t/author-distmeta.t ........................................................ skipped: these tests are for testing by the author
t/author-eol.t ............................................................. skipped: these tests are for testing by the author
t/author-minimum-version.t ................................................. skipped: these tests are for testing by the author
t/author-mojibake.t ........................................................ skipped: these tests are for testing by the author
t/author-no-tabs.t ......................................................... skipped: these tests are for testing by the author
t/author-pod-coverage.t .................................................... skipped: these tests are for testing by the author
t/author-pod-linkcheck.t ................................................... skipped: these tests are for testing by the author
t/author-pod-syntax.t ...................................................... skipped: these tests are for testing by the author
t/author-portability.t ..................................................... skipped: these tests are for testing by the author
t/author-test-version.t .................................................... skipped: these tests are for testing by the author
t/contact/00-object.t ...................................................... ok
t/contact/ca/00-object.t ................................................... ok
t/contact/ca/agreement/00-object.t ......................................... ok
t/contact/factory/construct_from_response/01-com.t ......................... ok
t/contact/factory/construct_from_response/02-us.t .......................... ok
t/contact/factory/construct_from_response/03-biz.t ......................... ok
t/contact/factory/construct_from_response/04-club.t ........................ ok
t/contact/factory/construct_from_response/05-co.t .......................... ok
t/contact/factory/construct_from_response/06-info.t ........................ ok
t/contact/us/00-object.t ................................................... ok
t/customer/00-object.t ..................................................... ok
t/domain/00-object.t ....................................................... ok
t/domainavailability/00-object.t ........................................... ok
t/domainavailability/01-domain_parts.t ..................................... ok
t/domainrequest/00-object.t ................................................ ok
t/domainrequest/registration/00-object.t ................................... ok
t/domainrequest/transfer/00-object.t ....................................... ok
t/domaintransfer/00-object.t ............................................... ok
t/irtpdetail/00-object.t ................................................... ok
t/legacy/01-domains.t ...................................................... skipped: PERL_WWW_LOGICBOXES_USERNAME and PERL_WWW_LOGICBOXES_API_KEY must be defined in order to run integration tests.
t/logicboxes/00-object.t ................................................... ok
t/phonenumber/00-object.t .................................................. ok
t/phonenumber/01-new.t ..................................................... ok
t/privatenameserver/00-object.t ............................................ ok
t/release-cpan-changes.t ................................................... skipped: these tests are for release candidate testing
t/release-dist-manifest.t .................................................. skipped: these tests are for release candidate testing
t/release-kwalitee.t ....................................................... skipped: these tests are for release candidate testing
t/release-meta-json.t ...................................................... skipped: these tests are for release candidate testing
t/release-unused-vars.t .................................................... skipped: these tests are for release candidate testing
t/role/command/00-object.t ................................................. ok
t/role/command/contact/00-object.t ......................................... ok
t/role/command/contact/01-get_contact_by_id.t .............................. skipped: PERL_WWW_LOGICBOXES_USERNAME and PERL_WWW_LOGICBOXES_API_KEY must be defined in order to run integration tests.
t/role/command/contact/02-delete_contact_by_id.t ........................... skipped: PERL_WWW_LOGICBOXES_USERNAME and PERL_WWW_LOGICBOXES_API_KEY must be defined in order to run integration tests.
t/role/command/contact/03-update.t ......................................... skipped: PERL_WWW_LOGICBOXES_USERNAME and PERL_WWW_LOGICBOXES_API_KEY must be defined in order to run integration tests.
t/role/command/contact/04-get_ca_registrant_agreement.t .................... ok
t/role/command/contact/create/01-contact.t ................................. skipped: PERL_WWW_LOGICBOXES_USERNAME and PERL_WWW_LOGICBOXES_API_KEY must be defined in order to run integration tests.
t/role/command/contact/create/02-contact-us.t .............................. ok
t/role/command/contact/create/03-contact-ca.t .............................. skipped: PERL_WWW_LOGICBOXES_USERNAME and PERL_WWW_LOGICBOXES_API_KEY must be defined in order to run integration tests.
t/role/command/customer/00-object.t ........................................ ok
t/role/command/customer/01-create_customer.t ............................... skipped: PERL_WWW_LOGICBOXES_USERNAME and PERL_WWW_LOGICBOXES_API_KEY must be defined in order to run integration tests.
t/role/command/customer/02-get_customer_by_id.t ............................ skipped: PERL_WWW_LOGICBOXES_USERNAME and PERL_WWW_LOGICBOXES_API_KEY must be defined in order to run integration tests.
t/role/command/customer/03-get_customer_by_username.t ...................... skipped: PERL_WWW_LOGICBOXES_USERNAME and PERL_WWW_LOGICBOXES_API_KEY must be defined in order to run integration tests.
t/role/command/domain/00-object.t .......................................... ok
t/role/command/domain/01-get_domain_by_id.t ................................ skipped: PERL_WWW_LOGICBOXES_USERNAME and PERL_WWW_LOGICBOXES_API_KEY must be defined in order to run integration tests.
t/role/command/domain/02-get_domain_by_name.t .............................. skipped: PERL_WWW_LOGICBOXES_USERNAME and PERL_WWW_LOGICBOXES_API_KEY must be defined in order to run integration tests.
t/role/command/domain/03-update_domain_contacts.t .......................... skipped: PERL_WWW_LOGICBOXES_USERNAME and PERL_WWW_LOGICBOXES_API_KEY must be defined in order to run integration tests.
t/role/command/domain/04-enable_domain_lock_by_id.t ........................ skipped: PERL_WWW_LOGICBOXES_USERNAME and PERL_WWW_LOGICBOXES_API_KEY must be defined in order to run integration tests.
t/role/command/domain/05-disable_domain_lock_by_id.t ....................... skipped: PERL_WWW_LOGICBOXES_USERNAME and PERL_WWW_LOGICBOXES_API_KEY must be defined in order to run integration tests.
t/role/command/domain/06-enable_domain_privacy.t ........................... skipped: PERL_WWW_LOGICBOXES_USERNAME and PERL_WWW_LOGICBOXES_API_KEY must be defined in order to run integration tests.
t/role/command/domain/07-disable_domain_privacy.t .......................... skipped: PERL_WWW_LOGICBOXES_USERNAME and PERL_WWW_LOGICBOXES_API_KEY must be defined in order to run integration tests.
t/role/command/domain/08-update_domain_nameservers.t ....................... skipped: PERL_WWW_LOGICBOXES_USERNAME and PERL_WWW_LOGICBOXES_API_KEY must be defined in order to run integration tests.
t/role/command/domain/09-renew.t ........................................... skipped: PERL_WWW_LOGICBOXES_USERNAME and PERL_WWW_LOGICBOXES_API_KEY must be defined in order to run integration tests.
t/role/command/domain/10-resend_verification_email.t ....................... skipped: PERL_WWW_LOGICBOXES_USERNAME and PERL_WWW_LOGICBOXES_API_KEY must be defined in order to run integration tests.
t/role/command/domain/availability/00-object.t ............................. ok
t/role/command/domain/availability/01-check_availability.t ................. skipped: PERL_WWW_LOGICBOXES_USERNAME and PERL_WWW_LOGICBOXES_API_KEY must be defined in order to run integration tests.
t/role/command/domain/availability/02-suggest_domain_names.t ............... skipped: PERL_WWW_LOGICBOXES_USERNAME and PERL_WWW_LOGICBOXES_API_KEY must be defined in order to run integration tests.
t/role/command/domain/privatenameserver/00-object.t ........................ ok
t/role/command/domain/privatenameserver/01-create_private_nameserver.t ..... skipped: PERL_WWW_LOGICBOXES_USERNAME and PERL_WWW_LOGICBOXES_API_KEY must be defined in order to run integration tests.
t/role/command/domain/privatenameserver/02-rename_private_nameserver.t ..... skipped: PERL_WWW_LOGICBOXES_USERNAME and PERL_WWW_LOGICBOXES_API_KEY must be defined in order to run integration tests.
t/role/command/domain/privatenameserver/03-modify_private_nameserver_ip.t .. skipped: PERL_WWW_LOGICBOXES_USERNAME and PERL_WWW_LOGICBOXES_API_KEY must be defined in order to run integration tests.
t/role/command/domain/privatenameserver/04-delete_private_nameserver_ip.t .. skipped: PERL_WWW_LOGICBOXES_USERNAME and PERL_WWW_LOGICBOXES_API_KEY must be defined in order to run integration tests.
t/role/command/domain/privatenameserver/05-delete_private_nameserver.t ..... skipped: PERL_WWW_LOGICBOXES_USERNAME and PERL_WWW_LOGICBOXES_API_KEY must be defined in order to run integration tests.
t/role/command/domain/registration/00-object.t ............................. ok
t/role/command/domain/registration/01-delete_domain_registration_by_id.t ... skipped: PERL_WWW_LOGICBOXES_USERNAME and PERL_WWW_LOGICBOXES_API_KEY must be defined in order to run integration tests.
t/role/command/domain/registration/register_domain/01-com.t ................ skipped: PERL_WWW_LOGICBOXES_USERNAME and PERL_WWW_LOGICBOXES_API_KEY must be defined in order to run integration tests.
t/role/command/domain/registration/register_domain/02-ca.t ................. skipped: PERL_WWW_LOGICBOXES_USERNAME and PERL_WWW_LOGICBOXES_API_KEY must be defined in order to run integration tests.
t/role/command/domain/transfer/00-object.t ................................. ok
t/role/command/domain/transfer/01-is_domain_transferable.t ................. skipped: PERL_WWW_LOGICBOXES_USERNAME and PERL_WWW_LOGICBOXES_API_KEY must be defined in order to run integration tests.
t/role/command/domain/transfer/02-transfer_domain.t ........................ skipped: PERL_WWW_LOGICBOXES_USERNAME and PERL_WWW_LOGICBOXES_API_KEY must be defined in order to run integration tests.
t/role/command/domain/transfer/03-cancel_transfer.t ........................ skipped: PERL_WWW_LOGICBOXES_USERNAME and PERL_WWW_LOGICBOXES_API_KEY must be defined in order to run integration tests.
t/role/command/domain/transfer/04-resend_transfer_approval_mail.t .......... skipped: PERL_WWW_LOGICBOXES_USERNAME and PERL_WWW_LOGICBOXES_API_KEY must be defined in order to run integration tests.
t/role/command/domain/transfer/05-submit_auth_code.t ....................... skipped: PERL_WWW_LOGICBOXES_USERNAME and PERL_WWW_LOGICBOXES_API_KEY must be defined in order to run integration tests.
t/role/command/raw/00-object.t ............................................. ok
All tests successful.
Files=85, Tests=110, 82 wallclock secs ( 0.16 usr  0.26 sys + 42.08 cusr  6.32 csys = 48.82 CPU)
Result: PASS

------------------------------
PREREQUISITES
------------------------------

Prerequisite modules loaded:

requires:

    Module                       Need     Have    
    ---------------------------- -------- --------
    Carp                         0        1.52    
    Data::Util                   0        0.66    
    Data::Validate::Domain       0        0.15    
    Data::Validate::Email        0        0.06    
    Data::Validate::IP           0        0.30    
    Data::Validate::URI          0        0.07    
    DateTime                     0        1.54    
    HTTP::Tiny                   0        0.078   
    JSON                         0        4.03    
    Moose                        0        2.2015  
    Moose::Role                  0        2.2015  
    Moose::Util::TypeConstraints 0        2.2015  
    MooseX::Aliases              0        0.11    
    MooseX::Params::Validate     0        0.21    
    MooseX::StrictConstructor    0        0.21    
    MooseX::Types                0        0.50    
    MooseX::Types::Moose         0        0.50    
    Mozilla::PublicSuffix        0        v1.0.5  
    namespace::autoclean         0        0.29    
    Number::Phone                0        3.7003  
    overload                     0        1.33    
    perl                         5.013010 5.035003
    Readonly                     0        2.05    
    Try::Tiny                    0        0.30    
    URI::Escape                  0        5.09    
    XML::LibXML::Simple          0        1.01    

build_requires:

    Module                       Need     Have    
    ---------------------------- -------- --------
    Exporter                     0        5.76    
    File::Spec                   0        3.81    
    FindBin                      0        1.52    
    IO::Handle                   0        1.47    
    IPC::Open3                   0        1.22    
    lib                          0        0.65    
    List::Util                   0        1.56    
    Module::Build                0.28     0.4231  
    perl                         5.013010 5.035003
    Storable                     0        3.24    
    String::Random               0        0.31    
    Test::Deep                   0        1.130   
    Test::Exception              0        0.43    
    Test::MockModule             0        0.176.0 
    Test::Moose::More            0.029    0.050   
    Test::More                   0        1.302186
    Test::Warn                   0        0.36    

configure_requires:

    Module                       Need     Have    
    ---------------------------- -------- --------
    Module::Build                0.28     0.4231  
    perl                         5.010    5.035003


------------------------------
ENVIRONMENT AND OTHER CONTEXT
------------------------------

Environment variables:

    AUTOMATED_TESTING = 1
    LANG = en_US.UTF-8
    PATH = /home/sand/bin:/usr/local/bin:/usr/bin:/bin:/usr/games:/usr/local/perl/bin:/usr/X11/bin:/sbin:/usr/sbin
    PERL5LIB = 
    PERL5OPT = 
    PERL5_CPANPLUS_IS_RUNNING = 3250641
    PERL5_CPAN_IS_RUNNING = 3250641
    PERL_CANARY_STABILITY_NOPROMPT = 1
    PERL_MM_USE_DEFAULT = 1
    PERL_USE_UNSAFE_INC = 1
    SHELL = /usr/bin/zsh
    TERM = screen

Perl special variables (and OS-specific diagnostics, for MSWin32):

    $^X = /home/sand/src/perl/repoperls/installed-perls/host/k93msid/v5.35.3/bb7f/bin/perl
    $UID/$EUID = 1005 / 1005
    $GID = 1005 1005
    $EGID = 1005 1005

Perl module toolchain versions installed:

    Module              Have    
    ------------------- --------
    CPAN                2.28    
    CPAN::Meta          2.150010
    Cwd                 3.82    
    ExtUtils::CBuilder  0.280236
    ExtUtils::Command   7.62    
    ExtUtils::Install   2.20    
    ExtUtils::MakeMaker 7.62    
    ExtUtils::Manifest  1.73    
    ExtUtils::ParseXS   3.43    
    File::Spec          3.81    
    JSON                4.03    
    JSON::PP            4.06    
    Module::Build       0.4231  
    Module::Signature   0.87    
    Parse::CPAN::Meta   2.150010
    Test::Harness       3.43    
    Test::More          1.302186
    YAML                1.30    
    YAML::Syck          1.34    
    version             0.9929  


--

Summary of my perl5 (revision 5 version 35 subversion 3) configuration:
  Commit id: 566e79b3713e09f940997a15f239ad9cb45c66b2
  Platform:
    osname=linux
    osvers=5.3.0-2-amd64
    archname=x86_64-linux
    uname='linux k93msid 5.3.0-2-amd64 #1 smp debian 5.3.9-3 (2019-11-19) x86_64 gnulinux '
    config_args='-Dprefix=/home/sand/src/perl/repoperls/installed-perls/host/k93msid/v5.35.3/bb7f -Dmyhostname=k93msid -Dinstallusrbinperl=n -Uversiononly -Dusedevel -des -Ui_db -Dlibswanted=cl pthread socket inet nsl gdbm dbm malloc dl ld sun m crypt sec util c cposix posix ucb BSD gdbm_compat -Uuseithreads -Uuselongdouble -DEBUGGING=both'
    hint=recommended
    useposix=true
    d_sigaction=define
    useithreads=undef
    usemultiplicity=undef
    use64bitint=define
    use64bitall=define
    uselongdouble=undef
    usemymalloc=n
    default_inc_excludes_dot=define
  Compiler:
    cc='cc'
    ccflags ='-fwrapv -DDEBUGGING -fno-strict-aliasing -pipe -fstack-protector-strong -I/usr/local/include -D_LARGEFILE_SOURCE -D_FILE_OFFSET_BITS=64 -D_FORTIFY_SOURCE=2'
    optimize='-O2 -g'
    cppflags='-fwrapv -DDEBUGGING -fno-strict-aliasing -pipe -fstack-protector-strong -I/usr/local/include'
    ccversion=''
    gccversion='9.2.1 20191109'
    gccosandvers=''
    intsize=4
    longsize=8
    ptrsize=8
    doublesize=8
    byteorder=12345678
    doublekind=3
    d_longlong=define
    longlongsize=8
    d_longdbl=define
    longdblsize=16
    longdblkind=3
    ivtype='long'
    ivsize=8
    nvtype='double'
    nvsize=8
    Off_t='off_t'
    lseeksize=8
    alignbytes=8
    prototype=define
  Linker and Libraries:
    ld='cc'
    ldflags =' -fstack-protector-strong -L/usr/local/lib'
    libpth=/usr/local/lib /usr/lib/x86_64-linux-gnu /usr/lib /lib/x86_64-linux-gnu /lib
    libs=-lpthread -lnsl -ldl -lm -lcrypt -lutil -lc
    perllibs=-lpthread -lnsl -ldl -lm -lcrypt -lutil -lc
    libc=libc-2.29.so
    so=so
    useshrplib=false
    libperl=libperl.a
    gnulibc_version='2.29'
  Dynamic Linking:
    dlsrc=dl_dlopen.xs
    dlext=so
    d_dlsymun=undef
    ccdlflags='-Wl,-E'
    cccdlflags='-fPIC'
    lddlflags='-shared -O2 -g -L/usr/local/lib -fstack-protector-strong'


Characteristics of this binary (from libperl): 
  Compile-time options:
    DEBUGGING
    HAS_TIMES
    PERLIO_LAYERS
    PERL_COPY_ON_WRITE
    PERL_DONT_CREATE_GVSV
    PERL_MALLOC_WRAP
    PERL_OP_PARENT
    PERL_PRESERVE_IVUV
    PERL_USE_DEVEL
    USE_64_BIT_ALL
    USE_64_BIT_INT
    USE_LARGE_FILES
    USE_LOCALE
    USE_LOCALE_COLLATE
    USE_LOCALE_CTYPE
    USE_LOCALE_NUMERIC
    USE_LOCALE_TIME
    USE_PERLIO
    USE_PERL_ATOF
  Built under linux
  Compiled at Aug 23 2021 10:49:03
  %ENV:
    PERL5LIB=""
    PERL5OPT=""
    PERL5_CPANPLUS_IS_RUNNING="3250641"
    PERL5_CPAN_IS_RUNNING="3250641"
    PERL_CANARY_STABILITY_NOPROMPT="1"
    PERL_MM_USE_DEFAULT="1"
    PERL_USE_UNSAFE_INC="1"
  @INC:
    /home/sand/src/perl/repoperls/installed-perls/host/k93msid/v5.35.3/bb7f/lib/site_perl/5.35.3/x86_64-linux
    /home/sand/src/perl/repoperls/installed-perls/host/k93msid/v5.35.3/bb7f/lib/site_perl/5.35.3
    /home/sand/src/perl/repoperls/installed-perls/host/k93msid/v5.35.3/bb7f/lib/5.35.3/x86_64-linux
    /home/sand/src/perl/repoperls/installed-perls/host/k93msid/v5.35.3/bb7f/lib/5.35.3
    .