App-perlmv v0.609 Perl 5 v5.14.4 amd64-freebsd

Status
Pass
From
Slaven Rezić
Dist
App-perlmv v0.609
Platform
Perl 5 v5.14.4 amd64-freebsd
Date
2024-02-28T15:53:11
ID
7982fdc0-d651-11ee-b6c9-0b136e8775ea
This distribution has been tested as part of the CPAN Testers
project, supporting the Perl programming language.  See
http://wiki.cpantesters.org/ for more information or email
questions to cpan-testers-discuss@perl.org


--
Dear perlancar,

This is a computer-generated report for App-perlmv-0.609
on perl 5.14.4, created by CPAN-Reporter-1.2019.

Thank you for uploading your work to CPAN.  Congratulations!
All tests were successful.

Sections of this report:

    * Tester comments
    * Program output
    * Prerequisites
    * Environment and other context

------------------------------
TESTER COMMENTS
------------------------------

Additional comments from tester:

none provided

------------------------------
PROGRAM OUTPUT
------------------------------

Output from '/usr/bin/make test':

PERL_DL_NONLAZY=1 "/usr/perl5.14.4/bin/perl" "-MExtUtils::Command::MM" "-MTest::Harness" "-e" "undef *Test::Harness::Switches; test_harness(0, 'blib/lib', 'blib/arch')" t/*.t
t/00-compile.t ........................... ok
t/author-critic.t ........................ skipped: these tests are for testing by the author
t/author-pod-coverage.t .................. skipped: these tests are for testing by the author
t/author-pod-syntax.t .................... skipped: these tests are for testing by the author
t/cp.t ................................... ok
t/ln.t ................................... ok
t/ln_s.t ................................. ok
t/mv.t ................................... ok
t/recursive.t ............................ skipped: TODO
t/release-rinci.t ........................ skipped: these tests are for release candidate testing
ERROR: rename failed `a` -> `b/c/d`: Datei oder Verzeichnis nicht gefunden
ERROR: rename failed `a` -> `b/c/d`: Datei oder Verzeichnis nicht gefunden
t/rename.t ............................... ok
t/scriptlets.t ........................... ok
t/std_scriptlets-dedup-space.t ........... ok
t/std_scriptlets-keep-one-ext.t .......... ok
t/std_scriptlets-pinyin.t ................ ok
t/std_scriptlets-remove-all-ext.t ........ ok
t/std_scriptlets-remove-common-prefix.t .. ok
t/std_scriptlets-remove-common-suffix.t .. ok
t/std_scriptlets-remove-ext.t ............ ok
t/std_scriptlets-to-number-ext.t ......... ok
t/std_scriptlets-to-number.t ............. ok
t/std_scriptlets-to-timestamp-ext.t ...... ok
t/std_scriptlets-to-timestamp.t .......... ok
t/std_scriptlets-trim.t .................. ok
unac_string: Useless use of function in void context
 at (eval 14) line 4.
unac_string: Useless use of function in void context
 at (eval 9) line 4.
t/std_scriptlets-unaccent.t .............. ok
All tests successful.
Files=25, Tests=86,  3 wallclock secs ( 0.05 usr  0.06 sys +  2.58 cusr  0.53 csys =  3.23 CPU)
Result: PASS

------------------------------
PREREQUISITES
------------------------------

Prerequisite modules loaded:

requires:

    Module                   Need     Have    
    ------------------------ -------- --------
    Complete::File           0.440    0.440   
    Complete::Util           0.616    0.620   
    Cwd                      0        3.75    
    Exporter                 5.57     5.77    
    File::Copy               0        2.21    
    File::Find               0        1.19    
    File::Path               2.07     2.18    
    File::Slurper            0        0.012   
    File::Spec               0        3.75    
    File::Util::Test         0.628    0.630   
    Getopt::Long::Complete   0        0.317   
    Module::List::Tiny       0        0.004002
    perl                     5.010001 5.014004
    strict                   0        1.04    
    vars                     0        1.02    
    warnings                 0        1.12    

build_requires:

    Module                   Need     Have    
    ------------------------ -------- --------
    ExtUtils::MakeMaker      0        7.70    
    File::Spec               0        3.75    
    File::Temp               0.2307   0.2311  
    FindBin                  0        1.53    
    IO::Handle               0        1.55    
    IPC::Open3               0        1.0901  
    Test::Exception          0        0.43    
    Test::More               0.98     1.302198
    Test::Needs              0        0.002010

configure_requires:

    Module                   Need     Have    
    ------------------------ -------- --------
    ExtUtils::MakeMaker      0        7.70    

opt_requires:

    Module                   Need     Have    
    ------------------------ -------- --------
    File::HomeDir            0        1.006   
    Lingua::Han::PinYin      0        0.23    
    Text::Unaccent::PurePerl 0        0.05    


------------------------------
ENVIRONMENT AND OTHER CONTEXT
------------------------------

Environment variables:

    LC_ALL = de_DE.ISO8859-1
    PATH = /usr/local/bin:/usr/bin:/bin:/usr/local/sbin:/usr/sbin:/sbin:/home/cpansand/bin/freebsd9.3:/home/cpansand/bin/sh:/home/cpansand/bin:/usr/games:/home/cpansand/devel:/usr/home/eserte/src/srezic-misc/scripts
    PERL5LIB = 
    PERL5OPT = 
    PERL5_CPANPLUS_IS_RUNNING = 79749
    PERL5_CPAN_IS_RUNNING = 79749
    PERL5_CPAN_IS_RUNNING_IN_RECURSION = 6460,79749
    PERLDOC = -MPod::Perldoc::ToTextOverstrike
    PERL_BATCH = yes
    PERL_CANARY_STABILITY_NOPROMPT = 1
    PERL_CPAN_REPORTER_CONFIG = /var/tmp/cpansmoker-1023/2024022807/cpanreporter_000_config.ini
    PERL_EXTUTILS_AUTOINSTALL = --defaultdeps
    PERL_USE_UNSAFE_INC = 1
    SHELL = /usr/local/bin/zsh
    TERM = screen
    TMPDIR = /var/tmp/cpansmoker-1023/2024022807

Perl special variables (and OS-specific diagnostics, for MSWin32):

    $^X = /usr/perl5.14.4/bin/perl
    $UID/$EUID = 1023 / 1023
    $GID = 1023 1023
    $EGID = 1023 1023

Perl module toolchain versions installed:

    Module              Have    
    ------------------- --------
    CPAN                2.36    
    CPAN::Meta          2.150010
    Cwd                 3.75    
    ExtUtils::CBuilder  0.280236
    ExtUtils::Command   7.70    
    ExtUtils::Install   2.22    
    ExtUtils::MakeMaker 7.70    
    ExtUtils::Manifest  1.75    
    ExtUtils::ParseXS   3.51    
    File::Spec          3.75    
    JSON                4.10    
    JSON::PP            4.16    
    Module::Build       0.4234  
    Module::Signature   0.88    
    Parse::CPAN::Meta   2.150010
    Test2               1.302198
    Test::Harness       3.47    
    Test::More          1.302198
    YAML                1.30    
    YAML::Syck          1.34    
    version             0.9929  


--

Summary of my perl5 (revision 5 version 14 subversion 4) configuration:
   
  Platform:
    osname=freebsd, osvers=9.2-release-p4, archname=amd64-freebsd
    uname='freebsd cvrsnica-freebsd-92 9.2-release-p4 freebsd 9.2-release-p4 #0: tue apr 8 18:08:22 utc 2014 root@amd64-builder.daemonology.net:usrobjusrsrcsysgeneric amd64 '
    config_args='-ds -e -Dprefix=/usr/perl5.14.4'
    hint=recommended, useposix=true, d_sigaction=define
    useithreads=undef, usemultiplicity=undef
    useperlio=define, d_sfio=undef, uselargefiles=define, usesocks=undef
    use64bitint=define, use64bitall=define, uselongdouble=undef
    usemymalloc=n, bincompat5005=undef
  Compiler:
    cc='cc', ccflags ='-DHAS_FPSETMASK -DHAS_FLOATINGPOINT_H -fno-strict-aliasing -pipe -fstack-protector -I/usr/local/include',
    optimize='-O',
    cppflags='-DHAS_FPSETMASK -DHAS_FLOATINGPOINT_H -fno-strict-aliasing -pipe -fstack-protector -I/usr/local/include'
    ccversion='', gccversion='4.2.1 20070831 patched [FreeBSD]', gccosandvers=''
    intsize=4, longsize=8, ptrsize=8, doublesize=8, byteorder=12345678
    d_longlong=define, longlongsize=8, d_longdbl=define, longdblsize=16
    ivtype='long', ivsize=8, nvtype='double', nvsize=8, Off_t='off_t', lseeksize=8
    alignbytes=8, prototype=define
  Linker and Libraries:
    ld='cc', ldflags ='-Wl,-E  -fstack-protector -L/usr/local/lib'
    libpth=/usr/lib /usr/local/lib
    libs=-lgdbm -lm -lcrypt -lutil -lc
    perllibs=-lm -lcrypt -lutil -lc
    libc=, so=so, useshrplib=false, libperl=libperl.a
    gnulibc_version=''
  Dynamic Linking:
    dlsrc=dl_dlopen.xs, dlext=so, d_dlsymun=undef, ccdlflags=' '
    cccdlflags='-DPIC -fPIC', lddlflags='-shared  -L/usr/local/lib -fstack-protector'


Characteristics of this binary (from libperl): 
  Compile-time options: PERL_DONT_CREATE_GVSV PERL_MALLOC_WRAP
                        PERL_PRESERVE_IVUV USE_64_BIT_ALL USE_64_BIT_INT
                        USE_LARGE_FILES USE_PERLIO USE_PERL_ATOF
  Built under freebsd
  Compiled at May 16 2014 00:20:44
  %ENV:
    PERL5LIB=""
    PERL5OPT=""
    PERL5_CPANPLUS_IS_RUNNING="79749"
    PERL5_CPAN_IS_RUNNING="79749"
    PERL5_CPAN_IS_RUNNING_IN_RECURSION="6460,79749"
    PERLDOC="-MPod::Perldoc::ToTextOverstrike"
    PERL_BATCH="yes"
    PERL_CANARY_STABILITY_NOPROMPT="1"
    PERL_CPAN_REPORTER_CONFIG="/var/tmp/cpansmoker-1023/2024022807/cpanreporter_000_config.ini"
    PERL_EXTUTILS_AUTOINSTALL="--defaultdeps"
    PERL_USE_UNSAFE_INC="1"
  @INC:
    /usr/perl5.14.4/lib/site_perl/5.14.4/amd64-freebsd
    /usr/perl5.14.4/lib/site_perl/5.14.4
    /usr/perl5.14.4/lib/5.14.4/amd64-freebsd
    /usr/perl5.14.4/lib/5.14.4
    .