Selenium-Remote-Driver v1.49 Perl 5 v5.20.3 amd64-freebsd

Status
Pass
From
Slaven Rezić
Dist
Selenium-Remote-Driver v1.49
Platform
Perl 5 v5.20.3 amd64-freebsd
Date
2023-04-15 07:02:24
ID
795febd8-db5b-11ed-9f2e-2bd76d8775ea
This distribution has been tested as part of the CPAN Testers
project, supporting the Perl programming language.  See
http://wiki.cpantesters.org/ for more information or email
questions to cpan-testers-discuss@perl.org


--
Dear George S. Baugh,

This is a computer-generated report for Selenium-Remote-Driver-1.49
on perl 5.20.3, created by CPAN-Reporter-1.2018.

Thank you for uploading your work to CPAN.  Congratulations!
All tests were successful.

Sections of this report:

    * Tester comments
    * Program output
    * Prerequisites
    * Environment and other context

------------------------------
TESTER COMMENTS
------------------------------

Additional comments from tester:

none provided

------------------------------
PROGRAM OUTPUT
------------------------------

Output from '/usr/bin/make test':

PERL_DL_NONLAZY=1 "/usr/perl5.20.3p/bin/perl" "-MExtUtils::Command::MM" "-MTest::Harness" "-e" "undef *Test::Harness::Switches; test_harness(0, 'blib/lib', 'blib/arch')" t/*.t
t/00-compile.t .......................... ok
t/00-load.t ............................. ok
t/01-driver-pac.t ....................... ok
t/01-driver.t ........................... ok
t/01-webdriver3.t ....................... ok
t/02-webelement.t ....................... ok
t/03-spec-coverage.t .................... skipped: Author tests not required for installation.
t/04-commands-implemented.t ............. skipped: Author tests not required for installation.
t/10-switch-to-window.t ................. ok
t/12-reuse-session.t .................... ok
t/13-waiter.t ........................... ok
t/author-critic.t ....................... skipped: these tests are for testing by the author
t/author-eol.t .......................... skipped: these tests are for testing by the author
t/author-minimum-version.t .............. skipped: these tests are for testing by the author
t/author-mojibake.t ..................... skipped: these tests are for testing by the author
t/author-no-tabs.t ...................... skipped: these tests are for testing by the author
t/author-pod-coverage.t ................. skipped: these tests are for testing by the author
t/author-pod-linkcheck.t ................ skipped: these tests are for testing by the author
t/author-pod-syntax.t ................... skipped: these tests are for testing by the author
t/author-portability.t .................. skipped: these tests are for testing by the author
t/author-synopsis.t ..................... skipped: these tests are for testing by the author
t/author-test-version.t ................. skipped: these tests are for testing by the author
t/CanSetWebdriverContext.t .............. ok
t/convenience.t ......................... ok
t/error.t ............................... ok
t/Finders.t ............................. ok
t/Firefox-Profile.t ..................... ok
t/release-distmeta.t .................... skipped: these tests are for release candidate testing
t/release-kwalitee.t .................... skipped: these tests are for release candidate testing
t/release-meta-json.t ................... skipped: these tests are for release candidate testing
t/release-unused-vars.t ................. skipped: these tests are for release candidate testing
t/Remote-Connection.t ................... ok
t/Test-Selenium-Remote-Driver-google.t .. ok
t/Test-Selenium-Remote-Driver.t ......... ok
t/Test-Selenium-Remote-WebElement.t ..... ok
All tests successful.
Files=35, Tests=385, 12 wallclock secs ( 0.09 usr  0.09 sys +  3.58 cusr  3.21 csys =  6.96 CPU)
Result: PASS

------------------------------
PREREQUISITES
------------------------------

Prerequisite modules loaded:

requires:

    Module                Need    Have    
    --------------------- ------- --------
    Archive::Zip          0       1.67    
    base                  0       2.23    
    Carp                  0       1.50    
    Clone                 0       0.46    
    constant              0       1.33    
    Cwd                   0       3.75    
    Data::Dumper          0       2.183   
    Exporter              0       5.77    
    File::Basename        0       2.85    
    File::Copy            0       2.30    
    File::Spec            0       3.75    
    File::Spec::Functions 0       3.75    
    File::Temp            0       0.2311  
    File::Which           0       1.23    
    HTTP::Headers         0       6.43    
    HTTP::Request         0       6.43    
    HTTP::Response        0       6.43    
    IO::Socket            0       1.51    
    IO::Socket::INET      0       1.51    
    IO::String            0       1.08    
    IO::Uncompress::Unzip 2.030   2.106   
    JSON                  0       4.10    
    List::Util            1.33    1.63    
    LWP::UserAgent        0       6.68    
    MIME::Base64          0       3.16    
    Moo                   1.005   2.005005
    Moo::Role             0       2.005005
    namespace::clean      0       0.27    
    perl                  5.010   5.020003
    Scalar::Util          0       1.63    
    strict                0       1.08    
    Sub::Install          0       0.928   
    Test::Builder         0       1.302193
    Test::LongString      0       0.17    
    Time::HiRes           0       1.9764  
    Try::Tiny             0       0.31    
    warnings              0       1.23    
    XML::Simple           0       2.25    

build_requires:

    Module                Need    Have    
    --------------------- ------- --------
    ExtUtils::MakeMaker   0       7.70    
    File::Spec            0       3.75    
    File::stat            0       1.07    
    FindBin               0       1.53    
    IO::Handle            0       1.51    
    IPC::Open3            0       1.16    
    lib                   0       0.63    
    Test::Builder::Tester 0       1.302193
    Test::Deep            0       1.204   
    Test::Fatal           0       0.016   
    Test::LWP::UserAgent  0       0.036   
    Test::MockModule      v0.13.0 0.176.0 
    Test::More            0       1.302193

configure_requires:

    Module                Need    Have    
    --------------------- ------- --------
    ExtUtils::MakeMaker   0       7.70    


------------------------------
ENVIRONMENT AND OTHER CONTEXT
------------------------------

Environment variables:

    LC_ALL = de_DE.ISO8859-1
    PATH = /usr/local/bin:/usr/bin:/bin:/usr/local/sbin:/usr/sbin:/sbin:/home/cpansand/bin/freebsd10.3:/home/cpansand/bin/sh:/home/cpansand/bin:/usr/games:/home/cpansand/devel:/home/eserte/src/srezic-misc/scripts
    PERL5LIB = 
    PERL5OPT = 
    PERL5_CPANPLUS_IS_RUNNING = 7295
    PERL5_CPAN_IS_RUNNING = 7295
    PERL5_CPAN_IS_RUNNING_IN_RECURSION = 26938,7295
    PERLDOC = -MPod::Perldoc::ToTextOverstrike
    PERL_BATCH = yes
    PERL_CANARY_STABILITY_NOPROMPT = 1
    PERL_CPAN_REPORTER_CONFIG = /var/tmp/cpansmoker-1023/2023041207/cpanreporter_001_config.ini
    PERL_EXTUTILS_AUTOINSTALL = --defaultdeps
    PERL_USE_UNSAFE_INC = 1
    SHELL = /usr/local/bin/zsh
    TERM = screen
    TMPDIR = /var/tmp/cpansmoker-1023/2023041207

Perl special variables (and OS-specific diagnostics, for MSWin32):

    $^X = /usr/perl5.20.3p/bin/perl
    $UID/$EUID = 1023 / 1023
    $GID = 1023 1023
    $EGID = 1023 1023

Perl module toolchain versions installed:

    Module              Have    
    ------------------- --------
    CPAN                2.34    
    CPAN::Meta          2.150010
    Cwd                 3.75    
    ExtUtils::CBuilder  0.280236
    ExtUtils::Command   7.70    
    ExtUtils::Install   2.22    
    ExtUtils::MakeMaker 7.70    
    ExtUtils::Manifest  1.70    
    ExtUtils::ParseXS   3.35    
    File::Spec          3.75    
    JSON                4.10    
    JSON::PP            4.12    
    Module::Build       0.4232  
    Module::Signature   0.87    
    Parse::CPAN::Meta   2.150010
    Test::Harness       3.44    
    Test::More          1.302193
    YAML                1.30    
    YAML::Syck          1.34    
    version             0.9929  


--

Summary of my perl5 (revision 5 version 20 subversion 3) configuration:
   
  Platform:
    osname=freebsd, osvers=10.1-release, archname=amd64-freebsd
    uname='freebsd cvrsnica-freebsd-101.herceg.de 10.1-release freebsd 10.1-release #0 r274401: tue nov 11 21:02:49 utc 2014 root@releng1.nyi.freebsd.org:usrobjusrsrcsysgeneric amd64 '
    config_args='-ds -e -Dprefix=/usr/perl5.20.3p -Dcf_email=srezic@cpan.org'
    hint=recommended, useposix=true, d_sigaction=define
    useithreads=undef, usemultiplicity=undef
    use64bitint=define, use64bitall=define, uselongdouble=undef
    usemymalloc=n, bincompat5005=undef
  Compiler:
    cc='cc', ccflags ='-DHAS_FPSETMASK -DHAS_FLOATINGPOINT_H -fno-strict-aliasing -pipe -fstack-protector -I/usr/local/include',
    optimize='-O',
    cppflags='-DHAS_FPSETMASK -DHAS_FLOATINGPOINT_H -fno-strict-aliasing -pipe -fstack-protector -I/usr/local/include'
    ccversion='', gccversion='4.2.1 Compatible FreeBSD Clang 3.4.1 (tags/RELEASE_34/dot1-final 208032)', gccosandvers=''
    intsize=4, longsize=8, ptrsize=8, doublesize=8, byteorder=12345678
    d_longlong=define, longlongsize=8, d_longdbl=define, longdblsize=16
    ivtype='long', ivsize=8, nvtype='double', nvsize=8, Off_t='off_t', lseeksize=8
    alignbytes=8, prototype=define
  Linker and Libraries:
    ld='cc', ldflags ='-pthread -Wl,-E  -fstack-protector -L/usr/local/lib'
    libpth=/usr/lib /usr/local/lib /usr/include/clang/3.4.1 /usr/lib
    libs=-lpthread -lgdbm -lm -lcrypt -lutil -lc
    perllibs=-lpthread -lm -lcrypt -lutil -lc
    libc=, so=so, useshrplib=false, libperl=libperl.a
    gnulibc_version=''
  Dynamic Linking:
    dlsrc=dl_dlopen.xs, dlext=so, d_dlsymun=undef, ccdlflags=' '
    cccdlflags='-DPIC -fPIC', lddlflags='-shared  -L/usr/local/lib -fstack-protector'


Characteristics of this binary (from libperl): 
  Compile-time options: HAS_TIMES PERLIO_LAYERS PERL_DONT_CREATE_GVSV
                        PERL_HASH_FUNC_ONE_AT_A_TIME_HARD PERL_MALLOC_WRAP
                        PERL_NEW_COPY_ON_WRITE PERL_PRESERVE_IVUV
                        USE_64_BIT_ALL USE_64_BIT_INT USE_LARGE_FILES
                        USE_LOCALE USE_LOCALE_COLLATE USE_LOCALE_CTYPE
                        USE_LOCALE_NUMERIC USE_PERLIO USE_PERL_ATOF
  Built under freebsd
  Compiled at Sep 12 2015 22:44:25
  %ENV:
    PERL5LIB=""
    PERL5OPT=""
    PERL5_CPANPLUS_IS_RUNNING="7295"
    PERL5_CPAN_IS_RUNNING="7295"
    PERL5_CPAN_IS_RUNNING_IN_RECURSION="26938,7295"
    PERLDOC="-MPod::Perldoc::ToTextOverstrike"
    PERL_BATCH="yes"
    PERL_CANARY_STABILITY_NOPROMPT="1"
    PERL_CPAN_REPORTER_CONFIG="/var/tmp/cpansmoker-1023/2023041207/cpanreporter_001_config.ini"
    PERL_EXTUTILS_AUTOINSTALL="--defaultdeps"
    PERL_USE_UNSAFE_INC="1"
  @INC:
    /usr/perl5.20.3p/lib/site_perl/5.20.3/amd64-freebsd
    /usr/perl5.20.3p/lib/site_perl/5.20.3
    /usr/perl5.20.3p/lib/5.20.3/amd64-freebsd
    /usr/perl5.20.3p/lib/5.20.3
    .