Report for Template-Benchmark-1.09_01

Back
From: metabase:user:320bfe00-2aae-11df-837a-5e0a49663a4f
Subject: PASS Template-Benchmark-1.09_01 v5.17.2 GNU/Linux
Date: 2012-09-20T11:08:14Z

This distribution has been tested as part of the CPAN Testers
project, supporting the Perl programming language.  See
http://wiki.cpantesters.org/ for more information or email
questions to cpan-testers-discuss@perl.org


--
Dear Sam Graham,

This is a computer-generated report for Template-Benchmark-1.09_01
on perl 5.17.2, created by CPAN-Reporter-1.2006.

Thank you for uploading your work to CPAN.  Congratulations!
All tests were successful.

Sections of this report:

    * Tester comments
    * Program output
    * Prerequisites
    * Environment and other context

------------------------------
TESTER COMMENTS
------------------------------

Additional comments from tester:

this report is from an automated smoke testing program
and was not reviewed by a human for accuracy

------------------------------
PROGRAM OUTPUT
------------------------------

Output from './Build test':

# Testing Template::Benchmark 1.09_01, Perl 5.017002, /mnt/k75/homesand/src/perl/repoperls/installed-perls/perl/v5.17.2/a2da/bin/perl
t/00-load.t .................. ok
t/10-class-methods.t ......... ok
t/15-constructor.t ........... ok
t/16-only-plugin.t ........... ok
t/17-features-from.t ......... ok
t/18-cache-types-from.t ...... ok
# Using plugin HTMLTemplate (2.91) for instance tests
t/20-instance-methods.t ...... ok
t/30-custom-dataset.t ........ skipped: Dataset testing requires one of the following sets of modules to be installed: (Template::Sandbox Cache::CacheFactory CHI Cache::FastMmap Cache::FileCache Cache::FastMemoryCache Cache::Ref::FIFO) (Text::Xslate 0.2007)
# Using plugin HTMLTemplate (2.91) for feature repeats tests
t/40-per-feature-repeats.t ... ok
t/50-script-run.t ............ ok
xt/release/check-changes.t ... skipped: Test::CheckChanges 0.08 not available for testing
xt/release/fixme.t ........... ok
xt/release/hasversion.t ...... ok
xt/release/manifest.t ........ skipped: Author tests not required for installation
xt/release/meta.t ............ ok
defined(@array) is deprecated at /home/src/perl/repoperls/installed-perls/perl/v5.17.2/a2da/lib/site_perl/5.17.2/x86_64-linux-thread-multi-ld/PPI/XS.pm line 45.
	(Maybe you should just omit the defined()?)
xt/release/minimumversion.t .. ok
xt/release/pod-coverage.t .... ok
xt/release/pod.t ............. ok
All tests successful.
Files=18, Tests=301, 13 wallclock secs ( 0.07 usr  0.03 sys +  9.51 cusr  0.34 csys =  9.95 CPU)
Result: PASS

------------------------------
PREREQUISITES
------------------------------

Prerequisite modules loaded:

requires:

    Module            Need   Have      
    ----------------- ------ ----------
    Benchmark         0      1.13      
    File::Path        0      2.08_01   
    File::Spec        0      3.39_02   
    File::Temp        0.18   0.22      
    FindBin           0      1.51      
    Getopt::Long      0      2.38      
    IO::File          0      1.16      
    Module::Pluggable 0      4.3       
    perl              v5.6.1 5.017002  
    Pod::Usage        0      1.51      
    Scalar::Util      0      1.25      
    Text::Matrix      0      1.00      
    Text::Wrap        0      2012.0818 

build_requires:

    Module            Need   Have      
    ----------------- ------ ----------
    Config            0      0         
    Cwd               0      3.39_02   
    File::Spec        0      3.39_02   
    FindBin           0      1.51      
    Test::Command     0.08   0.08      
    Test::Exception   0      0.31      
    Test::MockObject  0      1.20120301
    Test::More        0      0.98_03   

configure_requires:

    Module            Need   Have      
    ----------------- ------ ----------
    Module::Build     0.23   0.4003    


------------------------------
ENVIRONMENT AND OTHER CONTEXT
------------------------------

Environment variables:

    AUTOMATED_TESTING = 1
    LANG = en_US.UTF-8
    LANGUAGE = en_US:en
    PATH = /home/sand/bin:/usr/local/bin:/usr/bin:/bin:/usr/bin/X11:/usr/games:/usr/local/perl/bin:/usr/X11/bin:/sbin:/usr/sbin
    PERL5LIB = 
    PERL5OPT = 
    PERL5_CPANPLUS_IS_RUNNING = 21825
    PERL5_CPAN_IS_RUNNING = 21825
    PERL_MM_USE_DEFAULT = 1
    SHELL = /usr/bin/zsh
    TERM = screen

Perl special variables (and OS-specific diagnostics, for MSWin32):

    $^X = /mnt/k75/homesand/src/perl/repoperls/installed-perls/perl/v5.17.2/a2da/bin/perl
    $UID/$EUID = 1005 / 1005
    $GID = 1005 1005
    $EGID = 1005 1005

Perl module toolchain versions installed:

    Module              Have    
    ------------------- --------
    CPAN                1.9800  
    CPAN::Meta          2.120921
    Cwd                 3.39_02 
    ExtUtils::CBuilder  0.280208
    ExtUtils::Command   1.17    
    ExtUtils::Install   1.54    
    ExtUtils::MakeMaker 6.63_02 
    ExtUtils::Manifest  1.61    
    ExtUtils::ParseXS   3.17    
    File::Spec          3.39_02 
    JSON                2.53    
    JSON::PP            2.27200 
    Module::Build       0.4003  
    Module::Signature   0.68    
    Parse::CPAN::Meta   1.4404  
    Test::Harness       3.25_01 
    Test::More          0.98_03 
    YAML                0.84    
    YAML::Syck          1.21_01 
    version             0.9901  


--

Summary of my perl5 (revision 5 version 17 subversion 2) configuration:
  Commit id: 9895e5d00535dc7fa7cb5fb3836176784043a0c4
  Platform:
    osname=linux, osvers=3.2.0-3-amd64, archname=x86_64-linux-thread-multi-ld
    uname='linux k83 3.2.0-3-amd64 #1 smp mon jul 23 02:45:17 utc 2012 x86_64 gnulinux '
    config_args='-Dprefix=/home/src/perl/repoperls/installed-perls/perl/v5.17.2/a2da -Dmyhostname=k83 -Dinstallusrbinperl=n -Uversiononly -Dusedevel -des -Ui_db -Duseithreads -Duselongdouble -DDEBUGGING=-g'
    hint=recommended, useposix=true, d_sigaction=define
    useithreads=define, usemultiplicity=define
    useperlio=define, d_sfio=undef, uselargefiles=define, usesocks=undef
    use64bitint=define, use64bitall=define, uselongdouble=define
    usemymalloc=n, bincompat5005=undef
  Compiler:
    cc='cc', ccflags ='-D_REENTRANT -D_GNU_SOURCE -fno-strict-aliasing -pipe -fstack-protector -I/usr/local/include -D_LARGEFILE_SOURCE -D_FILE_OFFSET_BITS=64',
    optimize='-O2 -g',
    cppflags='-D_REENTRANT -D_GNU_SOURCE -fno-strict-aliasing -pipe -fstack-protector -I/usr/local/include'
    ccversion='', gccversion='4.7.1', gccosandvers=''
    intsize=4, longsize=8, ptrsize=8, doublesize=8, byteorder=12345678
    d_longlong=define, longlongsize=8, d_longdbl=define, longdblsize=16
    ivtype='long', ivsize=8, nvtype='long double', nvsize=16, Off_t='off_t', lseeksize=8
    alignbytes=16, prototype=define
  Linker and Libraries:
    ld='cc', ldflags =' -fstack-protector -L/usr/local/lib'
    libpth=/usr/local/lib /lib/x86_64-linux-gnu /lib/../lib /usr/lib/x86_64-linux-gnu /usr/lib/../lib /lib /usr/lib
    libs=-lnsl -ldb -ldl -lm -lcrypt -lutil -lpthread -lc
    perllibs=-lnsl -ldl -lm -lcrypt -lutil -lpthread -lc
    libc=, so=so, useshrplib=false, libperl=libperl.a
    gnulibc_version='2.13'
  Dynamic Linking:
    dlsrc=dl_dlopen.xs, dlext=so, d_dlsymun=undef, ccdlflags='-Wl,-E'
    cccdlflags='-fPIC', lddlflags='-shared -O2 -g -L/usr/local/lib -fstack-protector'


Characteristics of this binary (from libperl): 
  Compile-time options: HAS_TIMES MULTIPLICITY PERLIO_LAYERS
                        PERL_DONT_CREATE_GVSV PERL_IMPLICIT_CONTEXT
                        PERL_MALLOC_WRAP PERL_PRESERVE_IVUV PERL_USE_DEVEL
                        USE_64_BIT_ALL USE_64_BIT_INT USE_ITHREADS
                        USE_LARGE_FILES USE_LOCALE USE_LOCALE_COLLATE
                        USE_LOCALE_CTYPE USE_LOCALE_NUMERIC USE_LONG_DOUBLE
                        USE_PERLIO USE_PERL_ATOF USE_REENTRANT_API
  Built under linux
  Compiled at Aug 14 2012 06:25:56
  %ENV:
    PERL5LIB=""
    PERL5OPT=""
    PERL5_CPANPLUS_IS_RUNNING="21825"
    PERL5_CPAN_IS_RUNNING="21825"
    PERL_MM_USE_DEFAULT="1"
  @INC:
    /home/src/perl/repoperls/installed-perls/perl/v5.17.2/a2da/lib/site_perl/5.17.2/x86_64-linux-thread-multi-ld
    /home/src/perl/repoperls/installed-perls/perl/v5.17.2/a2da/lib/site_perl/5.17.2
    /home/src/perl/repoperls/installed-perls/perl/v5.17.2/a2da/lib/5.17.2/x86_64-linux-thread-multi-ld
    /home/src/perl/repoperls/installed-perls/perl/v5.17.2/a2da/lib/5.17.2
    .