Dist-Zilla-Plugin-CheckIssues v0.011 Perl 5 v5.24.3 i86pc-solaris-64

Status
Pass
From
Chris Williams (BINGOS)
Dist
Dist-Zilla-Plugin-CheckIssues v0.011
Platform
Perl 5 v5.24.3 i86pc-solaris-64
Date
2020-11-14 07:10:27
ID
79107a00-2648-11eb-84bc-edd243e66a77
This distribution has been tested as part of the CPAN Testers
project, supporting the Perl programming language.  See
http://wiki.cpantesters.org/ for more information or email
questions to cpan-testers-discuss@perl.org


--

Dear Karen Etheridge,

This is a computer-generated error report created automatically by
CPANPLUS, version 0.9908. Testers personal comments may appear
at the end of this report.


Thank you for uploading your work to CPAN.  Congratulations!
All tests were successful.

TEST RESULTS:

Below is the error stack from stage 'make test':

PERL_DL_NONLAZY=1 "/home/cpan/pit/bare/perl-5.24.3/bin/perl" "-MExtUtils::Command::MM" "-MTest::Harness" "-e" "undef *Test::Harness::Switches; test_harness(0, 'blib/lib', 'blib/arch')" t/*.t
# 
# Versions for all modules listed in MYMETA.json (including optional ones):
# 
# === Configure Requires ===
# 
#     Module                       Want     Have
#     ------------------------ -------- --------
#     CPAN::Meta::Requirements 2.120620    2.140
#     ExtUtils::MakeMaker           any     7.48
#     Module::Metadata              any 1.000031
# 
# === Build Requires ===
# 
#     Module              Want Have
#     ------------------- ---- ----
#     ExtUtils::MakeMaker  any 7.48
# 
# === Test Requires ===
# 
#     Module                          Want     Have
#     ------------------------------- ---- --------
#     Dist::Zilla::App::Tester         any    6.017
#     Dist::Zilla::Role::MetaProvider  any    6.017
#     ExtUtils::MakeMaker              any     7.48
#     File::Spec                       any     3.75
#     File::pushd                      any    1.016
#     Moose::Util                      any   2.2013
#     Path::Tiny                       any    0.114
#     Test::DZil                       any    6.017
#     Test::Deep                       any    1.130
#     Test::Fatal                      any    0.016
#     Test::More                      0.88 1.302181
#     if                               any   0.0606
#     lib                              any     0.63
# 
# === Test Recommends ===
# 
#     Module         Want     Have
#     ---------- -------- --------
#     CPAN::Meta 2.120900 2.150010
# 
# === Runtime Requires ===
# 
#     Module                               Want      Have
#     -------------------------------- -------- ---------
#     Dist::Zilla                      4.300039     6.017
#     Dist::Zilla::App                      any     6.017
#     Dist::Zilla::Role::BeforeRelease      any     6.017
#     Encode                                any      3.07
#     HTTP::Headers                         any      6.26
#     HTTP::Tiny                            any 0.056_001
#     JSON::MaybeXS                    1.001000  1.004003
#     List::Util                           1.33      1.55
#     Log::Dispatch                        2.49      2.70
#     Moose                                 any    2.2013
#     Term::ANSIColor                      3.00      4.04
#     namespace::autoclean                  any      0.29
#     strict                                any      1.11
#     warnings                              any      1.36
# 
# === Other Modules ===
# 
#     Module                Have
#     --------------- ----------
#     App::Cmd             0.331
#     Encode                3.07
#     File::Temp          0.2311
#     JSON::PP        2.27300_01
#     Log::Dispatch         2.70
#     Module::Runtime      0.016
#     Pod::Coverage      missing
#     Sub::Name             0.26
#     YAML               missing
#     autodie               2.29
# 
t/00-report-prereqs.t .. ok
t/01-basic.t ........... ok
t/02-no-rt.t ........... ok
t/03-no-repo.t ......... ok
t/04-command.t ......... ok
t/zzz-check-breaks.t ... ok
All tests successful.
Files=6, Tests=20, 10 wallclock secs ( 0.06 usr  0.03 sys +  8.53 cusr  1.06 csys =  9.68 CPU)
Result: PASS


PREREQUISITES:

Here is a list of prerequisites you specified and versions we
managed to load:

	  Module Name                        Have     Want
	  Dist::Zilla                       6.017 4.300039
	  Dist::Zilla::App                  6.017        0
	  Dist::Zilla::App::Tester          6.017        0
	  Dist::Zilla::Role::BeforeRelease    6.017        0
	  Dist::Zilla::Role::MetaProvider    6.017        0
	  Encode                             3.07        0
	  ExtUtils::MakeMaker                7.48        0
	  File::Spec                         3.75        0
	  File::pushd                       1.016        0
	  HTTP::Headers                      6.26        0
	  HTTP::Tiny                     0.056_001        0
	  JSON::MaybeXS                  1.004003 1.001000
	  List::Util                         1.55     1.33
	  Log::Dispatch                      2.70     2.49
	  Moose                            2.2013        0
	  Moose::Util                      2.2013        0
	  Path::Tiny                        0.114        0
	  Term::ANSIColor                    4.04     3.00
	  Test::DZil                        6.017        0
	  Test::Deep                        1.130        0
	  Test::Fatal                       0.016        0
	  Test::More                     1.302181     0.88
	  if                               0.0606        0
	  lib                                0.63        0
	  namespace::autoclean               0.29        0
	  strict                             1.11        0
	  warnings                           1.36        0

Perl module toolchain versions installed:
	Module Name                        Have
	CPANPLUS                         0.9908
	CPANPLUS::Dist::Build              0.90
	Cwd                                3.75
	ExtUtils::CBuilder             0.280234
	ExtUtils::Command                  7.48
	ExtUtils::Install                  2.18
	ExtUtils::MakeMaker                7.48
	ExtUtils::Manifest                 1.72
	ExtUtils::ParseXS                  3.35
	File::Spec                         3.75
	Module::Build                    0.4231
	Pod::Parser                        1.63
	Pod::Simple                        3.32
	Test2                          1.302181
	Test::Harness                      3.42
	Test::More                     1.302181
	version                          0.9928

******************************** NOTE ********************************
The comments above are created mechanically, possibly without manual
checking by the sender.  As there are many people performing automatic
tests on each upload to CPAN, it is likely that you will receive
identical messages about the same problem.

If you believe that the message is mistaken, please reply to the first
one with correction and/or additional informations, and do not take
it personally.  We appreciate your patience. :)
**********************************************************************

Additional comments:


This report was machine-generated by CPANPLUS::Dist::YACSmoke 1.08.
Powered by minismokebox version 0.68

CPANPLUS is prefering Build.PL

------------------------------
ENVIRONMENT AND OTHER CONTEXT
------------------------------

Environment variables:

    AUTOMATED_TESTING = 1
    LANG = en_GB.UTF-8
    NONINTERACTIVE_TESTING = 1
    PATH = /usr/bin:/usr/sbin:/sbin:/opt/ooce/bin:/usr/gnu/bin
    PERL5LIB = /home/cpan/pit/jail/Oxj64Laz18/lib/perl5:/home/cpan/pit/bare/conf/perl-5.24.3/.cpanplus/5.24.3/build/je1TSgZ4BV/Dist-Zilla-Plugin-CheckIssues-0.011/blib/lib:/home/cpan/pit/bare/conf/perl-5.24.3/.cpanplus/5.24.3/build/je1TSgZ4BV/Dist-Zilla-Plugin-CheckIssues-0.011/blib/arch
    PERL5_CPANPLUS_IS_RUNNING = 25
    PERL5_CPANPLUS_IS_VERSION = 0.9908
    PERL5_MINISMOKEBOX = 0.68
    PERL5_YACSMOKE_BASE = /home/cpan/pit/bare/conf/perl-5.24.3
    PERL_EXTUTILS_AUTOINSTALL = --defaultdeps
    PERL_LOCAL_LIB_ROOT = /home/cpan/pit/jail/Oxj64Laz18
    PERL_MB_OPT = --install_base "/home/cpan/pit/jail/Oxj64Laz18"
    PERL_MM_OPT = INSTALL_BASE=/home/cpan/pit/jail/Oxj64Laz18
    PERL_MM_USE_DEFAULT = 1
    PERL_USE_UNSAFE_INC = 1
    SHELL = /bin/bash
    TERM = screen

Perl special variables (and OS-specific diagnostics, for MSWin32):

    Perl: $^X = /home/cpan/pit/bare/perl-5.24.3/bin/perl
    UID:  $<  = 101
    EUID: $>  = 101
    GID:  $(  = 101 101
    EGID: $)  = 101 101


-------------------------------


--

Summary of my perl5 (revision 5 version 24 subversion 3) configuration:
   
  Platform:
    osname=solaris, osvers=2.11, archname=i86pc-solaris-64
    uname='sunos ouzel 5.11 omnios-r151034-0d278a0cc5 i86pc i386 i86pc '
    config_args='-des -Dprefix=/home/cpan/pit/bare/perl-5.24.3 -Duse64bitall -Dcc=gcc'
    hint=recommended, useposix=true, d_sigaction=define
    useithreads=undef, usemultiplicity=undef
    use64bitint=define, use64bitall=define, uselongdouble=undef
    usemymalloc=n, bincompat5005=undef
  Compiler:
    cc='gcc', ccflags ='-m64 -fwrapv -fno-strict-aliasing -pipe -fstack-protector-strong -D_LARGEFILE_SOURCE -D_FILE_OFFSET_BITS=64 -D_FORTIFY_SOURCE=2 -DPERL_USE_SAFE_PUTENV',
    optimize='-O',
    cppflags='-m64 -fwrapv -fno-strict-aliasing -pipe -fstack-protector-strong'
    ccversion='', gccversion='9.3.0', gccosandvers=''
    intsize=4, longsize=8, ptrsize=8, doublesize=8, byteorder=12345678, doublekind=3
    d_longlong=define, longlongsize=8, d_longdbl=define, longdblsize=16, longdblkind=3
    ivtype='long', ivsize=8, nvtype='double', nvsize=8, Off_t='off_t', lseeksize=8
    alignbytes=8, prototype=define
  Linker and Libraries:
    ld='gcc', ldflags =' -m64 -fstack-protector-strong -L/usr/gnu/lib '
    libpth=/opt/gcc-9/lib /opt/gcc-9/lib/gcc/x86_64-pc-solaris2.11/9.3.0/include-fixed /usr/lib /usr/gnu/lib /usr/ccs/lib
    libs=-lpthread -lsocket -lnsl -ldl -lm -lc
    perllibs=-lpthread -lsocket -lnsl -ldl -lm -lc
    libc=/lib/libc.so, so=so, useshrplib=true, libperl=libperl.so
    gnulibc_version=''
  Dynamic Linking:
    dlsrc=dl_dlopen.xs, dlext=so, d_dlsymun=undef, ccdlflags='  -R /home/cpan/pit/bare/perl-5.24.3/lib/5.24.3/i86pc-solaris-64/CORE'
    cccdlflags='-fPIC', lddlflags=' -shared -m64 -L/usr/gnu/lib -fstack-protector-strong'


Characteristics of this binary (from libperl): 
  Compile-time options: HAS_TIMES PERLIO_LAYERS PERL_COPY_ON_WRITE
                        PERL_DONT_CREATE_GVSV
                        PERL_HASH_FUNC_ONE_AT_A_TIME_HARD PERL_MALLOC_WRAP
                        PERL_PRESERVE_IVUV PERL_USE_SAFE_PUTENV
                        USE_64_BIT_ALL USE_64_BIT_INT USE_LARGE_FILES
                        USE_LOCALE USE_LOCALE_COLLATE USE_LOCALE_CTYPE
                        USE_LOCALE_NUMERIC USE_LOCALE_TIME USE_PERLIO
                        USE_PERL_ATOF
  Locally applied patches:
	Devel::PatchPerl 2.00
  Built under solaris
  Compiled at Aug 19 2020 14:29:13
  %ENV:
    PERL5LIB="/home/cpan/pit/jail/Oxj64Laz18/lib/perl5:/home/cpan/pit/bare/conf/perl-5.24.3/.cpanplus/5.24.3/build/je1TSgZ4BV/Dist-Zilla-Plugin-CheckIssues-0.011/blib/lib:/home/cpan/pit/bare/conf/perl-5.24.3/.cpanplus/5.24.3/build/je1TSgZ4BV/Dist-Zilla-Plugin-CheckIssues-0.011/blib/arch"
    PERL5_CPANPLUS_IS_RUNNING="25"
    PERL5_CPANPLUS_IS_VERSION="0.9908"
    PERL5_MINISMOKEBOX="0.68"
    PERL5_YACSMOKE_BASE="/home/cpan/pit/bare/conf/perl-5.24.3"
    PERL_EXTUTILS_AUTOINSTALL="--defaultdeps"
    PERL_LOCAL_LIB_ROOT="/home/cpan/pit/jail/Oxj64Laz18"
    PERL_MB_OPT="--install_base "/home/cpan/pit/jail/Oxj64Laz18""
    PERL_MM_OPT="INSTALL_BASE=/home/cpan/pit/jail/Oxj64Laz18"
    PERL_MM_USE_DEFAULT="1"
    PERL_USE_UNSAFE_INC="1"
  @INC:
    /home/cpan/pit/jail/Oxj64Laz18/lib/perl5/5.24.3/i86pc-solaris-64
    /home/cpan/pit/jail/Oxj64Laz18/lib/perl5/5.24.3
    /home/cpan/pit/jail/Oxj64Laz18/lib/perl5/i86pc-solaris-64
    /home/cpan/pit/jail/Oxj64Laz18/lib/perl5
    /home/cpan/pit/bare/conf/perl-5.24.3/.cpanplus/5.24.3/build/je1TSgZ4BV/Dist-Zilla-Plugin-CheckIssues-0.011/blib/lib
    /home/cpan/pit/bare/conf/perl-5.24.3/.cpanplus/5.24.3/build/je1TSgZ4BV/Dist-Zilla-Plugin-CheckIssues-0.011/blib/arch
    /home/cpan/pit/bare/perl-5.24.3/lib/site_perl/5.24.3/i86pc-solaris-64
    /home/cpan/pit/bare/perl-5.24.3/lib/site_perl/5.24.3
    /home/cpan/pit/bare/perl-5.24.3/lib/5.24.3/i86pc-solaris-64
    /home/cpan/pit/bare/perl-5.24.3/lib/5.24.3
    .