Template-Mustache v1.2.0 Perl 5 v5.24.4 x86_64-linux

Status
Pass
From
Andreas J. König (ANDK)
Dist
Template-Mustache v1.2.0
Platform
Perl 5 v5.24.4 x86_64-linux
Date
2018-06-04 23:31:57
ID
78c7b69e-684f-11e8-a7b5-b1eb1a1f76ef
This distribution has been tested as part of the CPAN Testers
project, supporting the Perl programming language.  See
http://wiki.cpantesters.org/ for more information or email
questions to cpan-testers-discuss@perl.org


--
Dear Yanick Champoux,

This is a computer-generated report for Template-Mustache-1.2.0
on perl 5.24.4, created by CPAN-Reporter-1.2018.

Thank you for uploading your work to CPAN.  Congratulations!
All tests were successful.

Sections of this report:

    * Tester comments
    * Program output
    * Prerequisites
    * Environment and other context

------------------------------
TESTER COMMENTS
------------------------------

Additional comments from tester:

this report is from an automated smoke testing program
and was not reviewed by a human for accuracy

------------------------------
PROGRAM OUTPUT
------------------------------

Output from '/usr/bin/make test':

PERL_DL_NONLAZY=1 "/home/sand/src/perl/repoperls/installed-perls/host/k93msid/v5.24.4/bb7f/bin/perl" "-MExtUtils::Command::MM" "-MTest::Harness" "-e" "undef *Test::Harness::Switches; test_harness(0, 'blib/lib', 'blib/arch')" t/*.t
t/00-compile.t ......................... ok
# 
# Versions for all modules listed in MYMETA.json (including optional ones):
# 
# === Configure Requires ===
# 
#     Module              Want Have
#     ------------------- ---- ----
#     ExtUtils::MakeMaker  any 7.34
# 
# === Build Requires ===
# 
#     Module              Want Have
#     ------------------- ---- ----
#     ExtUtils::MakeMaker  any 7.34
# 
# === Test Requires ===
# 
#     Module              Want     Have
#     ------------------- ---- --------
#     ExtUtils::MakeMaker  any     7.34
#     File::Spec           any     3.74
#     File::Temp           any   0.2304
#     IO::Handle           any     1.39
#     IPC::Open3           any     1.20
#     Test::Exception      any     0.43
#     Test::More          0.88 1.302137
#     Test::Most           any     0.35
#     Test::Requires       any     0.10
#     base                 any  2.23_01
# 
# === Test Recommends ===
# 
#     Module         Want     Have
#     ---------- -------- --------
#     CPAN::Meta 2.120900 2.150010
# 
# === Runtime Requires ===
# 
#     Module                Want     Have
#     ----------------- -------- --------
#     Carp                   any     1.40
#     Escape::Houdini        any    0.3.0
#     List::AllUtils         any     0.14
#     Moo                    any 2.003004
#     MooseX::MungeHas       any    0.008
#     Parse::RecDescent 1.967015 1.967015
#     Path::Tiny             any    0.104
#     Scalar::Util           any     1.50
#     Text::Balanced         any     2.03
#     YAML::XS               any     0.69
#     autodie                any     2.29
#     strict                 any     1.11
#     vars                   any     1.03
#     warnings               any     1.36
# 
t/00-report-prereqs.t .................. ok
t/001_spec_compatibility.t ............. skipped: Couldn't find specs; try running `git submodule update --init`
t/basic.t .............................. ok
t/lambdas_receive_render_helper.t ...... ok
t/moose-trait.t ........................ ok
t/parse_errors.t ....................... ok
t/partials.t ........................... ok
t/read_data_from_classes.t ............. ok
t/read_data_from_hashes.t .............. ok
t/read_data_from_instances.t ........... ok
t/read_data_from_subclass.t ............ ok
t/read_partials_from_file_system.t ..... ok
t/read_partials_from_hashes.t .......... ok
t/read_partials_from_partial_method.t .. ok
t/read_partials_from_subs.t ............ ok
t/read_templates_from_file_system.t .... ok
t/read_templates_from_subclass.t ....... ok
t/sections.t ........................... ok
t/variable-resolution.t ................ ok
All tests successful.
Files=20, Tests=50, 12 wallclock secs ( 0.08 usr  0.09 sys +  3.88 cusr  0.74 csys =  4.79 CPU)
Result: PASS

------------------------------
PREREQUISITES
------------------------------

Prerequisite modules loaded:

requires:

    Module              Need     Have    
    ------------------- -------- --------
    autodie             0        2.29    
    Carp                0        1.40    
    Escape::Houdini     0        0.3.0   
    List::AllUtils      0        0.14    
    Moo                 0        2.003004
    MooseX::MungeHas    0        0.008   
    Parse::RecDescent   1.967015 1.967015
    Path::Tiny          0        0.104   
    perl                5.012000 5.024004
    Scalar::Util        0        1.50    
    strict              0        1.11    
    Text::Balanced      0        2.03    
    vars                0        1.03    
    warnings            0        1.36    
    YAML::XS            0        0.69    

build_requires:

    Module              Need     Have    
    ------------------- -------- --------
    base                0        2.23_01 
    ExtUtils::MakeMaker 0        7.34    
    File::Spec          0        3.74    
    File::Temp          0        0.2304  
    IO::Handle          0        1.39    
    IPC::Open3          0        1.20    
    Test::Exception     0        0.43    
    Test::More          0.88     1.302137
    Test::Most          0        0.35    
    Test::Requires      0        0.10    

configure_requires:

    Module              Need     Have    
    ------------------- -------- --------
    ExtUtils::MakeMaker 0        7.34    


------------------------------
ENVIRONMENT AND OTHER CONTEXT
------------------------------

Environment variables:

    AUTOMATED_TESTING = 1
    LANG = en_US.UTF-8
    PATH = /home/sand/bin:/usr/local/bin:/usr/bin:/bin:/usr/games:/usr/local/perl/bin:/usr/X11/bin:/sbin:/usr/sbin
    PERL5LIB = 
    PERL5OPT = 
    PERL5_CPANPLUS_IS_RUNNING = 27749
    PERL5_CPAN_IS_RUNNING = 27749
    PERL_CANARY_STABILITY_NOPROMPT = 1
    PERL_MM_USE_DEFAULT = 1
    PERL_USE_UNSAFE_INC = 1
    SHELL = /usr/bin/zsh
    TERM = screen

Perl special variables (and OS-specific diagnostics, for MSWin32):

    $^X = /home/sand/src/perl/repoperls/installed-perls/host/k93msid/v5.24.4/bb7f/bin/perl
    $UID/$EUID = 1005 / 1005
    $GID = 1005 1005
    $EGID = 1005 1005

Perl module toolchain versions installed:

    Module              Have      
    ------------------- ----------
    CPAN                2.20      
    CPAN::Meta          2.150010  
    Cwd                 3.74      
    ExtUtils::CBuilder  0.280230  
    ExtUtils::Command   7.34      
    ExtUtils::Install   2.06      
    ExtUtils::MakeMaker 7.34      
    ExtUtils::Manifest  1.70      
    ExtUtils::ParseXS   3.31      
    File::Spec          3.74      
    JSON                2.97001   
    JSON::PP            2.27300_01
    Module::Build       0.4224    
    Module::Signature   0.81      
    Parse::CPAN::Meta   2.150010  
    Test::Harness       3.42      
    Test::More          1.302137  
    YAML                1.26      
    YAML::Syck          1.30      
    version             0.9916    


--

Summary of my perl5 (revision 5 version 24 subversion 4) configuration:
  Derived from: 901dd848e31de6d0cacfb77c029b4e92c41a13ce
  Platform:
    osname=linux, osvers=4.14.0-3-amd64, archname=x86_64-linux
    uname='linux k93msid 4.14.0-3-amd64 #1 smp debian 4.14.12-2 (2018-01-06) x86_64 gnulinux '
    config_args='-Dprefix=/home/sand/src/perl/repoperls/installed-perls/host/k93msid/v5.24.4/bb7f -Dmyhostname=k93msid -Dinstallusrbinperl=n -Uversiononly -Dusedevel -des -Ui_db -Dlibswanted=cl pthread socket inet nsl gdbm dbm malloc dl ld sun m crypt sec util c cposix posix ucb BSD gdbm_compat -Uuseithreads -Uuselongdouble -DEBUGGING=both'
    hint=recommended, useposix=true, d_sigaction=define
    useithreads=undef, usemultiplicity=undef
    use64bitint=define, use64bitall=define, uselongdouble=undef
    usemymalloc=n, bincompat5005=undef
  Compiler:
    cc='cc', ccflags ='-fwrapv -DDEBUGGING -fno-strict-aliasing -pipe -fstack-protector-strong -I/usr/local/include -D_LARGEFILE_SOURCE -D_FILE_OFFSET_BITS=64 -D_FORTIFY_SOURCE=2',
    optimize='-O2 -g',
    cppflags='-fwrapv -DDEBUGGING -fno-strict-aliasing -pipe -fstack-protector-strong -I/usr/local/include'
    ccversion='', gccversion='7.2.0', gccosandvers=''
    intsize=4, longsize=8, ptrsize=8, doublesize=8, byteorder=12345678, doublekind=3
    d_longlong=define, longlongsize=8, d_longdbl=define, longdblsize=16, longdblkind=3
    ivtype='long', ivsize=8, nvtype='double', nvsize=8, Off_t='off_t', lseeksize=8
    alignbytes=8, prototype=define
  Linker and Libraries:
    ld='cc', ldflags =' -fstack-protector-strong -L/usr/local/lib'
    libpth=/usr/local/lib /usr/lib/gcc/x86_64-linux-gnu/7/include-fixed /usr/include/x86_64-linux-gnu /usr/lib /lib/x86_64-linux-gnu /lib/../lib /usr/lib/x86_64-linux-gnu /usr/lib/../lib /lib
    libs=-lpthread -lnsl -ldl -lm -lcrypt -lutil -lc
    perllibs=-lpthread -lnsl -ldl -lm -lcrypt -lutil -lc
    libc=libc-2.26.so, so=so, useshrplib=false, libperl=libperl.a
    gnulibc_version='2.26'
  Dynamic Linking:
    dlsrc=dl_dlopen.xs, dlext=so, d_dlsymun=undef, ccdlflags='-Wl,-E'
    cccdlflags='-fPIC', lddlflags='-shared -O2 -g -L/usr/local/lib -fstack-protector-strong'


Characteristics of this binary (from libperl): 
  Compile-time options: DEBUGGING HAS_TIMES PERLIO_LAYERS PERL_COPY_ON_WRITE
                        PERL_DONT_CREATE_GVSV
                        PERL_HASH_FUNC_ONE_AT_A_TIME_HARD PERL_MALLOC_WRAP
                        PERL_PRESERVE_IVUV PERL_USE_DEVEL USE_64_BIT_ALL
                        USE_64_BIT_INT USE_LARGE_FILES USE_LOCALE
                        USE_LOCALE_COLLATE USE_LOCALE_CTYPE
                        USE_LOCALE_NUMERIC USE_LOCALE_TIME USE_PERLIO
                        USE_PERL_ATOF
  Locally applied patches:
	uncommitted-changes
  Built under linux
  Compiled at May 23 2018 20:10:44
  %ENV:
    PERL5LIB=""
    PERL5OPT=""
    PERL5_CPANPLUS_IS_RUNNING="27749"
    PERL5_CPAN_IS_RUNNING="27749"
    PERL_CANARY_STABILITY_NOPROMPT="1"
    PERL_MM_USE_DEFAULT="1"
    PERL_USE_UNSAFE_INC="1"
  @INC:
    /home/sand/src/perl/repoperls/installed-perls/host/k93msid/v5.24.4/bb7f/lib/site_perl/5.24.4/x86_64-linux
    /home/sand/src/perl/repoperls/installed-perls/host/k93msid/v5.24.4/bb7f/lib/site_perl/5.24.4
    /home/sand/src/perl/repoperls/installed-perls/host/k93msid/v5.24.4/bb7f/lib/5.24.4/x86_64-linux
    /home/sand/src/perl/repoperls/installed-perls/host/k93msid/v5.24.4/bb7f/lib/5.24.4
    .