Report for Catalyst-Devel-1.34

Back
From: metabase:user:3215efbe-2aae-11df-837a-5e0a49663a4f
Subject: PASS Catalyst-Devel-1.34 v5.14.0 GNU/Linux
Date: 2011-10-06T15:32:59Z

This distribution has been tested as part of the CPAN Testers
project, supporting the Perl programming language.  See
http://wiki.cpantesters.org/ for more information or email
questions to cpan-testers-discuss@perl.org


--
Dear Tomas Doran,

This is a computer-generated report for Catalyst-Devel-1.34
on perl 5.14.0, created by CPAN-Reporter-1.2001.

Thank you for uploading your work to CPAN.  Congratulations!
All tests were successful.

Sections of this report:

    * Tester comments
    * Program output
    * Prerequisites
    * Environment and other context

------------------------------
TESTER COMMENTS
------------------------------

Additional comments from tester:

none provided

------------------------------
PROGRAM OUTPUT
------------------------------

Output from '/usr/bin/make test':

PERL_DL_NONLAZY=1 /opt/perl-5.14.0/bin/perl "-MExtUtils::Command::MM" "-e" "test_harness(0, 'inc', 'blib/lib', 'blib/arch')" t/01use.t t/back_compat.t t/generated_app.t t/get_sharedir_file.t t/optional_http-server-restart.t t/render_file_contents.t t/render_share_dir_file.t
t/01use.t ......................... ok
t/back_compat.t ................... ok
# Generated app is in /tmp/ItUyeAAZs9
# Installed app is in /tmp/J234YsjOoY
t/generated_app.t ................. ok
t/get_sharedir_file.t ............. ok
t/optional_http-server-restart.t .. skipped: set TEST_HTTP to enable this test
t/render_file_contents.t .......... ok
t/render_share_dir_file.t ......... ok
All tests successful.
Files=7, Tests=91, 46 wallclock secs ( 0.23 usr  0.05 sys + 42.52 cusr  3.36 csys = 46.16 CPU)
Result: PASS

------------------------------
PREREQUISITES
------------------------------

Prerequisite modules loaded:

requires:

    Module                                 Need    Have   
    -------------------------------------- ------- -------
    Catalyst                               5.90001 5.90003
    Catalyst::Action::RenderView           0.10    0.16   
    Catalyst::Plugin::ConfigLoader         0.30    0.30   
    Catalyst::Plugin::Static::Simple       0.28    0.29   
    Config::General                        2.42    2.50   
    ExtUtils::MakeMaker                    6.11    6.59   
    File::ChangeNotify                     0.07    0.20   
    File::Copy::Recursive                  0       0.38   
    File::ShareDir                         0       1.03   
    Module::Install                        0.91    1.01   
    Moose                                  0       2.0202 
    MooseX::Daemonize                      0       0.13   
    MooseX::Emulate::Class::Accessor::Fast 0       0.00903
    namespace::autoclean                   0       0.12   
    namespace::clean                       0       0.21   
    Path::Class                            0.09    0.24   
    Starman                                0       0.2013 
    Template                               2.14    2.22   
    Test::Fatal                            0.003   0.006  
    Test::More                             0.94    0.98   

build_requires:

    Module                                 Need    Have   
    -------------------------------------- ------- -------
    ExtUtils::MakeMaker                    6.42    6.59   
    Test::Fatal                            0.003   0.006  
    Test::More                             0.94    0.98   

configure_requires:

    Module                                 Need    Have   
    -------------------------------------- ------- -------
    ExtUtils::MakeMaker                    6.42    6.59   


------------------------------
ENVIRONMENT AND OTHER CONTEXT
------------------------------

Environment variables:

    LANG = de_DE.utf8
    PATH = /opt/perl-5.14.0/bin:/home/tf/bin:/usr/local/sbin:/usr/local/bin:/usr/sbin:/usr/bin:/sbin:/bin:/usr/games
    PERL5LIB = 
    PERL5OPT = 
    PERL5_CPANPLUS_IS_RUNNING = 27275
    PERL5_CPAN_IS_RUNNING = 27275
    SHELL = /bin/bash
    TERM = xterm

Perl special variables (and OS-specific diagnostics, for MSWin32):

    $^X = /opt/perl-5.14.0/bin/perl
    $UID/$EUID = 1000 / 1000
    $GID = 1000 4 20 24 46 105 119 126 1000
    $EGID = 1000 4 20 24 46 105 119 126 1000

Perl module toolchain versions installed:

    Module              Have    
    ------------------- --------
    CPAN                1.9800  
    CPAN::Meta          2.112621
    Cwd                 3.36    
    ExtUtils::CBuilder  0.280202
    ExtUtils::Command   1.17    
    ExtUtils::Install   1.56    
    ExtUtils::MakeMaker 6.59    
    ExtUtils::Manifest  1.59    
    ExtUtils::ParseXS   3.02    
    File::Spec          3.33    
    JSON                2.53    
    JSON::PP            2.27200 
    Module::Build       0.3800  
    Module::Signature   n/a     
    Parse::CPAN::Meta   1.4401  
    Test::Harness       3.23    
    Test::More          0.98    
    YAML                0.73    
    YAML::Syck          1.17    
    version             0.93    


--

Summary of my perl5 (revision 5 version 14 subversion 0) configuration:
   
  Platform:
    osname=linux, osvers=2.6.32-31-generic, archname=i686-linux-thread-multi
    uname='linux tf-s12 2.6.32-31-generic #61-ubuntu smp fri apr 8 18:24:35 utc 2011 i686 gnulinux '
    config_args='-des -Dprefix=/opt/perl-5.14.0 -Dusethreads'
    hint=recommended, useposix=true, d_sigaction=define
    useithreads=define, usemultiplicity=define
    useperlio=define, d_sfio=undef, uselargefiles=define, usesocks=undef
    use64bitint=undef, use64bitall=undef, uselongdouble=undef
    usemymalloc=n, bincompat5005=undef
  Compiler:
    cc='cc', ccflags ='-D_REENTRANT -D_GNU_SOURCE -fno-strict-aliasing -pipe -fstack-protector -I/usr/local/include -D_LARGEFILE_SOURCE -D_FILE_OFFSET_BITS=64',
    optimize='-O2',
    cppflags='-D_REENTRANT -D_GNU_SOURCE -fno-strict-aliasing -pipe -fstack-protector -I/usr/local/include'
    ccversion='', gccversion='4.4.3', gccosandvers=''
    intsize=4, longsize=4, ptrsize=4, doublesize=8, byteorder=1234
    d_longlong=define, longlongsize=8, d_longdbl=define, longdblsize=12
    ivtype='long', ivsize=4, nvtype='double', nvsize=8, Off_t='off_t', lseeksize=8
    alignbytes=4, prototype=define
  Linker and Libraries:
    ld='cc', ldflags =' -fstack-protector -L/usr/local/lib'
    libpth=/usr/local/lib /lib/../lib /usr/lib/../lib /lib /usr/lib /usr/lib/i486-linux-gnu /usr/lib64
    libs=-lnsl -ldb -ldl -lm -lcrypt -lutil -lpthread -lc
    perllibs=-lnsl -ldl -lm -lcrypt -lutil -lpthread -lc
    libc=/lib/libc-2.11.1.so, so=so, useshrplib=false, libperl=libperl.a
    gnulibc_version='2.11.1'
  Dynamic Linking:
    dlsrc=dl_dlopen.xs, dlext=so, d_dlsymun=undef, ccdlflags='-Wl,-E'
    cccdlflags='-fPIC', lddlflags='-shared -O2 -L/usr/local/lib -fstack-protector'


Characteristics of this binary (from libperl): 
  Compile-time options: MULTIPLICITY PERL_DONT_CREATE_GVSV
                        PERL_IMPLICIT_CONTEXT PERL_MALLOC_WRAP
                        PERL_PRESERVE_IVUV USE_ITHREADS USE_LARGE_FILES
                        USE_PERLIO USE_PERL_ATOF USE_REENTRANT_API
  Built under linux
  Compiled at May 15 2011 19:51:06
  %ENV:
    PERL5LIB=""
    PERL5OPT=""
    PERL5_CPANPLUS_IS_RUNNING="27275"
    PERL5_CPAN_IS_RUNNING="27275"
  @INC:
    /opt/perl-5.14.0/lib/site_perl/5.14.0/i686-linux-thread-multi
    /opt/perl-5.14.0/lib/site_perl/5.14.0
    /opt/perl-5.14.0/lib/5.14.0/i686-linux-thread-multi
    /opt/perl-5.14.0/lib/5.14.0
    .