Back
From: metabase:user:322078bc-2aae-11df-837a-5e0a49663a4f
Subject: PASS Catalyst-Plugin-StackTrace-0.12 v5.14.1 FreeBSD
Date: 2013-09-11T11:44:09Z
This distribution has been tested as part of the CPAN Testers
project, supporting the Perl programming language. See
http://wiki.cpantesters.org/ for more information or email
questions to cpan-testers-discuss@perl.org
--
Dear Tomas Doran,
This is a computer-generated error report created automatically by
CPANPLUS, version 0.9138. Testers personal comments may appear
at the end of this report.
Thank you for uploading your work to CPAN. Congratulations!
All tests were successful.
TEST RESULTS:
Below is the error stack from stage 'make test':
PERL_DL_NONLAZY=1 /opt/perl-5.14.1/bin/perl "-MExtUtils::Command::MM" "-e" "test_harness(0, 'inc', 'blib/lib', 'blib/arch')" t/*.t
t/01use.t .......... ok
t/02pod.t .......... skipped: set TEST_POD to enable this test
t/03podcoverage.t .. skipped: Test::Pod::Coverage 1.04 required
t/04critic.t ....... skipped: Critic test only for developers.
t/04trace.t ........ ok
t/05verbose1.t ..... ok
t/06verbose2.t ..... ok
t/07reverse.t ...... ok
t/08die_handler.t .. ok
All tests successful.
Files=9, Tests=27, 10 wallclock secs ( 0.12 usr 0.04 sys + 9.39 cusr 1.05 csys = 10.59 CPU)
Result: PASS
PREREQUISITES:
Here is a list of prerequisites you specified and versions we
managed to load:
Module Name Have Want
Catalyst 5.90042 5.70
Devel::StackTrace 1.30 0
ExtUtils::MakeMaker 6.65_03 6.59
MRO::Compat 0.12 0.10
Perl module toolchain versions installed:
Module Name Have
CPANPLUS 0.9142
CPANPLUS::Dist::Build 0.74
Cwd 3.40
ExtUtils::CBuilder 0.280205
ExtUtils::Command 1.17
ExtUtils::Install 1.56
ExtUtils::MakeMaker 6.65_03
ExtUtils::Manifest 1.61
ExtUtils::ParseXS 3.18
File::Spec 3.40
Module::Build 0.4005
Pod::Parser 1.61
Pod::Simple 3.28
Test::Harness 3.28
Test::More 0.98
version 0.9902
******************************** NOTE ********************************
The comments above are created mechanically, possibly without manual
checking by the sender. As there are many people performing automatic
tests on each upload to CPAN, it is likely that you will receive
identical messages about the same problem.
If you believe that the message is mistaken, please reply to the first
one with correction and/or additional informations, and do not take
it personally. We appreciate your patience. :)
**********************************************************************
Additional comments:
This report was machine-generated by CPANPLUS::Dist::YACSmoke 0.88.
------------------------------
ENVIRONMENT AND OTHER CONTEXT
------------------------------
Environment variables:
AUTOMATED_TESTING = 1
PATH = /sbin:/bin:/usr/sbin:/usr/bin:/usr/games:/usr/local/sbin:/usr/local/bin:/root/bin
PERL5LIB = :/opt/perl-5.14.1/.cpanplus/5.14.1/build/Catalyst-Action-Serialize-Data-Serializer-1.08/blib/lib:/opt/perl-5.14.1/.cpanplus/5.14.1/build/Catalyst-Action-Serialize-Data-Serializer-1.08/blib/arch:/opt/perl-5.14.1/.cpanplus/5.14.1/build/Catalyst-Plugin-StackTrace-0.12/blib/lib:/opt/perl-5.14.1/.cpanplus/5.14.1/build/Catalyst-Plugin-StackTrace-0.12/blib/arch
PERL5_CPANIDX_URL = http://cpan.mirror.local/cpanidx/
PERL5_CPANPLUS_HOME = /opt/perl-5.14.1/
PERL5_CPANPLUS_IS_RUNNING = 57109
PERL5_CPANPLUS_IS_VERSION = 0.9138
PERL_EXTUTILS_AUTOINSTALL = --defaultdeps
PERL_MM_USE_DEFAULT = 1
SHELL = /bin/csh
TERM = xterm
Perl special variables (and OS-specific diagnostics, for MSWin32):
Perl: $^X = /opt/perl-5.14.1/bin/perl
UID: $< = 0
EUID: $> = 0
GID: $( = 0 0 5
EGID: $) = 0 0 5
-------------------------------
--
Summary of my perl5 (revision 5 version 14 subversion 1) configuration:
Platform:
osname=freebsd, osvers=8.2-release, archname=amd64-freebsd
uname='freebsd scc209.staffordshire.gov.uk 8.2-release freebsd 8.2-release #0: thu feb 17 02:41:51 utc 2011 root@mason.cse.buffalo.edu:usrobjusrsrcsysgeneric amd64 '
config_args='-des -Dprefix=/opt/perl-5.14.1'
hint=recommended, useposix=true, d_sigaction=define
useithreads=undef, usemultiplicity=undef
useperlio=define, d_sfio=undef, uselargefiles=define, usesocks=undef
use64bitint=define, use64bitall=define, uselongdouble=undef
usemymalloc=n, bincompat5005=undef
Compiler:
cc='cc', ccflags ='-DHAS_FPSETMASK -DHAS_FLOATINGPOINT_H -fno-strict-aliasing -pipe -fstack-protector -I/usr/local/include',
optimize='-O',
cppflags='-DHAS_FPSETMASK -DHAS_FLOATINGPOINT_H -fno-strict-aliasing -pipe -fstack-protector -I/usr/local/include'
ccversion='', gccversion='4.2.1 20070719 [FreeBSD]', gccosandvers=''
intsize=4, longsize=8, ptrsize=8, doublesize=8, byteorder=12345678
d_longlong=define, longlongsize=8, d_longdbl=define, longdblsize=16
ivtype='long', ivsize=8, nvtype='double', nvsize=8, Off_t='off_t', lseeksize=8
alignbytes=8, prototype=define
Linker and Libraries:
ld='cc', ldflags ='-Wl,-E -fstack-protector -L/usr/local/lib'
libpth=/usr/lib /usr/local/lib
libs=-lgdbm -lm -lcrypt -lutil -lc
perllibs=-lm -lcrypt -lutil -lc
libc=, so=so, useshrplib=false, libperl=libperl.a
gnulibc_version=''
Dynamic Linking:
dlsrc=dl_dlopen.xs, dlext=so, d_dlsymun=undef, ccdlflags=' '
cccdlflags='-DPIC -fPIC', lddlflags='-shared -L/usr/local/lib -fstack-protector'
Characteristics of this binary (from libperl):
Compile-time options: PERL_DONT_CREATE_GVSV PERL_MALLOC_WRAP
PERL_PRESERVE_IVUV USE_64_BIT_ALL USE_64_BIT_INT
USE_LARGE_FILES USE_PERLIO USE_PERL_ATOF
Built under freebsd
Compiled at Jun 27 2011 12:22:07
%ENV:
PERL5LIB=":/opt/perl-5.14.1/.cpanplus/5.14.1/build/Catalyst-Action-Serialize-Data-Serializer-1.08/blib/lib:/opt/perl-5.14.1/.cpanplus/5.14.1/build/Catalyst-Action-Serialize-Data-Serializer-1.08/blib/arch:/opt/perl-5.14.1/.cpanplus/5.14.1/build/Catalyst-Plugin-StackTrace-0.12/blib/lib:/opt/perl-5.14.1/.cpanplus/5.14.1/build/Catalyst-Plugin-StackTrace-0.12/blib/arch"
PERL5_CPANIDX_URL="http://cpan.mirror.local/cpanidx/"
PERL5_CPANPLUS_HOME="/opt/perl-5.14.1/"
PERL5_CPANPLUS_IS_RUNNING="57109"
PERL5_CPANPLUS_IS_VERSION="0.9138"
PERL_EXTUTILS_AUTOINSTALL="--defaultdeps"
PERL_MM_USE_DEFAULT="1"
@INC:
/opt/perl-5.14.1/.cpanplus/5.14.1/build/Catalyst-Action-Serialize-Data-Serializer-1.08/blib/lib
/opt/perl-5.14.1/.cpanplus/5.14.1/build/Catalyst-Action-Serialize-Data-Serializer-1.08/blib/arch
/opt/perl-5.14.1/.cpanplus/5.14.1/build/Catalyst-Plugin-StackTrace-0.12/blib/lib
/opt/perl-5.14.1/.cpanplus/5.14.1/build/Catalyst-Plugin-StackTrace-0.12/blib/arch
/opt/perl-5.14.1/lib/site_perl/5.14.1/amd64-freebsd
/opt/perl-5.14.1/lib/site_perl/5.14.1
/opt/perl-5.14.1/lib/5.14.1/amd64-freebsd
/opt/perl-5.14.1/lib/5.14.1
.