Catalyst-View-RRDGraph v0.10 Perl 5 v5.39.10 x86_64-linux
- Status
- Pass
- From
- Andreas J. König (ANDK)
- Dist
-
Catalyst-View-RRDGraph v0.10
- Platform
- Perl 5 v5.39.10 x86_64-linux
- Date
- 2024-05-05 21:50:20
- ID
- 782d3e9c-0b29-11ef-9a15-470ad828ee0c
This distribution has been tested as part of the CPAN Testers
project, supporting the Perl programming language. See
http://wiki.cpantesters.org/ for more information or email
questions to cpan-testers-discuss@perl.org
--
Dear Miquel Ruiz Martin,
This is a computer-generated report for Catalyst-View-RRDGraph-0.10
on perl 5.39.10, created by CPAN-Reporter-1.2019.
Thank you for uploading your work to CPAN. Congratulations!
All tests were successful.
Sections of this report:
* Tester comments
* Program output
* Prerequisites
* Environment and other context
------------------------------
TESTER COMMENTS
------------------------------
Additional comments from tester:
this report is from an automated smoke testing program
and was not reviewed by a human for accuracy
------------------------------
PROGRAM OUTPUT
------------------------------
Output from '/usr/bin/make test':
PERL_DL_NONLAZY=1 "/tmp/basesmoker-reloperl-wJoB/bin/perl" "-MExtUtils::Command::MM" "-MTest::Harness" "-e" "undef *Test::Harness::Switches; test_harness(0, 'blib/lib', 'blib/arch')" t/*.t
t/001_load.t ............ ok
t/002_process.t ......... ok
Attempt to call undefined import method with arguments ("5.70") via package "Catalyst::Runtime" (Perhaps you forgot to load the package?) at t/lib/RRDGraphTest003.pm line 6.
[debug] Debug messages enabled
[debug] Statistics enabled
[debug] Loaded PSGI Middleware:
.----------------------------------------------------------------------------.
| Catalyst::Middleware::Stash |
| Plack::Middleware::HTTPExceptions |
| Plack::Middleware::RemoveRedundantBody 0.09 |
| Plack::Middleware::FixMissingBodyInRedirect 0.12 |
| Plack::Middleware::ContentLength |
| Plack::Middleware::MethodOverride 0.20 |
| Plack::Middleware::Head |
'----------------------------------------------------------------------------'
[debug] Loaded Request Data Handlers:
.----------------------------------------------------------------------------.
| application/x-www-form-urlencoded |
| application/json |
'----------------------------------------------------------------------------'
[debug] Loaded dispatcher "Catalyst::Dispatcher"
[debug] Loaded engine "Catalyst::Engine"
[debug] Found home "/tmp/loop_over_bdir-2084-yMTbXb/Catalyst-View-RRDGraph-0.10-0/t/lib/RRDGraphTest003"
[debug] Loaded components:
.-----------------------------------------------------------------+----------.
| Class | Type |
+-----------------------------------------------------------------+----------+
| RRDGraphTest003::Controller::Root | instance |
| RRDGraphTest003::View::RRDNormal | instance |
| RRDGraphTest003::View::RRDOnServe | instance |
| RRDGraphTest003::View::RRDOnServeFunction | instance |
'-----------------------------------------------------------------+----------'
[debug] Loaded Private actions:
.----------------------+--------------------------------------+--------------.
| Private | Class | Method |
+----------------------+--------------------------------------+--------------+
| /image_error | RRDGraphTest003::Controller::Root | image_error |
| /image_error_normal | RRDGraphTest003::Controller::Root | image_error- |
| | | _normal |
| /zero_byte_error | RRDGraphTest003::Controller::Root | zero_byte_e- |
| | | rror |
| /zero_byte_error_no- | RRDGraphTest003::Controller::Root | zero_byte_e- |
| rmal | | rror_normal |
| /zero_byte_error_fu- | RRDGraphTest003::Controller::Root | zero_byte_e- |
| nction | | rror_functi- |
| | | on |
| /image_error_functi- | RRDGraphTest003::Controller::Root | image_error- |
| on | | _function |
'----------------------+--------------------------------------+--------------'
[debug] Loaded Path actions:
.-------------------------------------+--------------------------------------.
| Path | Private |
+-------------------------------------+--------------------------------------+
| /image_error/... | /image_error |
| /image_error_function/... | /image_error_function |
| /image_error_normal/... | /image_error_normal |
| /zero_byte_error/... | /zero_byte_error |
| /zero_byte_error_function/... | /zero_byte_error_function |
| /zero_byte_error_normal/... | /zero_byte_error_normal |
'-------------------------------------+--------------------------------------'
[info] RRDGraphTest003 powered by Catalyst 5.90131
[info] *** Request 1 (1.000/s) [1173135] [Sun May 5 21:46:25 2024] ***
[debug] Path is "zero_byte_error"
[debug] "GET" request for "zero_byte_error" from "127.0.0.1"
[error] RRDgraph is 0 bytes
[debug] Static::Simple: Serving static file: error_image.png as image/png
[debug] Response Code: 200; Content-Type: image/png; Content-Length: 14
[info] Request took 0.006985s (143.164/s)
.------------------------------------------------------------+-----------.
| Action | Time |
+------------------------------------------------------------+-----------+
| /zero_byte_error | 0.003938s |
| -> RRDGraphTest003::View::RRDOnServe->process | 0.003657s |
'------------------------------------------------------------+-----------'
[info] *** Request 2 (2.000/s) [1173135] [Sun May 5 21:46:25 2024] ***
[debug] Path is "image_error"
[debug] "GET" request for "image_error" from "127.0.0.1"
[error] Unknown option
[debug] Static::Simple: Serving static file: error_image.png as image/png
[debug] Response Code: 200; Content-Type: image/png; Content-Length: 14
[info] Request took 0.002741s (364.830/s)
.------------------------------------------------------------+-----------.
| Action | Time |
+------------------------------------------------------------+-----------+
| /image_error | 0.000995s |
| -> RRDGraphTest003::View::RRDOnServe->process | 0.000735s |
'------------------------------------------------------------+-----------'
[info] *** Request 3 (3.000/s) [1173135] [Sun May 5 21:46:25 2024] ***
[debug] Path is "zero_byte_error_normal"
[debug] "GET" request for "zero_byte_error_normal" from "127.0.0.1"
[error] RRDgraph is 0 bytes
[debug] Response Code: 500; Content-Type: text/html; charset=utf-8; Content-Length: unknown
[info] Request took 0.004945s (202.224/s)
.------------------------------------------------------------+-----------.
| Action | Time |
+------------------------------------------------------------+-----------+
| /zero_byte_error_normal | 0.000860s |
| -> RRDGraphTest003::View::RRDNormal->process | 0.000532s |
'------------------------------------------------------------+-----------'
[info] *** Request 4 (4.000/s) [1173135] [Sun May 5 21:46:25 2024] ***
[debug] Path is "image_error_normal"
[debug] "GET" request for "image_error_normal" from "127.0.0.1"
[error] Unknown option
[debug] Response Code: 500; Content-Type: text/html; charset=utf-8; Content-Length: unknown
[info] Request took 0.004808s (207.987/s)
.------------------------------------------------------------+-----------.
| Action | Time |
+------------------------------------------------------------+-----------+
| /image_error_normal | 0.000819s |
| -> RRDGraphTest003::View::RRDNormal->process | 0.000499s |
'------------------------------------------------------------+-----------'
[info] *** Request 5 (5.000/s) [1173135] [Sun May 5 21:46:25 2024] ***
[debug] Path is "zero_byte_error_function"
[debug] "GET" request for "zero_byte_error_function" from "127.0.0.1"
[debug] Response Code: 200; Content-Type: unknown; Content-Length: unknown
[info] Request took 0.00244s (409.836/s)
.------------------------------------------------------------+-----------.
| Action | Time |
+------------------------------------------------------------+-----------+
| /zero_byte_error_function | 0.000710s |
| -> RRDGraphTest003::View::RRDOnServeFunction->process | 0.000456s |
'------------------------------------------------------------+-----------'
[info] *** Request 6 (6.000/s) [1173135] [Sun May 5 21:46:25 2024] ***
[debug] Path is "image_error_function"
[debug] "GET" request for "image_error_function" from "127.0.0.1"
[debug] Response Code: 200; Content-Type: unknown; Content-Length: unknown
[info] Request took 0.002456s (407.166/s)
.------------------------------------------------------------+-----------.
| Action | Time |
+------------------------------------------------------------+-----------+
| /image_error_function | 0.000718s |
| -> RRDGraphTest003::View::RRDOnServeFunction->process | 0.000474s |
'------------------------------------------------------------+-----------'
t/003_on_error_serve.t .. ok
All tests successful.
Files=3, Tests=17, 1 wallclock secs ( 0.03 usr 0.01 sys + 0.99 cusr 0.10 csys = 1.13 CPU)
Result: PASS
------------------------------
PREREQUISITES
------------------------------
Prerequisite modules loaded:
requires:
Module Need Have
-------------------------------- ---- ----------
Catalyst::Plugin::Static::Simple 0 0.37
Catalyst::Runtime 5.7 5.90131
MRO::Compat 0 0.15
build_requires:
Module Need Have
-------------------------------- ---- ----------
Catalyst::Test 0 0
Test::MockObject 0 1.20200122
Test::More 0 1.302199
configure_requires:
Module Need Have
-------------------------------- ---- ----------
ExtUtils::MakeMaker 6.30 7.70
------------------------------
ENVIRONMENT AND OTHER CONTEXT
------------------------------
Environment variables:
AUTOMATED_TESTING = 1
LANG = en_US.UTF-8
PATH = /home/sand/bin:/usr/local/bin:/usr/local/sbin:/usr/sbin:/usr/bin:/sbin:/bin:/usr/games:/usr/local/games:/snap/bin:/usr/local/perl/bin:/usr/X11/bin
PERL = /tmp/basesmoker-reloperl-wJoB/bin/perl
PERL5LIB = /tmp/loop_over_bdir-2084-yMTbXb/dta-tokwrap-0.98-0/blib/arch:/tmp/loop_over_bdir-2084-yMTbXb/dta-tokwrap-0.98-0/blib/lib:/tmp/loop_over_bdir-2084-yMTbXb/downsexta-0/blib/arch:/tmp/loop_over_bdir-2084-yMTbXb/downsexta-0/blib/lib:/tmp/loop_over_bdir-2084-yMTbXb/CGI-Application-NetNewsIface-0.0204-0/blib/arch:/tmp/loop_over_bdir-2084-yMTbXb/CGI-Application-NetNewsIface-0.0204-0/blib/lib:/tmp/loop_over_bdir-2084-yMTbXb/EJBCA-CrlPublish-0.60-0/blib/arch:/tmp/loop_over_bdir-2084-yMTbXb/EJBCA-CrlPublish-0.60-0/blib/lib:/tmp/loop_over_bdir-2084-yMTbXb/Dpkg-1.22.6-0/blib/arch:/tmp/loop_over_bdir-2084-yMTbXb/Dpkg-1.22.6-0/blib/lib:/tmp/loop_over_bdir-2084-yMTbXb/MP3-PodcastFetch-1.05-0/blib/arch:/tmp/loop_over_bdir-2084-yMTbXb/MP3-PodcastFetch-1.05-0/blib/lib
PERL5OPT =
PERL5_CPANPLUS_IS_RUNNING = 2092
PERL5_CPAN_IS_RUNNING = 2092
PERL_CANARY_STABILITY_NOPROMPT = 1
PERL_MM_USE_DEFAULT = 1
PERL_USE_UNSAFE_INC = 1
SHELL = /usr/bin/zsh
TERM = screen
Perl special variables (and OS-specific diagnostics, for MSWin32):
$^X = /tmp/basesmoker-reloperl-wJoB/bin/perl
$UID/$EUID = 1005 / 1005
$GID = 1005 1005
$EGID = 1005 1005
Perl module toolchain versions installed:
Module Have
------------------- --------
CPAN 2.36
CPAN::Meta 2.150010
Cwd 3.90
ExtUtils::CBuilder 0.280240
ExtUtils::Command 7.70
ExtUtils::Install 2.22
ExtUtils::MakeMaker 7.70
ExtUtils::Manifest 1.75
ExtUtils::ParseXS 3.51
File::Spec 3.90
JSON 4.10
JSON::PP 4.16
Module::Build 0.4234
Module::Signature 0.88
Parse::CPAN::Meta 2.150010
Test2 1.302199
Test::Harness 3.48
Test::More 1.302199
YAML 1.31
YAML::Syck 1.34
version 0.9932
--
Summary of my perl5 (revision 5 version 39 subversion 10) configuration:
Commit id: c46c2bea6f111c45982b89c7e57b56125ff2e10c
Platform:
osname=linux
osvers=5.4.0-176-generic
archname=x86_64-linux
uname='linux k93focal 5.4.0-176-generic #196-ubuntu smp fri mar 22 16:46:39 utc 2024 x86_64 x86_64 x86_64 gnulinux '
config_args='-Dprefix=/home/sand/src/perl/repoperls/installed-perls/host/k93focal/v5.39.10/b254 -Dmyhostname=k93focal -Dinstallusrbinperl=n -Uversiononly -Dusedevel -des -Ui_db -Dlibswanted=cl pthread socket inet nsl gdbm dbm malloc dl ld sun m crypt sec util c cposix posix ucb BSD gdbm_compat -Uuseithreads -Uuselongdouble -DEBUGGING=both'
hint=recommended
useposix=true
d_sigaction=define
useithreads=undef
usemultiplicity=undef
use64bitint=define
use64bitall=define
uselongdouble=undef
usemymalloc=n
default_inc_excludes_dot=define
Compiler:
cc='cc'
ccflags ='-fwrapv -DDEBUGGING -fno-strict-aliasing -pipe -fstack-protector-strong -I/usr/local/include -D_LARGEFILE_SOURCE -D_FILE_OFFSET_BITS=64'
optimize='-O2 -g'
cppflags='-fwrapv -DDEBUGGING -fno-strict-aliasing -pipe -fstack-protector-strong -I/usr/local/include'
ccversion=''
gccversion='9.4.0'
gccosandvers=''
intsize=4
longsize=8
ptrsize=8
doublesize=8
byteorder=12345678
doublekind=3
d_longlong=define
longlongsize=8
d_longdbl=define
longdblsize=16
longdblkind=3
ivtype='long'
ivsize=8
nvtype='double'
nvsize=8
Off_t='off_t'
lseeksize=8
alignbytes=8
prototype=define
Linker and Libraries:
ld='cc'
ldflags =' -fstack-protector-strong -L/usr/local/lib'
libpth=/usr/local/lib /usr/lib/x86_64-linux-gnu /usr/lib /usr/lib64
libs=-lpthread -lnsl -ldl -lm -lcrypt -lutil -lc
perllibs=-lpthread -lnsl -ldl -lm -lcrypt -lutil -lc
libc=libc-2.31.so
so=so
useshrplib=false
libperl=libperl.a
gnulibc_version='2.31'
Dynamic Linking:
dlsrc=dl_dlopen.xs
dlext=so
d_dlsymun=undef
ccdlflags='-Wl,-E'
cccdlflags='-fPIC'
lddlflags='-shared -O2 -g -L/usr/local/lib -fstack-protector-strong'
Characteristics of this binary (from libperl):
Compile-time options:
DEBUGGING
HAS_LONG_DOUBLE
HAS_STRTOLD
HAS_TIMES
PERLIO_LAYERS
PERL_COPY_ON_WRITE
PERL_DONT_CREATE_GVSV
PERL_HASH_FUNC_SIPHASH13
PERL_HASH_USE_SBOX32
PERL_MALLOC_WRAP
PERL_OP_PARENT
PERL_PRESERVE_IVUV
PERL_USE_DEVEL
PERL_USE_SAFE_PUTENV
USE_64_BIT_ALL
USE_64_BIT_INT
USE_LARGE_FILES
USE_LOCALE
USE_LOCALE_COLLATE
USE_LOCALE_CTYPE
USE_LOCALE_NUMERIC
USE_LOCALE_TIME
USE_PERLIO
USE_PERL_ATOF
Built under linux
Compiled at May 3 2024 17:15:00
%ENV:
PERL="/tmp/basesmoker-reloperl-wJoB/bin/perl"
PERL5LIB="/tmp/loop_over_bdir-2084-yMTbXb/dta-tokwrap-0.98-0/blib/arch:/tmp/loop_over_bdir-2084-yMTbXb/dta-tokwrap-0.98-0/blib/lib:/tmp/loop_over_bdir-2084-yMTbXb/downsexta-0/blib/arch:/tmp/loop_over_bdir-2084-yMTbXb/downsexta-0/blib/lib:/tmp/loop_over_bdir-2084-yMTbXb/CGI-Application-NetNewsIface-0.0204-0/blib/arch:/tmp/loop_over_bdir-2084-yMTbXb/CGI-Application-NetNewsIface-0.0204-0/blib/lib:/tmp/loop_over_bdir-2084-yMTbXb/EJBCA-CrlPublish-0.60-0/blib/arch:/tmp/loop_over_bdir-2084-yMTbXb/EJBCA-CrlPublish-0.60-0/blib/lib:/tmp/loop_over_bdir-2084-yMTbXb/Dpkg-1.22.6-0/blib/arch:/tmp/loop_over_bdir-2084-yMTbXb/Dpkg-1.22.6-0/blib/lib:/tmp/loop_over_bdir-2084-yMTbXb/MP3-PodcastFetch-1.05-0/blib/arch:/tmp/loop_over_bdir-2084-yMTbXb/MP3-PodcastFetch-1.05-0/blib/lib"
PERL5OPT=""
PERL5_CPANPLUS_IS_RUNNING="2092"
PERL5_CPAN_IS_RUNNING="2092"
PERL_CANARY_STABILITY_NOPROMPT="1"
PERL_MM_USE_DEFAULT="1"
PERL_USE_UNSAFE_INC="1"
@INC:
/tmp/loop_over_bdir-2084-yMTbXb/dta-tokwrap-0.98-0/blib/arch
/tmp/loop_over_bdir-2084-yMTbXb/dta-tokwrap-0.98-0/blib/lib
/tmp/loop_over_bdir-2084-yMTbXb/downsexta-0/blib/arch
/tmp/loop_over_bdir-2084-yMTbXb/downsexta-0/blib/lib
/tmp/loop_over_bdir-2084-yMTbXb/CGI-Application-NetNewsIface-0.0204-0/blib/arch
/tmp/loop_over_bdir-2084-yMTbXb/CGI-Application-NetNewsIface-0.0204-0/blib/lib
/tmp/loop_over_bdir-2084-yMTbXb/EJBCA-CrlPublish-0.60-0/blib/arch
/tmp/loop_over_bdir-2084-yMTbXb/EJBCA-CrlPublish-0.60-0/blib/lib
/tmp/loop_over_bdir-2084-yMTbXb/Dpkg-1.22.6-0/blib/arch
/tmp/loop_over_bdir-2084-yMTbXb/Dpkg-1.22.6-0/blib/lib
/tmp/loop_over_bdir-2084-yMTbXb/MP3-PodcastFetch-1.05-0/blib/arch
/tmp/loop_over_bdir-2084-yMTbXb/MP3-PodcastFetch-1.05-0/blib/lib
/home/sand/src/perl/repoperls/installed-perls/host/k93focal/v5.39.10/b254/lib/site_perl/5.39.10/x86_64-linux
/home/sand/src/perl/repoperls/installed-perls/host/k93focal/v5.39.10/b254/lib/site_perl/5.39.10
/home/sand/src/perl/repoperls/installed-perls/host/k93focal/v5.39.10/b254/lib/5.39.10/x86_64-linux
/home/sand/src/perl/repoperls/installed-perls/host/k93focal/v5.39.10/b254/lib/5.39.10
.