Back
From: metabase:user:30f4dfbe-2aae-11df-837a-5e0a49663a4f
Subject: PASS Web-Scraper-0.37 v5.12.5 Mac OS X
Date: 2013-05-08T16:15:16Z
This distribution has been tested as part of the CPAN Testers
project, supporting the Perl programming language. See
http://wiki.cpantesters.org/ for more information or email
questions to cpan-testers-discuss@perl.org
--
Dear Tatsuhiko Miyagawa,
This is a computer-generated report for Web-Scraper-0.37
on perl 5.12.5, created by CPAN-Reporter-1.2010.
Thank you for uploading your work to CPAN. Congratulations!
All tests were successful.
Sections of this report:
* Tester comments
* Program output
* Prerequisites
* Environment and other context
------------------------------
TESTER COMMENTS
------------------------------
Additional comments from tester:
this report is from an automated smoke testing program
and was not reviewed by a human for accuracy
------------------------------
PROGRAM OUTPUT
------------------------------
Output from '/sw/bin/make test':
PERL_DL_NONLAZY=1 /Users/hornenj/perl5/perlbrew/perls/perl-5.12.5/bin/perl "-MExtUtils::Command::MM" "-e" "test_harness(0, 'inc', 'blib/lib', 'blib/arch')" t/*.t
t/00_compile.t .......... ok
t/01_process.t .......... ok
t/02_process_multi.t .... ok
t/03_scraper_nest.t ..... ok
t/04_callback.t ......... ok
t/05_process_first.t .... ok
t/06_define.t ........... ok
t/07-live.t ............. skipped: LIVE_TEST not enabled
t/08-leak.t ............. skipped: LEAK_TEST is not defined
t/09-process_hash.t ..... ok
t/11_absolute.t ......... ok
t/12_html.t ............. ok
t/13_textnode.t ......... ok
t/14_absolute_nested.t .. ok
t/15_absolute_hash.t .... ok
t/16_filter.t ........... ok
t/17_filter_loop.t ...... ok
t/18_http_response.t .... skipped: LIVE_TEST not enabled
t/19_decode_content.t ... skipped: LIVE_TEST not enabled
t/20_comment_nodes.t .... skipped: Please upgrade HTML::TreeBuilder::XPath and HTML::TreeBuilder::LibXML modules for comment nodes supporting
t/21_html5.t ............ ok
t/redefine.t ............ ok
t/xml-simple.t .......... skipped: Test requires module 'HTML::TreeBuilder::LibXML' but it's not found
All tests successful.
Files=23, Tests=38, 2 wallclock secs ( 0.06 usr 0.04 sys + 1.66 cusr 0.21 csys = 1.97 CPU)
Result: PASS
------------------------------
PREREQUISITES
------------------------------
Prerequisite modules loaded:
requires:
Module Need Have
------------------------ -------- --------
HTML::Entities 0 3.69
HTML::Selector::XPath 0.03 0.15
HTML::Tagset 0 3.20
HTML::TreeBuilder 3.23 5.03
HTML::TreeBuilder::XPath 0.08 0.14
LWP 5.827 6.05
perl 5.008001 5.012005
Scalar::Util 0 1.27
UNIVERSAL::require 0 0.13
URI 0 1.60
XML::XPathEngine 0.08 0.13
YAML 0 0.84
build_requires:
Module Need Have
------------------------ -------- --------
ExtUtils::MakeMaker 6.59 6.66
Test::Base 0 0.60
Test::More 0 0.98
Test::Requires 0 0.06
configure_requires:
Module Need Have
------------------------ -------- --------
ExtUtils::MakeMaker 6.59 6.66
------------------------------
ENVIRONMENT AND OTHER CONTEXT
------------------------------
Environment variables:
AUTOMATED_TESTING = 1
LC_ALL = POSIX
LD_LIBRARY_PATH = :/net/traces01.be-md.ncbi.nlm.nih.gov/trace_software/vdb/mac/release/x86_64/lib
PATH = /Users/hornenj/perl5/perlbrew/bin:/Users/hornenj/perl5/perlbrew/perls/perl-5.12.5/bin:/Users/hornenj/perl5/perlbrew/bin:/sw/lib/perl5/ExtUtils:/sw/bin:/sw/sbin:/am/ncbiapdata/bin:/usr/bin:/bin:/usr/X11R6/bin:/Users/hornenj/bin:/netopt/ncbi_tools/bin:/usr/local/ncbi/blast/bin:/net/traces01.be-md.ncbi.nlm.nih.gov/trace_software/vdb/mac/release/x86_64/bin
PERL5LIB = /Users/hornenj/.cpan/build/HTML-Selector-XPath-0.15-GdN_GN/blib/arch:/Users/hornenj/.cpan/build/HTML-Selector-XPath-0.15-GdN_GN/blib/lib:/Users/hornenj/.cpan/build/Test-Base-0.60-yPl4Ba/blib/arch:/Users/hornenj/.cpan/build/Test-Base-0.60-yPl4Ba/blib/lib:/Users/hornenj/.cpan/build/Spiffy-0.31-SzPhrN/blib/arch:/Users/hornenj/.cpan/build/Spiffy-0.31-SzPhrN/blib/lib:/Users/hornenj/.cpan/build/Encode-Detect-CJK-2.0.2-DRAkH6/blib/arch:/Users/hornenj/.cpan/build/Encode-Detect-CJK-2.0.2-DRAkH6/blib/lib:/Users/hornenj/.cpan/build/Moo-1.002000-B3VGFf/blib/arch:/Users/hornenj/.cpan/build/Moo-1.002000-B3VGFf/blib/lib:/Users/hornenj/.cpan/build/Class-Method-Modifiers-2.04-GvsO9I/blib/arch:/Users/hornenj/.cpan/build/Class-Method-Modifiers-2.04-GvsO9I/blib/lib:/Users/hornenj/.cpan/build/Role-Tiny-1.002005-iYQ1Qq/blib/arch:/Users/hornenj/.cpan/build/Role-Tiny-1.002005-iYQ1Qq/blib/lib:/Users/hornenj/.cpan/build/strictures-1.004004-Gnp5np/blib/arch:/Users/hornenj/.cpan/build/strictures-1.004004-Gnp5np/blib/lib
PERL5OPT =
PERL5_CPANPLUS_IS_RUNNING = 93118
PERL5_CPAN_IS_RUNNING = 93118
PERL5_MINISMOKEBOX = 0.56
PERLBREW_BASHRC_VERSION = 0.59
PERLBREW_HOME = /Users/hornenj/.perlbrew
PERLBREW_MANPATH = /Users/hornenj/perl5/perlbrew/perls/perl-5.12.5/man
PERLBREW_PATH = /Users/hornenj/perl5/perlbrew/bin:/Users/hornenj/perl5/perlbrew/perls/perl-5.12.5/bin
PERLBREW_PERL = perl-5.12.5
PERLBREW_ROOT = /Users/hornenj/perl5/perlbrew
PERLBREW_VERSION = 0.63
PERL_EXTUTILS_AUTOINSTALL = --defaultdeps
PERL_MM_USE_DEFAULT = 1
SHELL = /bin/bash
TERM = xterm
TMPDIR = /var/folders/pz/pd7y1qjs6s3cbk170cw50fjc000c61/T/
VERSIONER_PERL_PREFER_32_BIT = no
VERSIONER_PERL_VERSION = 5.12
ac_cv_path_INTLTOOL_PERL = /usr/bin/perl
Perl special variables (and OS-specific diagnostics, for MSWin32):
$^X = /Users/hornenj/perl5/perlbrew/perls/perl-5.12.5/bin/perl
$UID/$EUID = 12481 / 12481
$GID = 14 14 527 241 223 206 402 12 62 204
$EGID = 14 14 527 241 223 206 402 12 62 204
Perl module toolchain versions installed:
Module Have
------------------- --------
CPAN 2.00
CPAN::Meta 2.130880
Cwd 3.40
ExtUtils::CBuilder 0.280205
ExtUtils::Command 1.17
ExtUtils::Install 1.55
ExtUtils::MakeMaker 6.66
ExtUtils::Manifest 1.61
ExtUtils::ParseXS 3.18
File::Spec 3.40
JSON 2.57
JSON::PP 2.27202
Module::Build 0.4005
Module::Signature n/a
Parse::CPAN::Meta 1.4404
Test::Harness 3.28
Test::More 0.98
YAML 0.84
YAML::Syck 1.25
version 0.9902
--
Summary of my perl5 (revision 5 version 12 subversion 5) configuration:
Platform:
osname=darwin, osvers=12.2.1, archname=darwin-2level
uname='darwin ncbimac2008.ncbi.nlm.nih.gov 12.2.1 darwin kernel version 12.2.1: thu oct 18 12:13:47 pdt 2012; root:xnu-2050.20.9~1release_x86_64 x86_64 '
config_args='-de -Dprefix=/Users/hornenj/perl5/perlbrew/perls/perl-5.12.5'
hint=recommended, useposix=true, d_sigaction=define
useithreads=undef, usemultiplicity=undef
useperlio=define, d_sfio=undef, uselargefiles=define, usesocks=undef
use64bitint=define, use64bitall=define, uselongdouble=undef
usemymalloc=n, bincompat5005=undef
Compiler:
cc='cc', ccflags ='-fno-common -DPERL_DARWIN -no-cpp-precomp -fno-strict-aliasing -pipe -fstack-protector',
optimize='-O3',
cppflags='-no-cpp-precomp -fno-common -DPERL_DARWIN -no-cpp-precomp -fno-strict-aliasing -pipe -fstack-protector'
ccversion='', gccversion='4.2.1 Compatible Apple LLVM 4.2 (clang-425.0.24)', gccosandvers=''
intsize=4, longsize=8, ptrsize=8, doublesize=8, byteorder=12345678
d_longlong=define, longlongsize=8, d_longdbl=define, longdblsize=16
ivtype='long', ivsize=8, nvtype='double', nvsize=8, Off_t='off_t', lseeksize=8
alignbytes=8, prototype=define
Linker and Libraries:
ld='env MACOSX_DEPLOYMENT_TARGET=10.3 cc', ldflags =' -fstack-protector'
libpth=/usr/lib
libs=-ldbm -ldl -lm -lutil -lc
perllibs=-ldl -lm -lutil -lc
libc=, so=dylib, useshrplib=false, libperl=libperl.a
gnulibc_version=''
Dynamic Linking:
dlsrc=dl_dlopen.xs, dlext=bundle, d_dlsymun=undef, ccdlflags=' '
cccdlflags=' ', lddlflags=' -bundle -undefined dynamic_lookup -fstack-protector'
Characteristics of this binary (from libperl):
Compile-time options: PERL_DONT_CREATE_GVSV PERL_MALLOC_WRAP USE_64_BIT_ALL
USE_64_BIT_INT USE_LARGE_FILES USE_PERLIO
USE_PERL_ATOF
Built under darwin
Compiled at Mar 5 2013 11:08:14
%ENV:
PERL5LIB="/Users/hornenj/.cpan/build/HTML-Selector-XPath-0.15-GdN_GN/blib/arch:/Users/hornenj/.cpan/build/HTML-Selector-XPath-0.15-GdN_GN/blib/lib:/Users/hornenj/.cpan/build/Test-Base-0.60-yPl4Ba/blib/arch:/Users/hornenj/.cpan/build/Test-Base-0.60-yPl4Ba/blib/lib:/Users/hornenj/.cpan/build/Spiffy-0.31-SzPhrN/blib/arch:/Users/hornenj/.cpan/build/Spiffy-0.31-SzPhrN/blib/lib:/Users/hornenj/.cpan/build/Encode-Detect-CJK-2.0.2-DRAkH6/blib/arch:/Users/hornenj/.cpan/build/Encode-Detect-CJK-2.0.2-DRAkH6/blib/lib:/Users/hornenj/.cpan/build/Moo-1.002000-B3VGFf/blib/arch:/Users/hornenj/.cpan/build/Moo-1.002000-B3VGFf/blib/lib:/Users/hornenj/.cpan/build/Class-Method-Modifiers-2.04-GvsO9I/blib/arch:/Users/hornenj/.cpan/build/Class-Method-Modifiers-2.04-GvsO9I/blib/lib:/Users/hornenj/.cpan/build/Role-Tiny-1.002005-iYQ1Qq/blib/arch:/Users/hornenj/.cpan/build/Role-Tiny-1.002005-iYQ1Qq/blib/lib:/Users/hornenj/.cpan/build/strictures-1.004004-Gnp5np/blib/arch:/Users/hornenj/.cpan/build/strictures-1.004004-Gnp5np/blib/lib"
PERL5OPT=""
PERL5_CPANPLUS_IS_RUNNING="93118"
PERL5_CPAN_IS_RUNNING="93118"
PERL5_MINISMOKEBOX="0.56"
PERLBREW_BASHRC_VERSION="0.59"
PERLBREW_HOME="/Users/hornenj/.perlbrew"
PERLBREW_MANPATH="/Users/hornenj/perl5/perlbrew/perls/perl-5.12.5/man"
PERLBREW_PATH="/Users/hornenj/perl5/perlbrew/bin:/Users/hornenj/perl5/perlbrew/perls/perl-5.12.5/bin"
PERLBREW_PERL="perl-5.12.5"
PERLBREW_ROOT="/Users/hornenj/perl5/perlbrew"
PERLBREW_VERSION="0.63"
PERL_EXTUTILS_AUTOINSTALL="--defaultdeps"
PERL_MM_USE_DEFAULT="1"
@INC:
/Users/hornenj/.cpan/build/HTML-Selector-XPath-0.15-GdN_GN/blib/arch
/Users/hornenj/.cpan/build/HTML-Selector-XPath-0.15-GdN_GN/blib/lib
/Users/hornenj/.cpan/build/Test-Base-0.60-yPl4Ba/blib/arch
/Users/hornenj/.cpan/build/Test-Base-0.60-yPl4Ba/blib/lib
/Users/hornenj/.cpan/build/Spiffy-0.31-SzPhrN/blib/arch
/Users/hornenj/.cpan/build/Spiffy-0.31-SzPhrN/blib/lib
/Users/hornenj/.cpan/build/Encode-Detect-CJK-2.0.2-DRAkH6/blib/arch
/Users/hornenj/.cpan/build/Encode-Detect-CJK-2.0.2-DRAkH6/blib/lib
/Users/hornenj/.cpan/build/Moo-1.002000-B3VGFf/blib/arch
/Users/hornenj/.cpan/build/Moo-1.002000-B3VGFf/blib/lib
/Users/hornenj/.cpan/build/Class-Method-Modifiers-2.04-GvsO9I/blib/arch
/Users/hornenj/.cpan/build/Class-Method-Modifiers-2.04-GvsO9I/blib/lib
/Users/hornenj/.cpan/build/Role-Tiny-1.002005-iYQ1Qq/blib/arch
/Users/hornenj/.cpan/build/Role-Tiny-1.002005-iYQ1Qq/blib/lib
/Users/hornenj/.cpan/build/strictures-1.004004-Gnp5np/blib/arch
/Users/hornenj/.cpan/build/strictures-1.004004-Gnp5np/blib/lib
/Users/hornenj/perl5/perlbrew/perls/perl-5.12.5/lib/site_perl/5.12.5/darwin-2level
/Users/hornenj/perl5/perlbrew/perls/perl-5.12.5/lib/site_perl/5.12.5
/Users/hornenj/perl5/perlbrew/perls/perl-5.12.5/lib/5.12.5/darwin-2level
/Users/hornenj/perl5/perlbrew/perls/perl-5.12.5/lib/5.12.5
.