Report for Test-Pod-LinkCheck-0.007

Back
From: metabase:user:8206d902-f723-11e3-91f5-cb63aa9cbf73
Subject: PASS Test-Pod-LinkCheck-0.007 v5.20.1 Mac OS X
Date: 2014-09-18T10:28:02Z

This distribution has been tested as part of the CPAN Testers
project, supporting the Perl programming language.  See
http://wiki.cpantesters.org/ for more information or email
questions to cpan-testers-discuss@perl.org


--
Dear APOCAL,

This is a computer-generated report for Test-Pod-LinkCheck-0.007
on perl 5.20.1, created by App::cpanminus::reporter 0.11 (1.7009).

Thank you for uploading your work to CPAN.  Congratulations!
All tests were successful.

Sections of this report:

    * Tester comments
    * Program output
    * Prerequisites
    * Environment and other context

------------------------------
TESTER COMMENTS
------------------------------

Additional comments from tester:

none provided

------------------------------
PROGRAM OUTPUT
------------------------------

Output from '':

Building and testing Test-Pod-LinkCheck-0.007
Module::Build will be removed from the Perl core distribution in the next major release. Please install it from CPAN. It is being used at ./Build, line 40.
Building Test-Pod-LinkCheck
Module::Build will be removed from the Perl core distribution in the next major release. Please install it from CPAN. It is being used at ./Build, line 40.
t/00-compile.t ................ ok
# 
Module::Build will be removed from the Perl core distribution in the next major release. Please install it from CPAN. It is being used at (eval 30), line 1.
You should load Test::Tester before Test::Builder (or anything that loads Test::Builder) at /opt/perl//lib/5.20.1/Test/Tester.pm line 9.
# 
# Generated by Dist::Zilla::Plugin::ReportVersions::Tiny v1.03
# perl: v5.20.1 (wanted 5.006) on darwin from /opt/perl/bin/perl
# 
# App::PodLinkCheck::ParseLinks                 => 12         (want 4)      
# App::PodLinkCheck::ParseSections              => 12         (want any version)
# Capture::Tiny                                 => 0.25       (want any version)
# Config                                        => 5.020001   (want any version)
# Exporter                                      => 5.71       (want any version)
# File::Find                                    => 1.27       (want any version)
# File::Spec                                    => 3.48       (want any version)
# File::Temp                                    => 0.2304     (want any version)
# Module::Build                                 => 0.4205     (want 0.3601) 
# Moose                                         => 2.1211     (want 1.01)   
# Moose::Util::TypeConstraints                  => 2.1211     (want 1.01)   
# Pod::Find                                     => 1.62       (want any version)
# Test::Builder                                 => 1.001002   (want 0.94)   
# Test::More                                    => 1.001002   (want 0.88)   
# Test::Pod                                     => 1.48       (want 1.44)   
# Test::Tester                                  => 0.109      (want any version)
# parent                                        => 0.228      (want any version)
# 
# Thanks for using my code.  I hope it works for you.
# If not, please try and include this output in the bug report.
# That will help me reproduce the issue and solve your problem.
# 
t/000-report-versions-tiny.t .. ok
t/apocalypse.t ................ skipped: Test::Apocalypse required for validating the distribution
t/cpan_backend.t .............. ok
t/functions.t ................. ok
t/simple.t .................... ok
All tests successful.

Test Summary Report
-------------------
t/cpan_backend.t            (Wstat: 0 Tests: 12 Failed: 0)
  TODO passed:   5-8
Files=6, Tests=118,  5 wallclock secs ( 0.04 usr  0.02 sys +  4.55 cusr  0.48 csys =  5.09 CPU)
Result: PASS

------------------------------
PREREQUISITES
------------------------------

Prerequisite modules loaded:

    No requirements found

------------------------------
ENVIRONMENT AND OTHER CONTEXT
------------------------------

Environment variables:

    LANG = en_US.UTF-8
    LC_COLLATE = pt_PT.UTF-8
    LC_CTYPE = pt_PT.UTF-8
    PATH = /opt/cwb-3.0/bin:.:/Users/ambs/bin:/opt/perl/bin:/usr/local/bin/:/usr/texbin:/opt/ccache:/Users/ambs/Library/Haskell/bin/:.:/Users/ambs/bin:/opt/perl/bin:/usr/local/bin/:/usr/texbin:/opt/ccache:/Users/ambs/Library/Haskell/bin/:/usr/bin:/bin:/usr/sbin:/sbin:/usr/local/bin:/opt/X11/bin:/usr/texbin
    PERL_AUTOINSTALL_PREFER_CPAN = 1
    SHELL = /bin/bash
    TERM = xterm-256color
    TMPDIR = /var/folders/3h/8h7stdp57hx4fms5l_g5g9n80000gn/T/

Perl special variables (and OS-specific diagnostics, for MSWin32):

    EGID = 20 20 402 12 61 79 80 81 98 33 100 204 398 399
    EUID = 501
    EXECUTABLE_NAME = /opt/perl/bin/perl
    GID = 20 20 402 12 61 79 80 81 98 33 100 204 398 399
    UID = 501

Perl module toolchain versions installed:

    Module              Have    
    ------------------- --------
    CPAN                2.05    
    CPAN::Meta          2.142060
    Cwd                 3.48    
    ExtUtils::CBuilder  0.280217
    ExtUtils::Command   1.18    
    ExtUtils::Install   1.67    
    ExtUtils::MakeMaker 6.98    
    ExtUtils::Manifest  1.63    
    ExtUtils::ParseXS   3.24    
    File::Spec          3.48    
    JSON                2.90    
    JSON::PP            2.27203 
    Module::Build       0.4205  
    Module::Signature   n/a     
    Parse::CPAN::Meta   1.4414  
    Test::Harness       3.30    
    Test::More          1.001002
    YAML                1.11    
    YAML::Syck          n/a     
    version             0.9909  


--

Summary of my perl5 (revision 5 version 20 subversion 1) configuration:
   
  Platform:
    osname=darwin, osvers=13.3.0, archname=darwin-thread-multi-2level
    uname='darwin stravinski.local 13.3.0 darwin kernel version 13.3.0: tue jun 3 21:27:35 pdt 2014; root:xnu-2422.110.17~1release_x86_64 x86_64 '
    config_args=''
    hint=recommended, useposix=true, d_sigaction=define
    useithreads=define, usemultiplicity=define
    use64bitint=define, use64bitall=define, uselongdouble=undef
    usemymalloc=n, bincompat5005=undef
  Compiler:
    cc='cc', ccflags ='-fno-common -DPERL_DARWIN -fno-strict-aliasing -pipe -fstack-protector -I/usr/local/include',
    optimize='-O3',
    cppflags='-fno-common -DPERL_DARWIN -fno-strict-aliasing -pipe -fstack-protector -I/usr/local/include'
    ccversion='', gccversion='4.2.1 Compatible Apple LLVM 5.1 (clang-503.0.40)', gccosandvers=''
    intsize=4, longsize=8, ptrsize=8, doublesize=8, byteorder=12345678
    d_longlong=define, longlongsize=8, d_longdbl=define, longdblsize=16
    ivtype='long', ivsize=8, nvtype='double', nvsize=8, Off_t='off_t', lseeksize=8
    alignbytes=8, prototype=define
  Linker and Libraries:
    ld='env MACOSX_DEPLOYMENT_TARGET=10.3 cc', ldflags =' -fstack-protector -L/usr/local/lib'
    libpth=/usr/local/lib /Applications/Xcode.app/Contents/Developer/Toolchains/XcodeDefault.xctoolchain/usr/bin/../lib/clang/5.1/lib /Applications/Xcode.app/Contents/Developer/Toolchains/XcodeDefault.xctoolchain/usr/lib /usr/lib
    libs=-lgdbm -ldbm -ldb -ldl -lm -lutil -lc
    perllibs=-ldl -lm -lutil -lc
    libc=, so=dylib, useshrplib=false, libperl=libperl.a
    gnulibc_version=''
  Dynamic Linking:
    dlsrc=dl_dlopen.xs, dlext=bundle, d_dlsymun=undef, ccdlflags=' '
    cccdlflags=' ', lddlflags=' -bundle -undefined dynamic_lookup -L/usr/local/lib -fstack-protector'


Characteristics of this binary (from libperl): 
  Compile-time options: HAS_TIMES MULTIPLICITY PERLIO_LAYERS
                        PERL_DONT_CREATE_GVSV
                        PERL_HASH_FUNC_ONE_AT_A_TIME_HARD
                        PERL_IMPLICIT_CONTEXT PERL_MALLOC_WRAP
                        PERL_NEW_COPY_ON_WRITE PERL_PRESERVE_IVUV
                        USE_64_BIT_ALL USE_64_BIT_INT USE_ITHREADS
                        USE_LARGE_FILES USE_LOCALE USE_LOCALE_COLLATE
                        USE_LOCALE_CTYPE USE_LOCALE_NUMERIC USE_PERLIO
                        USE_PERL_ATOF
  Built under darwin
  Compiled at Sep 17 2014 21:56:46
  %ENV:
    PERL_AUTOINSTALL_PREFER_CPAN="1"
  @INC:
    /opt/perl/lib/site_perl/5.20.1/darwin-thread-multi-2level
    /opt/perl/lib/site_perl/5.20.1
    /opt/perl//lib/5.20.1/darwin-thread-multi-2level
    /opt/perl//lib/5.20.1
    .