Back
From: metabase:user:93ecf480-1846-11e6-bc3e-524f5bb4017d
Subject: PASS Archive-Any-Create-0.03 v5.22.3 GNU/Linux
Date: 2017-05-09T17:03:47Z
This distribution has been tested as part of the CPAN Testers
project, supporting the Perl programming language. See
http://wiki.cpantesters.org/ for more information or email
questions to cpan-testers-discuss@perl.org
--
Dear Tatsuhiko Miyagawa,
This is a computer-generated report for Archive-Any-Create-0.03
on perl 5.22.3, created by CPAN-Reporter-1.2018.
Thank you for uploading your work to CPAN. Congratulations!
All tests were successful.
Sections of this report:
* Tester comments
* Program output
* Prerequisites
* Environment and other context
------------------------------
TESTER COMMENTS
------------------------------
Additional comments from tester:
none provided
------------------------------
PROGRAM OUTPUT
------------------------------
Output from '/usr/bin/make test':
PERL_DL_NONLAZY=1 "/opt/perlbrew/perls/perl-5.22.3/bin/perl" "-MExtUtils::Command::MM" "-MTest::Harness" "-e" "undef *Test::Harness::Switches; test_harness(0, 'blib/lib', 'blib/arch')" t/*.t
t/00_compile.t .......... ok
t/01_tar.t .............. ok
t/02_zip.t .............. ok
t/release-pod-syntax.t .. skipped: these tests are for release candidate testing
All tests successful.
Files=4, Tests=9, 1 wallclock secs ( 0.03 usr 0.01 sys + 0.56 cusr 0.06 csys = 0.66 CPU)
Result: PASS
------------------------------
PREREQUISITES
------------------------------
Prerequisite modules loaded:
requires:
Module Need Have
------------------- ---- --------
Archive::Tar 0 2.04_01
Archive::Zip 0 1.59
Exception::Class 0 1.42
IO::Zlib 0 1.10
UNIVERSAL::require 0 0.18
build_requires:
Module Need Have
------------------- ---- --------
Test::More 0.90 1.302085
configure_requires:
Module Need Have
------------------- ---- --------
ExtUtils::MakeMaker 6.30 7.04_02
------------------------------
ENVIRONMENT AND OTHER CONTEXT
------------------------------
Environment variables:
LANG = en_US.utf8
LC_CTYPE = sv_SE.UTF-8
LC_MEASUREMENT = sv_SE.utf8
LC_MONETARY = sv_SE.utf8
LC_NUMERIC = sv_SE.utf8
LC_PAPER = sv_SE.utf8
LC_TIME = sv_SE.utf8
NONINTERACTIVE_TESTING = 1
PATH = /opt/perlbrew/bin:/opt/perlbrew/perls/perl-5.22.3/bin:/opt/perlbrew/bin:/opt/perlbrew/perls/perl-5.22.3/bin:/home/feinorgh/projects/go/bin:/home/feinorgh/.cargo/bin:/home/feinorgh/.local/bin:/home/feinorgh/.nvm/versions/node/v7.9.0/bin:/usr/local/bin:/usr/bin:/bin:/opt/bin:/usr/x86_64-pc-linux-gnu/gcc-bin/5.4.0:/usr/x86_64-pc-linux-gnu/armv6j-hardfloat-linux-gnueabi/gcc-bin/4.9.4:/usr/x86_64-pc-linux-gnu/armv7a-hardfloat-linux-gnueabi/gcc-bin/4.9.4:/opt/intel/composerxe-2015_update6.6.233/bin/intel64:/opt/intel/composerxe-2015_update6.6.233/mpirt/bin/intel64:/opt/intel/composerxe-2015_update6.6.233/bin/ia32:/opt/intel/composerxe-2015_update6.6.233/mpirt/bin/ia32
PERL5LIB =
PERL5OPT =
PERL5_CPANPLUS_IS_RUNNING = 30680
PERL5_CPAN_IS_RUNNING = 30680
PERLBREW_BASHRC_VERSION = 0.78
PERLBREW_HOME = /home/feinorgh/.perlbrew
PERLBREW_LIB =
PERLBREW_MANPATH = /opt/perlbrew/perls/perl-5.22.3/man
PERLBREW_PATH = /opt/perlbrew/bin:/opt/perlbrew/perls/perl-5.22.3/bin
PERLBREW_PERL = perl-5.22.3
PERLBREW_ROOT = /opt/perlbrew
PERLBREW_VERSION = 0.78
PERL_LOCAL_LIB_ROOT =
PERL_MM_USE_DEFAULT = 1
SHELL = /bin/bash
TERM = screen.xterm-256color
Perl special variables (and OS-specific diagnostics, for MSWin32):
$^X = /opt/perlbrew/perls/perl-5.22.3/bin/perl
$UID/$EUID = 1001 / 1001
$GID = 1001 10 18 19 80 85 250 999 1001
$EGID = 1001 10 18 19 80 85 250 999 1001
Perl module toolchain versions installed:
Module Have
------------------- ----------
CPAN 2.11_01
CPAN::Meta 2.150001
Cwd 3.56_02
ExtUtils::CBuilder 0.280221
ExtUtils::Command 1.20_01
ExtUtils::Install 2.04
ExtUtils::MakeMaker 7.04_02
ExtUtils::Manifest 1.70
ExtUtils::ParseXS 3.28
File::Spec 3.56_02
JSON 2.90
JSON::PP 2.27300_01
Module::Build 0.4222
Module::Signature n/a
Parse::CPAN::Meta 1.4414_001
Test::Harness 3.35_01
Test::More 1.302085
YAML 1.23
YAML::Syck n/a
version 0.9909
--
Summary of my perl5 (revision 5 version 22 subversion 3) configuration:
Platform:
osname=linux, osvers=4.9.16-gentoo, archname=x86_64-linux-thread-multi
uname='linux elektra 4.9.16-gentoo #4 smp sat apr 22 09:08:59 cest 2017 x86_64 amd athlon(tm) dual core processor 4850e authenticamd gnulinux '
config_args='-de -Dprefix=/opt/perlbrew/perls/perl-5.22.3 -Doptimize=-O3 -march=native -Duseshrplib -Dusethreads -Dusemultiplicity -Aeval:scriptdir=/opt/perlbrew/perls/perl-5.22.3/bin'
hint=recommended, useposix=true, d_sigaction=define
useithreads=define, usemultiplicity=define
use64bitint=define, use64bitall=define, uselongdouble=undef
usemymalloc=n, bincompat5005=undef
Compiler:
cc='cc', ccflags ='-D_REENTRANT -D_GNU_SOURCE -fwrapv -fno-strict-aliasing -pipe -fstack-protector-strong -D_LARGEFILE_SOURCE -D_FILE_OFFSET_BITS=64',
optimize='-O3 -march=native',
cppflags='-D_REENTRANT -D_GNU_SOURCE -fwrapv -fno-strict-aliasing -pipe -fstack-protector-strong'
ccversion='', gccversion='5.4.0', gccosandvers=''
intsize=4, longsize=8, ptrsize=8, doublesize=8, byteorder=12345678, doublekind=3
d_longlong=define, longlongsize=8, d_longdbl=define, longdblsize=16, longdblkind=3
ivtype='long', ivsize=8, nvtype='double', nvsize=8, Off_t='off_t', lseeksize=8
alignbytes=8, prototype=define
Linker and Libraries:
ld='cc', ldflags =' -fstack-protector-strong -L/usr/local/lib'
libpth=/usr/lib/gcc/x86_64-pc-linux-gnu/5.4.0/include-fixed /usr/lib /usr/local/lib /lib/../lib64 /usr/lib/../lib64 /lib /lib64 /usr/lib64 /usr/local/lib64
libs=-lpthread -lnsl -lgdbm -ldb -ldl -lm -lcrypt -lutil -lc -lgdbm_compat
perllibs=-lpthread -lnsl -ldl -lm -lcrypt -lutil -lc
libc=libc-2.23.so, so=so, useshrplib=true, libperl=libperl.so
gnulibc_version='2.23'
Dynamic Linking:
dlsrc=dl_dlopen.xs, dlext=so, d_dlsymun=undef, ccdlflags='-Wl,-E -Wl,-rpath,/opt/perlbrew/perls/perl-5.22.3/lib/5.22.3/x86_64-linux-thread-multi/CORE'
cccdlflags='-fPIC', lddlflags='-shared -O3 -march=native -L/usr/local/lib -fstack-protector-strong'
Characteristics of this binary (from libperl):
Compile-time options: HAS_TIMES MULTIPLICITY PERLIO_LAYERS
PERL_DONT_CREATE_GVSV
PERL_HASH_FUNC_ONE_AT_A_TIME_HARD
PERL_IMPLICIT_CONTEXT PERL_MALLOC_WRAP
PERL_NEW_COPY_ON_WRITE PERL_PRESERVE_IVUV
USE_64_BIT_ALL USE_64_BIT_INT USE_ITHREADS
USE_LARGE_FILES USE_LOCALE USE_LOCALE_COLLATE
USE_LOCALE_CTYPE USE_LOCALE_NUMERIC USE_LOCALE_TIME
USE_PERLIO USE_PERL_ATOF USE_REENTRANT_API
Locally applied patches:
Devel::PatchPerl 1.38
Built under linux
Compiled at May 9 2017 07:40:06
%ENV:
PERL5LIB=""
PERL5OPT=""
PERL5_CPANPLUS_IS_RUNNING="30680"
PERL5_CPAN_IS_RUNNING="30680"
PERLBREW_BASHRC_VERSION="0.78"
PERLBREW_HOME="/home/feinorgh/.perlbrew"
PERLBREW_LIB=""
PERLBREW_MANPATH="/opt/perlbrew/perls/perl-5.22.3/man"
PERLBREW_PATH="/opt/perlbrew/bin:/opt/perlbrew/perls/perl-5.22.3/bin"
PERLBREW_PERL="perl-5.22.3"
PERLBREW_ROOT="/opt/perlbrew"
PERLBREW_VERSION="0.78"
PERL_LOCAL_LIB_ROOT=""
PERL_MM_USE_DEFAULT="1"
@INC:
/opt/perlbrew/perls/perl-5.22.3/lib/site_perl/5.22.3/x86_64-linux-thread-multi
/opt/perlbrew/perls/perl-5.22.3/lib/site_perl/5.22.3
/opt/perlbrew/perls/perl-5.22.3/lib/5.22.3/x86_64-linux-thread-multi
/opt/perlbrew/perls/perl-5.22.3/lib/5.22.3
.