Dist-Zilla-Plugin-Deprecated v0.007 Perl 5 v5.24.3 OpenBSD.amd64-openbsd
        
            - Status
- Pass
- From
- Alceu Rodrigues de Freitas Junior
- Dist
- 
                Dist-Zilla-Plugin-Deprecated v0.007
            
- Platform
- Perl 5 v5.24.3 OpenBSD.amd64-openbsd
- Date
- 2018-02-19 19:45:41
- ID
- 77a3b87a-15ad-11e8-98b5-f8bbf24e1a0e
This distribution has been tested as part of the CPAN Testers
project, supporting the Perl programming language.  See
http://wiki.cpantesters.org/ for more information or email
questions to cpan-testers-discuss@perl.org
--
Dear Karen Etheridge,
This is a computer-generated report for Dist-Zilla-Plugin-Deprecated-0.007
on perl 5.24.3, created by CPAN-Reporter-1.2018.
Thank you for uploading your work to CPAN.  Congratulations!
All tests were successful.
Sections of this report:
    * Tester comments
    * Program output
    * Prerequisites
    * Environment and other context
------------------------------
TESTER COMMENTS
------------------------------
Additional comments from tester:
this report is from an automated smoke testing program
and was not reviewed by a human for accuracy
------------------------------
PROGRAM OUTPUT
------------------------------
Output from './Build test':
# 
# Versions for all modules listed in MYMETA.json (including optional ones):
# 
# === Configure Requires ===
# 
#     Module               Want  Have
#     ------------------- ----- -----
#     Module::Build::Tiny 0.034 0.039
# 
# === Test Requires ===
# 
#     Module                Want     Have
#     --------------------- ---- --------
#     CPAN::Meta::Validator  any 2.150010
#     File::Spec             any  3.63_01
#     Module::Metadata       any 1.000033
#     Path::Tiny             any    0.104
#     Test::DZil             any    6.011
#     Test::Deep             any    1.127
#     Test::Fatal            any    0.014
#     Test::More            0.88 1.302122
#     Test::Needs            any 0.002005
#     if                     any   0.0606
#     lib                    any     0.63
# 
# === Test Recommends ===
# 
#     Module         Want     Have
#     ---------- -------- --------
#     CPAN::Meta 2.120900 2.150010
# 
# === Runtime Requires ===
# 
#     Module                              Want   Have
#     ------------------------------- -------- ------
#     Dist::Zilla                     4.300039  6.011
#     Dist::Zilla::Role::MetaProvider      any  6.011
#     Moose                                any 2.2009
#     namespace::autoclean                 any   0.28
#     strict                               any   1.11
#     warnings                             any   1.36
# 
# === Other Modules ===
# 
#     Module           Have
#     ------------- -------
#     JSON::PP      2.97001
#     Pod::Coverage    0.23
#     Sub::Name        0.21
#     YAML             1.24
#     autodie          2.29
# 
t/00-report-prereqs.t ...... ok
t/01-basic.t ............... ok
t/02-module.t .............. ok
t/03-module-unsupported.t .. skipped: CPAN::Meta::Merge earlier than 2.150002 required for these tests
t/zzz-check-breaks.t ....... ok
All tests successful.
Files=5, Tests=12, 10 wallclock secs ( 0.01 usr  0.13 sys +  7.52 cusr  1.76 csys =  9.42 CPU)
Result: PASS
------------------------------
PREREQUISITES
------------------------------
Prerequisite modules loaded:
requires:
    Module                          Need     Have    
    ------------------------------- -------- --------
    Dist::Zilla                     4.300039 6.011   
    Dist::Zilla::Role::MetaProvider 0        6.011   
    Moose                           0        2.2009  
    namespace::autoclean            0        0.28    
    perl                            5.006    5.024003
    strict                          0        1.11    
    warnings                        0        1.36    
build_requires:
    Module                          Need     Have    
    ------------------------------- -------- --------
    CPAN::Meta::Validator           0        2.150010
    File::Spec                      0        3.63_01 
    if                              0        0.0606  
    lib                             0        0.63    
    Module::Metadata                0        1.000033
    Path::Tiny                      0        0.104   
    perl                            5.006    5.024003
    Test::Deep                      0        1.127   
    Test::DZil                      0        6.011   
    Test::Fatal                     0        0.014   
    Test::More                      0.88     1.302122
    Test::Needs                     0        0.002005
configure_requires:
    Module                          Need     Have    
    ------------------------------- -------- --------
    Module::Build::Tiny             0.034    0.039   
    perl                            5.006    5.024003
opt_build_requires:
    Module                          Need     Have    
    ------------------------------- -------- --------
    CPAN::Meta                      2.120900 2.150010
------------------------------
ENVIRONMENT AND OTHER CONTEXT
------------------------------
Environment variables:
    AUTOMATED_TESTING = 1
    DBD_MYSQL_TESTDB = test
    DBD_MYSQL_TESTHOST = localhost
    DBD_MYSQL_TESTPASSWORD = 
    DBD_MYSQL_TESTPORT = 3306
    DBD_MYSQL_TESTUSER = goku
    EXTENDED_TESTING = 1
    PATH = /home/goku/perl5/perlbrew/bin:/home/goku/perl5/perlbrew/perls/perl-5.24.3/bin:/home/goku/bin:/usr/bin:/bin:/usr/sbin:/sbin:/usr/X11R6/bin:/usr/local/bin:/usr/local/sbin
    PERL5LIB = 
    PERL5OPT = 
    PERL5_CPANPLUS_IS_RUNNING = 75109
    PERL5_CPAN_IS_RUNNING = 75109
    PERL5_CPAN_IS_RUNNING_IN_RECURSION = 72512,75109
    PERLBREW_HOME = /home/goku/.perlbrew
    PERLBREW_MANPATH = /home/goku/perl5/perlbrew/perls/perl-5.24.3/man
    PERLBREW_PATH = /home/goku/perl5/perlbrew/bin:/home/goku/perl5/perlbrew/perls/perl-5.24.3/bin
    PERLBREW_PERL = perl-5.24.3
    PERLBREW_ROOT = /home/goku/perl5/perlbrew
    PERLBREW_SHELLRC_VERSION = 0.82
    PERLBREW_VERSION = 0.82
    PERL_CR_SMOKER_CURRENT = Dist-Zilla-Plugin-Deprecated-0.007
    PERL_EXTUTILS_AUTOINSTALL = --defaultdeps
    PERL_MM_USE_DEFAULT = 1
    PERL_USE_UNSAFE_INC = 1
    SHELL = /usr/local/bin/bash
    TERM = xterm
Perl special variables (and OS-specific diagnostics, for MSWin32):
    $^X = /home/goku/perl5/perlbrew/perls/perl-5.24.3/bin/perl
    $UID/$EUID = 1001 / 1001
    $GID = 998 998 1001
    $EGID = 998 998 1001
Perl module toolchain versions installed:
    Module              Have    
    ------------------- --------
    CPAN                2.20    
    CPAN::Meta          2.150010
    Cwd                 3.63_01 
    ExtUtils::CBuilder  0.280230
    ExtUtils::Command   7.31_08 
    ExtUtils::Install   2.14    
    ExtUtils::MakeMaker 7.31_08 
    ExtUtils::Manifest  1.70    
    ExtUtils::ParseXS   3.35    
    File::Spec          3.63_01 
    JSON                2.97001 
    JSON::PP            2.97001 
    Module::Build       0.42_26 
    Module::Signature   n/a     
    Parse::CPAN::Meta   2.150010
    Test::Harness       3.40_01 
    Test::More          1.302122
    YAML                1.24    
    YAML::Syck          1.30    
    version             0.9918  
--
Summary of my perl5 (revision 5 version 24 subversion 3) configuration:
   
  Platform:
    osname=openbsd, osvers=6.2, archname=OpenBSD.amd64-openbsd
    uname='openbsd cpan-smoker-openbsd 6.2 generic.mp#134 amd64 '
    config_args='-de -Dprefix=/home/goku/perl5/perlbrew/perls/perl-5.24.3 -Aeval:scriptdir=/home/goku/perl5/perlbrew/perls/perl-5.24.3/bin'
    hint=recommended, useposix=true, d_sigaction=define
    useithreads=undef, usemultiplicity=undef
    use64bitint=define, use64bitall=define, uselongdouble=undef
    usemymalloc=n, bincompat5005=undef
  Compiler:
    cc='cc', ccflags ='-fno-strict-aliasing -pipe -fstack-protector-strong -I/usr/local/include -D_FORTIFY_SOURCE=2',
    optimize='-O2',
    cppflags='-fno-strict-aliasing -pipe -fstack-protector-strong -I/usr/local/include'
    ccversion='', gccversion='4.2.1 Compatible OpenBSD Clang 4.0.0 (tags/RELEASE_400/final)', gccosandvers=''
    intsize=4, longsize=8, ptrsize=8, doublesize=8, byteorder=12345678, doublekind=3
    d_longlong=define, longlongsize=8, d_longdbl=define, longdblsize=16, longdblkind=3
    ivtype='long', ivsize=8, nvtype='double', nvsize=8, Off_t='off_t', lseeksize=8
    alignbytes=8, prototype=define
  Linker and Libraries:
    ld='cc', ldflags ='-Wl,-E  -fstack-protector-strong -L/usr/local/lib'
    libpth=/usr/lib /usr/local/lib
    libs=-lpthread -lm -lutil -lc
    perllibs=-lpthread -lm -lutil -lc
    libc=/usr/lib/libc.so.90.0, so=so, useshrplib=false, libperl=libperl.a
    gnulibc_version=''
  Dynamic Linking:
    dlsrc=dl_dlopen.xs, dlext=so, d_dlsymun=undef, ccdlflags=' '
    cccdlflags='-DPIC -fPIC ', lddlflags='-shared -fPIC  -L/usr/local/lib -fstack-protector-strong'
Characteristics of this binary (from libperl): 
  Compile-time options: HAS_TIMES PERLIO_LAYERS PERL_COPY_ON_WRITE
                        PERL_DONT_CREATE_GVSV
                        PERL_HASH_FUNC_ONE_AT_A_TIME_HARD PERL_MALLOC_WRAP
                        PERL_PRESERVE_IVUV USE_64_BIT_ALL USE_64_BIT_INT
                        USE_LARGE_FILES USE_LOCALE USE_LOCALE_COLLATE
                        USE_LOCALE_CTYPE USE_LOCALE_NUMERIC USE_LOCALE_TIME
                        USE_PERLIO USE_PERL_ATOF
  Locally applied patches:
	Devel::PatchPerl 1.48
  Built under openbsd
  Compiled at Feb 15 2018 18:16:36
  %ENV:
    PERL5LIB=""
    PERL5OPT=""
    PERL5_CPANPLUS_IS_RUNNING="75109"
    PERL5_CPAN_IS_RUNNING="75109"
    PERL5_CPAN_IS_RUNNING_IN_RECURSION="72512,75109"
    PERLBREW_HOME="/home/goku/.perlbrew"
    PERLBREW_MANPATH="/home/goku/perl5/perlbrew/perls/perl-5.24.3/man"
    PERLBREW_PATH="/home/goku/perl5/perlbrew/bin:/home/goku/perl5/perlbrew/perls/perl-5.24.3/bin"
    PERLBREW_PERL="perl-5.24.3"
    PERLBREW_ROOT="/home/goku/perl5/perlbrew"
    PERLBREW_SHELLRC_VERSION="0.82"
    PERLBREW_VERSION="0.82"
    PERL_CR_SMOKER_CURRENT="Dist-Zilla-Plugin-Deprecated-0.007"
    PERL_EXTUTILS_AUTOINSTALL="--defaultdeps"
    PERL_MM_USE_DEFAULT="1"
    PERL_USE_UNSAFE_INC="1"
  @INC:
    /home/goku/perl5/perlbrew/perls/perl-5.24.3/lib/site_perl/5.24.3/OpenBSD.amd64-openbsd
    /home/goku/perl5/perlbrew/perls/perl-5.24.3/lib/site_perl/5.24.3
    /home/goku/perl5/perlbrew/perls/perl-5.24.3/lib/5.24.3/OpenBSD.amd64-openbsd
    /home/goku/perl5/perlbrew/perls/perl-5.24.3/lib/5.24.3
    .