Report for warnings-illegalproto-0.001003

Back
From: metabase:user:4500b9d4-c2d3-11df-b2f7-9a64713f6bcd
Subject: PASS warnings-illegalproto-0.001003 v5.10.0 GNU/Linux
Date: 2015-02-25T19:14:06Z

This distribution has been tested as part of the CPAN Testers
project, supporting the Perl programming language.  See
http://wiki.cpantesters.org/ for more information or email
questions to cpan-testers-discuss@perl.org


--
Dear Arthur Axel 'fREW' Schmidt,

This is a computer-generated report for warnings-illegalproto-0.001003
on perl 5.10.0, created by CPAN-Reporter-1.1801.

Thank you for uploading your work to CPAN.  Congratulations!
All tests were successful.

Sections of this report:

    * Tester comments
    * Program output
    * Prerequisites
    * Environment and other context

------------------------------
TESTER COMMENTS
------------------------------

Additional comments from tester:

none provided

------------------------------
PROGRAM OUTPUT
------------------------------

Output from '/usr/bin/make test':

PERL_DL_NONLAZY=1 /home/khisanth/perl5100/bin/perl "-MExtUtils::Command::MM" "-e" "test_harness(0, 'blib/lib', 'blib/arch')" t/*.t
t/basic.t ............... ok
t/basic2.t .............. ok
t/import.t .............. ok
t/release-pod-syntax.t .. skipped: these tests are for release candidate testing
All tests successful.
Files=4, Tests=6,  0 wallclock secs ( 0.02 usr  0.00 sys +  0.08 cusr  0.01 csys =  0.11 CPU)
Result: PASS

------------------------------
PREREQUISITES
------------------------------

Prerequisite modules loaded:

requires:

    Module              Need            Have
    ------------------- --------------- ----
  ! build_requires      HASH(0xf992410) n/a 
  ! opt_build_requires  HASH(0xf9a7d34) n/a 
  ! opt_requires        HASH(0xf9ce21c) n/a 
  ! requires            HASH(0xf9f05ec) n/a 

configure_requires:

    Module              Need            Have
    ------------------- --------------- ----
    ExtUtils::MakeMaker 6.30            6.62


------------------------------
ENVIRONMENT AND OTHER CONTEXT
------------------------------

Environment variables:

    LANG = en_US.UTF-8
    PATH = /home/khisanth/perl5100/bin:/home/khisanth/local/bin:~/util:/usr/local/sbin:/usr/local/bin:/usr/sbin:/usr/bin:/sbin:/bin:/usr/games
    PERL5LIB = 
    PERL5OPT = 
    PERL5_CPANPLUS_IS_RUNNING = 22290
    PERL5_CPAN_IS_RUNNING = 22290
    PERL_AUTOINSTALL = --defaultdeps
    PERL_AUTOINSTALL_PREFER_CPAN = 1
    PERL_MM_USE_DEFAULT = 1
    SHELL = /bin/bash
    TERM = xterm

Perl special variables (and OS-specific diagnostics, for MSWin32):

    $^X = /home/khisanth/perl5100/bin/perl
    $UID/$EUID = 1000 / 1000
    $GID = 1000 4 20 21 24 25 26 29 30 44 46 104 106 108 110 129 131 132 134 1000
    $EGID = 1000 4 20 21 24 25 26 29 30 44 46 104 106 108 110 129 131 132 134 1000

Perl module toolchain versions installed:

    Module              Have  
    ------------------- ------
    CPAN                2.05  
    Cwd                 3.33  
    ExtUtils::CBuilder  0.2703
    ExtUtils::Command   1.16  
    ExtUtils::Install   1.54  
    ExtUtils::MakeMaker 6.62  
    ExtUtils::Manifest  1.58  
    ExtUtils::ParseXS   2.2205
    File::Spec          3.33  
    Module::Build       0.4205
    Module::Signature   0.66  
    Test::Harness       3.22  
    Test::More          0.98  
    YAML                0.73  
    YAML::Syck          1.07  
    version             0.94  


--

Summary of my perl5 (revision 5 version 10 subversion 0) configuration:
  Platform:
    osname=linux, osvers=2.6.24-24-generic, archname=i686-linux-multi-64int
    uname='linux miyu 2.6.24-24-generic #1 smp wed apr 15 15:54:25 utc 2009 i686 gnulinux '
    config_args='-Dprefix=/home/khisanth/perl5100 -Duseshrplib -Dusemultiplicity -Duse64bitint -Duseperlio -Duselargefiles -des'
    hint=recommended, useposix=true, d_sigaction=define
    useithreads=undef, usemultiplicity=define
    useperlio=define, d_sfio=undef, uselargefiles=define, usesocks=undef
    use64bitint=define, use64bitall=undef, uselongdouble=undef
    usemymalloc=n, bincompat5005=undef
  Compiler:
    cc='cc', ccflags ='-fno-strict-aliasing -pipe -I/usr/local/include -D_LARGEFILE_SOURCE -D_FILE_OFFSET_BITS=64',
    optimize='-O2',
    cppflags='-fno-strict-aliasing -pipe -I/usr/local/include'
    ccversion='', gccversion='4.2.4 (Ubuntu 4.2.4-1ubuntu4)', gccosandvers=''
    intsize=4, longsize=4, ptrsize=4, doublesize=8, byteorder=12345678
    d_longlong=define, longlongsize=8, d_longdbl=define, longdblsize=12
    ivtype='long long', ivsize=8, nvtype='double', nvsize=8, Off_t='off_t', lseeksize=8
    alignbytes=4, prototype=define
  Linker and Libraries:
    ld='cc', ldflags =' -L/usr/local/lib'
    libpth=/usr/local/lib /lib /usr/lib /usr/lib64
    libs=-lnsl -ldb -ldl -lm -lcrypt -lutil -lc
    perllibs=-lnsl -ldl -lm -lcrypt -lutil -lc
    libc=/lib/libc-2.7.so, so=so, useshrplib=true, libperl=libperl.so
    gnulibc_version='2.7'
  Dynamic Linking:
    dlsrc=dl_dlopen.xs, dlext=so, d_dlsymun=undef, ccdlflags='-Wl,-E -Wl,-rpath,/home/khisanth/perl5100/lib/5.10.0/i686-linux-multi-64int/CORE'
    cccdlflags='-fPIC', lddlflags='-shared -O2 -L/usr/local/lib'


Characteristics of this binary (from libperl): 
  Compile-time options: MULTIPLICITY PERL_DONT_CREATE_GVSV
                        PERL_IMPLICIT_CONTEXT PERL_MALLOC_WRAP USE_64_BIT_INT
                        USE_LARGE_FILES USE_PERLIO
  Built under linux
  Compiled at Jun 29 2009 00:43:27
  %ENV:
    PERL5LIB=""
    PERL5OPT=""
    PERL5_CPANPLUS_IS_RUNNING="22290"
    PERL5_CPAN_IS_RUNNING="22290"
    PERL_AUTOINSTALL="--defaultdeps"
    PERL_AUTOINSTALL_PREFER_CPAN="1"
    PERL_MM_USE_DEFAULT="1"
  @INC:
    /home/khisanth/perl5100/lib/5.10.0/i686-linux-multi-64int
    /home/khisanth/perl5100/lib/5.10.0
    /home/khisanth/perl5100/lib/site_perl/5.10.0/i686-linux-multi-64int
    /home/khisanth/perl5100/lib/site_perl/5.10.0
    .