Report for Digest-ECHO-0.04

Back
From: metabase:user:30f4dfbe-2aae-11df-837a-5e0a49663a4f
Subject: PASS Digest-ECHO-0.04 v5.6.2 FreeBSD
Date: 2017-06-05T19:02:05Z

This distribution has been tested as part of the CPAN Testers
project, supporting the Perl programming language.  See
http://wiki.cpantesters.org/ for more information or email
questions to cpan-testers-discuss@perl.org


--
Dear gray,

This is a computer-generated report for Digest-ECHO-0.04
on perl 5.6.2, created by CPAN-Reporter-1.1902.

Thank you for uploading your work to CPAN.  Congratulations!
All tests were successful.

Sections of this report:

    * Tester comments
    * Program output
    * Prerequisites
    * Environment and other context

------------------------------
TESTER COMMENTS
------------------------------

Additional comments from tester:

this report is from an automated smoke testing program
and was not reviewed by a human for accuracy

------------------------------
PROGRAM OUTPUT
------------------------------

Output from '/usr/bin/make test':

Running Mkbootstrap for Digest::ECHO ()
chmod 644 "ECHO.bs"
PERL_DL_NONLAZY=1 "/home/njh/perl5/perlbrew/perls/perl-5.6.2/bin/perl" "-MExtUtils::Command::MM" "-MTest::Harness" "-e" "undef *Test::Harness::Switches; test_harness(0, 'blib/lib', 'blib/arch')" t/*.t
# Testing Digest::ECHO 0.04
t/00_load.t .. ok
t/01_new.t ... ok
t/224.t ...... ok
t/256.t ...... ok
t/384.t ...... ok
t/512.t ...... ok
All tests successful.
Files=6, Tests=292,  3 wallclock secs ( 0.49 usr  0.12 sys +  1.82 cusr  0.41 csys =  2.85 CPU)
Result: PASS

------------------------------
PREREQUISITES
------------------------------

Prerequisite modules loaded:

requires:

    Module              Need             Have
    ------------------- ---------------- ----
  ! build_requires      HASH(0x1081bbd8) n/a 
  ! opt_build_requires  HASH(0x10823430) n/a 
  ! opt_requires        HASH(0x10827430) n/a 
  ! requires            HASH(0x10823754) n/a 

configure_requires:

    Module              Need             Have
    ------------------- ---------------- ----
    ExtUtils::MakeMaker 0                7.04


------------------------------
ENVIRONMENT AND OTHER CONTEXT
------------------------------

Environment variables:

    AUTOMATED_TESTING = 1
    PATH = /home/njh/perl5/perlbrew/bin:/home/njh/perl5/perlbrew/perls/perl-5.6.2/bin:/home/njh/perl5/perlbrew/bin:/usr/local/bin:/bin:/usr/bin
    PERL = [undef]
    PERL5LIB = 
    PERL5OPT = 
    PERL5_CPANPLUS_IS_RUNNING = 44598
    PERL5_CPAN_IS_EXECUTING = [undef]
    PERL5_CPAN_IS_RUNNING = 44598
    PERLBREW_BASHRC_VERSION = 0.74
    PERLBREW_HOME = /home/njh/.perlbrew
    PERLBREW_LIB = 
    PERLBREW_MANPATH = /home/njh/perl5/perlbrew/perls/perl-5.6.2/man
    PERLBREW_PATH = /home/njh/perl5/perlbrew/bin:/home/njh/perl5/perlbrew/perls/perl-5.6.2/bin
    PERLBREW_PERL = perl-5.6.2
    PERLBREW_ROOT = /home/njh/perl5/perlbrew
    PERLBREW_VERSION = 0.74
    PERL_AUTOINSTALL = [undef]
    PERL_EXTUTILS_AUTOINSTALL = [undef]
    PERL_LOCAL_LIB_ROOT = 
    SHELL = /bin/sh

Perl special variables (and OS-specific diagnostics, for MSWin32):

    $^X = /home/njh/perl5/perlbrew/perls/perl-5.6.2/bin/perl
    $UID/$EUID = 1000 / 1000
    $GID = 1000 0 1000
    $EGID = 1000 0 1000

Perl module toolchain versions installed:

    Module Have
     


--

Summary of my perl5 (revision 5.0 version 6 subversion 2) configuration:
  Platform:
    osname=freebsd, osvers=9.1-release, archname=i386-freebsd-multi
    uname='freebsd amber 9.1-release freebsd 9.1-release #0 r243826: tue dec 4 06:55:39 utc 2012 root@obrian.cse.buffalo.edu:usrobjusrsrcsysgeneric i386 '
    config_args='-de -Dprefix=/home/njh/perl5/perlbrew/perls/perl-5.6.2 -Duseithreads -Dusemultiplicity -Accflags=-O2 -W -Wformat=2 -Wswitch -Wshadow -Wwrite-strings -Wuninitialized -Wall -pipe -mtune=native -march=native -fomit-frame-pointer -msse2 -msse -mmmx -mfpmath=sse -pedantic -D_FORTIFY_SOURCE=2 -Wpointer-arith -Wstrict-prototypes -fstack-protector -Wstack-protector -Wextra -Wbad-function-cast -Wcast-align -Wcast-qual -Wdisabled-optimization -Wendif-labels -Wfloat-equal -Wformat-nonliteral -Winline -Wmissing-declarations -Wmissing-prototypes -Wnested-externs -Wpointer-arith -Wundef -Wformat-security -ftree-vectorize -Aeval:scriptdir=/home/njh/perl5/perlbrew/perls/perl-5.6.2/bin'
    hint=recommended, useposix=true, d_sigaction=define
    usethreads=undef use5005threads=undef useithreads=undef usemultiplicity=define
    useperlio=undef d_sfio=undef uselargefiles=define usesocks=undef
    use64bitint=undef use64bitall=undef uselongdouble=undef
  Compiler:
    cc='cc', ccflags ='-DHAS_FPSETMASK -DHAS_FLOATINGPOINT_H -O2 -W -Wformat=2 -Wswitch -Wshadow -Wwrite-strings -Wuninitialized -Wall -pipe -mtune=native -march=native -fomit-frame-pointer -msse2 -msse -mmmx -mfpmath=sse -pedantic -D_FORTIFY_SOURCE=2 -Wpointer-arith -Wstrict-prototypes -fstack-protector -Wstack-protector -Wextra -Wbad-function-cast -Wcast-align -Wcast-qual -Wdisabled-optimization -Wendif-labels -Wfloat-equal -Wformat-nonliteral -Winline -Wmissing-declarations -Wmissing-prototypes -Wnested-externs -Wpointer-arith -Wundef -Wformat-security -ftree-vectorize -fno-strict-aliasing -I/usr/local/include',
    optimize='-O',
    cppflags='-DHAS_FPSETMASK -DHAS_FLOATINGPOINT_H -O2 -W -Wformat=2 -Wswitch -Wshadow -Wwrite-strings -Wuninitialized -Wall -pipe -mtune=native -march=native -fomit-frame-pointer -msse2 -msse -mmmx -mfpmath=sse -pedantic -D_FORTIFY_SOURCE=2 -Wpointer-arith -Wstrict-prototypes -fstack-protector -Wstack-protector -Wextra -Wbad-function-cast -Wcast-align -Wcast-qual -Wdisabled-optimization -Wendif-labels -Wfloat-equal -Wformat-nonliteral -Winline -Wmissing-declarations -Wmissing-prototypes -Wnested-externs -Wpointer-arith -Wundef -Wformat-security -ftree-vectorize -fno-strict-aliasing -I/usr/local/include'
    ccversion='', gccversion='4.2.1 20070831 patched [FreeBSD]', gccosandvers=''
    intsize=4, longsize=4, ptrsize=4, doublesize=8, byteorder=1234
    d_longlong=define, longlongsize=8, d_longdbl=define, longdblsize=12
    ivtype='long', ivsize=4, nvtype='double', nvsize=8, Off_t='off_t', lseeksize=8
    alignbytes=4, usemymalloc=n, prototype=define
  Linker and Libraries:
    ld='cc', ldflags ='-Wl,-E  -L/usr/local/lib'
    libpth=/usr/lib /usr/local/lib
    libs=-lm -lc -lcrypt -lutil
    perllibs=-lm -lc -lcrypt -lutil
    libc=, so=so, useshrplib=false, libperl=libperl.a
  Dynamic Linking:
    dlsrc=dl_dlopen.xs, dlext=so, d_dlsymun=undef, ccdlflags=' '
    cccdlflags='-DPIC -fPIC', lddlflags='-shared  -L/usr/local/lib'


Characteristics of this binary (from libperl): 
  Compile-time options: MULTIPLICITY USE_LARGE_FILES PERL_IMPLICIT_CONTEXT
  Built under freebsd
  Compiled at Aug 11 2013 20:48:39
  %ENV:
    PERL=""
    PERL5LIB=""
    PERL5OPT=""
    PERL5_CPANPLUS_IS_RUNNING="44598"
    PERL5_CPAN_IS_EXECUTING=""
    PERL5_CPAN_IS_RUNNING="44598"
    PERLBREW_BASHRC_VERSION="0.74"
    PERLBREW_HOME="/home/njh/.perlbrew"
    PERLBREW_LIB=""
    PERLBREW_MANPATH="/home/njh/perl5/perlbrew/perls/perl-5.6.2/man"
    PERLBREW_PATH="/home/njh/perl5/perlbrew/bin:/home/njh/perl5/perlbrew/perls/perl-5.6.2/bin"
    PERLBREW_PERL="perl-5.6.2"
    PERLBREW_ROOT="/home/njh/perl5/perlbrew"
    PERLBREW_VERSION="0.74"
    PERL_AUTOINSTALL=""
    PERL_EXTUTILS_AUTOINSTALL=""
    PERL_LOCAL_LIB_ROOT=""
  @INC:
    /home/njh/perl5/perlbrew/perls/perl-5.6.2/lib/5.6.2/i386-freebsd-multi
    /home/njh/perl5/perlbrew/perls/perl-5.6.2/lib/5.6.2
    /home/njh/perl5/perlbrew/perls/perl-5.6.2/lib/site_perl/5.6.2/i386-freebsd-multi
    /home/njh/perl5/perlbrew/perls/perl-5.6.2/lib/site_perl/5.6.2
    /home/njh/perl5/perlbrew/perls/perl-5.6.2/lib/site_perl
    .