Mail-Mbox-MessageParser v1.5111 Perl 5 v5.14.1 amd64-netbsd-thread-multi

Status
Pass
From
Chris Williams (BINGOS)
Dist
Mail-Mbox-MessageParser v1.5111
Platform
Perl 5 v5.14.1 amd64-netbsd-thread-multi
Date
2018-07-12 17:39:02
ID
775fcd00-85fa-11e8-bed3-aefc88cf513b
This distribution has been tested as part of the CPAN Testers
project, supporting the Perl programming language.  See
http://wiki.cpantesters.org/ for more information or email
questions to cpan-testers-discuss@perl.org


--

Dear David Coppit,

This is a computer-generated error report created automatically by
CPANPLUS, version 0.9174. Testers personal comments may appear
at the end of this report.


Thank you for uploading your work to CPAN.  Congratulations!
All tests were successful.

TEST RESULTS:

Below is the error stack from stage 'make test':

PERL_DL_NONLAZY=1 "/home/cpan/pit/thr/perl-5.14.1/bin/perl" "-MExtUtils::Command::MM" "-MTest::Harness" "-e" "undef *Test::Harness::Switches; test_harness(1, 'blib/lib', 'blib/arch')" t/*.t
t/000_standard__compile.t ....... 
1..6
ok 1 - Compile test for blib/lib/Mail/Mbox/MessageParser.pm
ok 2 - Compile test for blib/lib/Mail/Mbox/MessageParser/Perl.pm
ok 3 - Compile test for blib/lib/Mail/Mbox/MessageParser/Grep.pm
ok 4 - Compile test for blib/lib/Mail/Mbox/MessageParser/MetaInfo.pm
ok 5 - Compile test for blib/lib/Mail/Mbox/MessageParser/Cache.pm
ok 6 - Compile test for blib/lib/Mail/Mbox/MessageParser/Config.pm
ok
t/000_standard__perl_critic.t ... skipped: Author test. Set $ENV{TEST_AUTHOR} to a true value to run.
t/000_standard__pod.t ........... skipped: Test::Pod required for testing POD
t/000_standard__pod_coverage.t .. skipped: Test::Pod::Coverage required for testing POD coverage
t/appended_mailbox.t ............ 
1..6
Testing modified mailbox with Perl implementation
Comparing /tmp/AdYCepoH_e to t/mailboxes/mailarc-1.txt
Output /tmp/AdYCepoH_e looks good.
ok 1 - Computing differences
Testing modified mailbox with Cache implementation
Comparing /tmp/Zpk_tjHgEB to t/mailboxes/mailarc-1.txt
Output /tmp/Zpk_tjHgEB looks good.
ok 2 - Computing differences
Testing modified mailbox with Grep implementation
ok 3 # skip GNU grep not available
Testing modified mailbox with Perl implementation
Comparing /tmp/57Nhfuv_FK to t/mailboxes/mailarc-1.txt
Output /tmp/57Nhfuv_FK looks good.
ok 4 - Computing differences
Testing modified mailbox with Cache implementation
Comparing /tmp/oygHJ8p82H to t/mailboxes/mailarc-1.txt
Output /tmp/oygHJ8p82H looks good.
ok 5 - Computing differences
Testing modified mailbox with Grep implementation
ok 6 # skip GNU grep not available
ok
t/bzip2.t ....................... 
1..1
Running test:
  "/bin/cat" "t/mailboxes/mailarc-2.txt.bz2" | "/usr/bin/bzip2" -cd
Comparing /tmp/JUR4Aob3jK to t/results/mailarc-2.txt
Output /tmp/JUR4Aob3jK looks good.
Comparing /tmp/FkBHBCYcKb to t/results/none
Output /tmp/FkBHBCYcKb looks good.
ok 1 - Computing differences
ok
t/endline.t ..................... 
1..8
Testing filename: t/mailboxes/mailarc-1-dos.txt
ok 1 - Dos endline expected
ok 2 - Dos endline expected
ok 3 - Dos endline expected
ok 4 # skip GNU grep not available
Testing filename: t/mailboxes/mailarc-1.txt
ok 5 - Unix endline expected
ok 6 - Unix endline expected
ok 7 - Unix endline expected
ok 8 # skip GNU grep not available
ok
t/filehandle_compressed.t ....... 
1..16
Testing filename: t/mailboxes/mailarc-2.txt.bz2
Comparing /tmp/m5DO3HbETG to t/mailboxes/mailarc-2.txt
Output /tmp/m5DO3HbETG looks good.
ok 1 - Computing differences
Comparing /tmp/tl11j_Lto8 to t/mailboxes/mailarc-2.txt
Output /tmp/tl11j_Lto8 looks good.
ok 2 - Computing differences
Comparing /tmp/s6n3jVpBCZ to t/mailboxes/mailarc-2.txt
Output /tmp/s6n3jVpBCZ looks good.
ok 3 - Computing differences
ok 4 # skip GNU grep not available
Testing filename: t/mailboxes/mailarc-2.txt.gz
Comparing /tmp/gN6jIJXBaA to t/mailboxes/mailarc-2.txt
Output /tmp/gN6jIJXBaA looks good.
ok 5 - Computing differences
Comparing /tmp/3Jp5SepPbF to t/mailboxes/mailarc-2.txt
Output /tmp/3Jp5SepPbF looks good.
ok 6 - Computing differences
Comparing /tmp/l0cUlx2JLQ to t/mailboxes/mailarc-2.txt
Output /tmp/l0cUlx2JLQ looks good.
ok 7 - Computing differences
ok 8 # skip GNU grep not available
Testing filename: t/mailboxes/mailarc-2.txt.lz
ok 9 # skip lzip not available
ok 10 # skip lzip not available
ok 11 # skip lzip not available
ok 12 # skip lzip not available
Testing filename: t/mailboxes/mailarc-2.txt.xz
Comparing /tmp/eqt1w1pQ8n to t/mailboxes/mailarc-2.txt
Output /tmp/eqt1w1pQ8n looks good.
ok 13 - Computing differences
Comparing /tmp/jCqhkcthOf to t/mailboxes/mailarc-2.txt
Output /tmp/jCqhkcthOf looks good.
ok 14 - Computing differences
Comparing /tmp/E_ZOaeFQyN to t/mailboxes/mailarc-2.txt
Output /tmp/E_ZOaeFQyN looks good.
ok 15 - Computing differences
ok 16 # skip GNU grep not available
ok
t/filehandle_noncompressed.t .... 
1..44
Testing filename: t/mailboxes/binary_body.txt
Comparing /tmp/NEK7kh1kRP to t/mailboxes/binary_body.txt
Output /tmp/NEK7kh1kRP looks good.
ok 1 - Computing differences
Comparing /tmp/61oJqyTa5n to t/mailboxes/binary_body.txt
Output /tmp/61oJqyTa5n looks good.
ok 2 - Computing differences
Comparing /tmp/wOiKCRehvV to t/mailboxes/binary_body.txt
Output /tmp/wOiKCRehvV looks good.
ok 3 - Computing differences
ok 4 # skip GNU grep not available
Testing filename: t/mailboxes/hessbug.txt
Comparing /tmp/fmqMx5gFJL to t/mailboxes/hessbug.txt
Output /tmp/fmqMx5gFJL looks good.
ok 5 - Computing differences
Comparing /tmp/qF6wQvONq9 to t/mailboxes/hessbug.txt
Output /tmp/qF6wQvONq9 looks good.
ok 6 - Computing differences
Comparing /tmp/dL5LjJV9fb to t/mailboxes/hessbug.txt
Output /tmp/dL5LjJV9fb looks good.
ok 7 - Computing differences
ok 8 # skip GNU grep not available
Testing filename: t/mailboxes/invalid-boundaries.txt
Comparing /tmp/nYX6oHx7hY to t/mailboxes/invalid-boundaries.txt
Output /tmp/nYX6oHx7hY looks good.
ok 9 - Computing differences
Comparing /tmp/uXWDotbZM_ to t/mailboxes/invalid-boundaries.txt
Output /tmp/uXWDotbZM_ looks good.
ok 10 - Computing differences
Comparing /tmp/MF0vO0yqU6 to t/mailboxes/invalid-boundaries.txt
Output /tmp/MF0vO0yqU6 looks good.
ok 11 - Computing differences
ok 12 # skip GNU grep not available
Testing filename: t/mailboxes/mailarc-1-dos.txt
Comparing /tmp/uLL3qCYNy9 to t/mailboxes/mailarc-1-dos.txt
Output /tmp/uLL3qCYNy9 looks good.
ok 13 - Computing differences
Comparing /tmp/Cv1MhE2gqT to t/mailboxes/mailarc-1-dos.txt
Output /tmp/Cv1MhE2gqT looks good.
ok 14 - Computing differences
Comparing /tmp/VtT0AkywI6 to t/mailboxes/mailarc-1-dos.txt
Output /tmp/VtT0AkywI6 looks good.
ok 15 - Computing differences
ok 16 # skip GNU grep not available
Testing filename: t/mailboxes/mailarc-1.txt
Comparing /tmp/ADHo95igdr to t/mailboxes/mailarc-1.txt
Output /tmp/ADHo95igdr looks good.
ok 17 - Computing differences
Comparing /tmp/Nkr675JbGX to t/mailboxes/mailarc-1.txt
Output /tmp/Nkr675JbGX looks good.
ok 18 - Computing differences
Comparing /tmp/2f6EGrbqg_ to t/mailboxes/mailarc-1.txt
Output /tmp/2f6EGrbqg_ looks good.
ok 19 - Computing differences
ok 20 # skip GNU grep not available
Testing filename: t/mailboxes/mailarc-2.txt
Comparing /tmp/DTPj7OrRib to t/mailboxes/mailarc-2.txt
Output /tmp/DTPj7OrRib looks good.
ok 21 - Computing differences
Comparing /tmp/ks7hWywOWx to t/mailboxes/mailarc-2.txt
Output /tmp/ks7hWywOWx looks good.
ok 22 - Computing differences
Comparing /tmp/khCF9haqLf to t/mailboxes/mailarc-2.txt
Output /tmp/khCF9haqLf looks good.
ok 23 - Computing differences
ok 24 # skip GNU grep not available
Testing filename: t/mailboxes/mailarc-3.txt
Comparing /tmp/QyPcjyFHKh to t/mailboxes/mailarc-3.txt
Output /tmp/QyPcjyFHKh looks good.
ok 25 - Computing differences
Comparing /tmp/mUtqfxCznC to t/mailboxes/mailarc-3.txt
Output /tmp/mUtqfxCznC looks good.
ok 26 - Computing differences
Comparing /tmp/SC8acrxWKh to t/mailboxes/mailarc-3.txt
Output /tmp/SC8acrxWKh looks good.
ok 27 - Computing differences
ok 28 # skip GNU grep not available
Testing filename: t/mailboxes/mailseparators.txt
Comparing /tmp/z38IGKkDFX to t/mailboxes/mailseparators.txt
Output /tmp/z38IGKkDFX looks good.
ok 29 - Computing differences
Comparing /tmp/0kMhZNx2jy to t/mailboxes/mailseparators.txt
Output /tmp/0kMhZNx2jy looks good.
ok 30 - Computing differences
Comparing /tmp/bJD7OLeqtq to t/mailboxes/mailseparators.txt
Output /tmp/bJD7OLeqtq looks good.
ok 31 - Computing differences
ok 32 # skip GNU grep not available
Testing filename: t/mailboxes/malformed.txt
Comparing /tmp/OEULodb0ys to t/mailboxes/malformed.txt
Output /tmp/OEULodb0ys looks good.
ok 33 - Computing differences
Comparing /tmp/FLjwpals8n to t/mailboxes/malformed.txt
Output /tmp/FLjwpals8n looks good.
ok 34 - Computing differences
Comparing /tmp/mm4mFEoXwW to t/mailboxes/malformed.txt
Output /tmp/mm4mFEoXwW looks good.
ok 35 - Computing differences
ok 36 # skip GNU grep not available
Testing filename: t/mailboxes/newlines_at_beginning.txt
Comparing /tmp/UTWrmoAkyX to t/mailboxes/newlines_at_beginning.txt
Output /tmp/UTWrmoAkyX looks good.
ok 37 - Computing differences
Comparing /tmp/S8U9ATPf07 to t/mailboxes/newlines_at_beginning.txt
Output /tmp/S8U9ATPf07 looks good.
ok 38 - Computing differences
Comparing /tmp/4JZsCiyjX5 to t/mailboxes/newlines_at_beginning.txt
Output /tmp/4JZsCiyjX5 looks good.
ok 39 - Computing differences
ok 40 # skip GNU grep not available
Testing filename: t/mailboxes/vm-emacs.txt
Comparing /tmp/qPxMAn8BSh to t/mailboxes/vm-emacs.txt
Output /tmp/qPxMAn8BSh looks good.
ok 41 - Computing differences
Comparing /tmp/RzA5Fb7S3o to t/mailboxes/vm-emacs.txt
Output /tmp/RzA5Fb7S3o looks good.
ok 42 - Computing differences
Comparing /tmp/LWyyhbFCRQ to t/mailboxes/vm-emacs.txt
Output /tmp/LWyyhbFCRQ looks good.
ok 43 - Computing differences
ok 44 # skip GNU grep not available
ok
t/filename_compressed.t ......... 
1..4
Testing filename: t/mailboxes/mailarc-2.txt.bz2
Comparing /tmp/PYKlj1s6tv to t/mailboxes/mailarc-2.txt
Output /tmp/PYKlj1s6tv looks good.
ok 1 - Computing differences
Testing filename: t/mailboxes/mailarc-2.txt.gz
Comparing /tmp/0hKb9cJOwi to t/mailboxes/mailarc-2.txt
Output /tmp/0hKb9cJOwi looks good.
ok 2 - Computing differences
Testing filename: t/mailboxes/mailarc-2.txt.lz
ok 3 # skip lzip not available
Testing filename: t/mailboxes/mailarc-2.txt.xz
Comparing /tmp/xJy0E2lnNu to t/mailboxes/mailarc-2.txt
Output /tmp/xJy0E2lnNu looks good.
ok 4 - Computing differences
ok
t/filename_noncompressed.t ...... 
1..11
Testing filename: t/mailboxes/binary_body.txt
Comparing /tmp/9swUU6JuVp to t/mailboxes/binary_body.txt
Output /tmp/9swUU6JuVp looks good.
ok 1 - Computing differences
Testing filename: t/mailboxes/hessbug.txt
Comparing /tmp/5cy9qquXqr to t/mailboxes/hessbug.txt
Output /tmp/5cy9qquXqr looks good.
ok 2 - Computing differences
Testing filename: t/mailboxes/invalid-boundaries.txt
Comparing /tmp/xR7z7i7JnT to t/mailboxes/invalid-boundaries.txt
Output /tmp/xR7z7i7JnT looks good.
ok 3 - Computing differences
Testing filename: t/mailboxes/mailarc-1-dos.txt
Comparing /tmp/IaqoVXJimY to t/mailboxes/mailarc-1-dos.txt
Output /tmp/IaqoVXJimY looks good.
ok 4 - Computing differences
Testing filename: t/mailboxes/mailarc-1.txt
Comparing /tmp/GyzCzvnIh6 to t/mailboxes/mailarc-1.txt
Output /tmp/GyzCzvnIh6 looks good.
ok 5 - Computing differences
Testing filename: t/mailboxes/mailarc-2.txt
Comparing /tmp/H0aAfkqjmy to t/mailboxes/mailarc-2.txt
Output /tmp/H0aAfkqjmy looks good.
ok 6 - Computing differences
Testing filename: t/mailboxes/mailarc-3.txt
Comparing /tmp/xaqMuBk3hQ to t/mailboxes/mailarc-3.txt
Output /tmp/xaqMuBk3hQ looks good.
ok 7 - Computing differences
Testing filename: t/mailboxes/mailseparators.txt
Comparing /tmp/XC5MN_deWf to t/mailboxes/mailseparators.txt
Output /tmp/XC5MN_deWf looks good.
ok 8 - Computing differences
Testing filename: t/mailboxes/malformed.txt
Comparing /tmp/Z_4lvrtUxL to t/mailboxes/malformed.txt
Output /tmp/Z_4lvrtUxL looks good.
ok 9 - Computing differences
Testing filename: t/mailboxes/newlines_at_beginning.txt
Comparing /tmp/BKFhpAJ27Z to t/mailboxes/newlines_at_beginning.txt
Output /tmp/BKFhpAJ27Z looks good.
ok 10 - Computing differences
Testing filename: t/mailboxes/vm-emacs.txt
Comparing /tmp/sGuo2pWo2B to t/mailboxes/vm-emacs.txt
Output /tmp/sGuo2pWo2B looks good.
ok 11 - Computing differences
ok
t/grep.t ........................ 
1..4
Running test:
  unset LC_ALL LC_COLLATE LANG LC_CTYPE LC_MESSAGES; grep --extended-regexp --line-number --byte-offset --binary-files=text "^From [^:]+(:[0-9][0-9]){1,2}(  *([A-Z]{2,6}|[+-]?[0-9]{4})){1,3}( remote from .*)?
?$" t/mailboxes/mailarc-1.txt
ok 1 # skip 1
Running test:
  unset LC_ALL LC_COLLATE LANG LC_CTYPE LC_MESSAGES; grep --extended-regexp --line-number --byte-offset --binary-files=text "^From [^:]+(:[0-9][0-9]){1,2}(  *([A-Z]{2,6}|[+-]?[0-9]{4})){1,3}( remote from .*)?
?$" t/mailboxes/mailarc-2.txt
ok 2 # skip 1
Running test:
  unset LC_ALL LC_COLLATE LANG LC_CTYPE LC_MESSAGES; grep --extended-regexp --line-number --byte-offset --binary-files=text "^From [^:]+(:[0-9][0-9]){1,2}(  *([A-Z]{2,6}|[+-]?[0-9]{4})){1,3}( remote from .*)?
?$" t/mailboxes/mailarc-3.txt
ok 3 # skip 1
Running test:
  unset LC_ALL LC_COLLATE LANG LC_CTYPE LC_MESSAGES; grep --extended-regexp --line-number --byte-offset --binary-files=text "^From [^:]+(:[0-9][0-9]){1,2}(  *([A-Z]{2,6}|[+-]?[0-9]{4})){1,3}( remote from .*)?
?$" t/mailboxes/mailseparators.txt
ok 4 # skip 1
ok
t/gzip.t ........................ 
1..1
Running test:
  "/bin/cat" "t/mailboxes/mailarc-2.txt.gz" | "/usr/bin/gzip" -cd
Comparing /tmp/_xv3oKowFJ to t/results/mailarc-2.txt
Output /tmp/_xv3oKowFJ looks good.
Comparing /tmp/XcDgGQFiUX to t/results/none
Output /tmp/XcDgGQFiUX looks good.
ok 1 - Computing differences
ok
t/length.t ...................... 
1..30
Testing filename: t/mailboxes/binary_body.txt
Comparing /tmp/eLW46HOXwh to t/results/length_binary_body.stdout
Output /tmp/eLW46HOXwh looks good.
ok 1 - Computing differences
Comparing /tmp/ZU0txFVzgA to t/results/length_binary_body.stdout
Output /tmp/ZU0txFVzgA looks good.
ok 2 - Computing differences
ok 3 # skip GNU grep not available
Testing filename: t/mailboxes/hessbug.txt
Comparing /tmp/0ZapQZHykM to t/results/length_hessbug.stdout
Output /tmp/0ZapQZHykM looks good.
ok 4 - Computing differences
Comparing /tmp/KZHa4tzxvv to t/results/length_hessbug.stdout
Output /tmp/KZHa4tzxvv looks good.
ok 5 - Computing differences
ok 6 # skip GNU grep not available
Testing filename: t/mailboxes/invalid-boundaries.txt
Comparing /tmp/G56LvO7_b2 to t/results/length_invalid-boundaries.stdout
Output /tmp/G56LvO7_b2 looks good.
ok 7 - Computing differences
Comparing /tmp/0vAofUfEeA to t/results/length_invalid-boundaries.stdout
Output /tmp/0vAofUfEeA looks good.
ok 8 - Computing differences
ok 9 # skip GNU grep not available
Testing filename: t/mailboxes/mailarc-1-dos.txt
Comparing /tmp/0DI2tQ1O8S to t/results/length_mailarc-1-dos.stdout
Output /tmp/0DI2tQ1O8S looks good.
ok 10 - Computing differences
Comparing /tmp/D4yOGgjCkn to t/results/length_mailarc-1-dos.stdout
Output /tmp/D4yOGgjCkn looks good.
ok 11 - Computing differences
ok 12 # skip GNU grep not available
Testing filename: t/mailboxes/mailarc-1.txt
Comparing /tmp/BRAHHsonA5 to t/results/length_mailarc-1.stdout
Output /tmp/BRAHHsonA5 looks good.
ok 13 - Computing differences
Comparing /tmp/VOtjvlqlkK to t/results/length_mailarc-1.stdout
Output /tmp/VOtjvlqlkK looks good.
ok 14 - Computing differences
ok 15 # skip GNU grep not available
Testing filename: t/mailboxes/mailarc-2.txt
Comparing /tmp/QJOz_J16NP to t/results/length_mailarc-2.stdout
Output /tmp/QJOz_J16NP looks good.
ok 16 - Computing differences
Comparing /tmp/scl2MuxDlx to t/results/length_mailarc-2.stdout
Output /tmp/scl2MuxDlx looks good.
ok 17 - Computing differences
ok 18 # skip GNU grep not available
Testing filename: t/mailboxes/mailarc-3.txt
Comparing /tmp/J7h4AtHCgq to t/results/length_mailarc-3.stdout
Output /tmp/J7h4AtHCgq looks good.
ok 19 - Computing differences
Comparing /tmp/40knCfMJ1L to t/results/length_mailarc-3.stdout
Output /tmp/40knCfMJ1L looks good.
ok 20 - Computing differences
ok 21 # skip GNU grep not available
Testing filename: t/mailboxes/mailseparators.txt
Comparing /tmp/4NTIUwTdF7 to t/results/length_mailseparators.stdout
Output /tmp/4NTIUwTdF7 looks good.
ok 22 - Computing differences
Comparing /tmp/cACiKpP7lE to t/results/length_mailseparators.stdout
Output /tmp/cACiKpP7lE looks good.
ok 23 - Computing differences
ok 24 # skip GNU grep not available
Testing filename: t/mailboxes/malformed.txt
Comparing /tmp/8EGmctkQDs to t/results/length_malformed.stdout
Output /tmp/8EGmctkQDs looks good.
ok 25 - Computing differences
Comparing /tmp/uMP5F_c1qZ to t/results/length_malformed.stdout
Output /tmp/uMP5F_c1qZ looks good.
ok 26 - Computing differences
ok 27 # skip GNU grep not available
Testing filename: t/mailboxes/newlines_at_beginning.txt
Comparing /tmp/0WChSfC3x3 to t/results/length_newlines_at_beginning.stdout
Output /tmp/0WChSfC3x3 looks good.
ok 28 - Computing differences
Comparing /tmp/i4xlOpQMo_ to t/results/length_newlines_at_beginning.stdout
Output /tmp/i4xlOpQMo_ looks good.
ok 29 - Computing differences
ok 30 # skip GNU grep not available
ok
t/line_number.t ................. 
1..30
Testing filename: t/mailboxes/binary_body.txt
Comparing /tmp/wsAZT9XUDe to t/results/line_number_binary_body.stdout
Output /tmp/wsAZT9XUDe looks good.
ok 1 - Computing differences
Comparing /tmp/2piFKWxDcK to t/results/line_number_binary_body.stdout
Output /tmp/2piFKWxDcK looks good.
ok 2 - Computing differences
ok 3 # skip GNU grep not available
Testing filename: t/mailboxes/hessbug.txt
Comparing /tmp/ahZw6BkQ__ to t/results/line_number_hessbug.stdout
Output /tmp/ahZw6BkQ__ looks good.
ok 4 - Computing differences
Comparing /tmp/vBCzThd0FC to t/results/line_number_hessbug.stdout
Output /tmp/vBCzThd0FC looks good.
ok 5 - Computing differences
ok 6 # skip GNU grep not available
Testing filename: t/mailboxes/invalid-boundaries.txt
Comparing /tmp/XnwOzIhrcx to t/results/line_number_invalid-boundaries.stdout
Output /tmp/XnwOzIhrcx looks good.
ok 7 - Computing differences
Comparing /tmp/aK8mYGD6z5 to t/results/line_number_invalid-boundaries.stdout
Output /tmp/aK8mYGD6z5 looks good.
ok 8 - Computing differences
ok 9 # skip GNU grep not available
Testing filename: t/mailboxes/mailarc-1-dos.txt
Comparing /tmp/rYbuV1SP5z to t/results/line_number_mailarc-1-dos.stdout
Output /tmp/rYbuV1SP5z looks good.
ok 10 - Computing differences
Comparing /tmp/Kvvi8GsaHZ to t/results/line_number_mailarc-1-dos.stdout
Output /tmp/Kvvi8GsaHZ looks good.
ok 11 - Computing differences
ok 12 # skip GNU grep not available
Testing filename: t/mailboxes/mailarc-1.txt
Comparing /tmp/d8GOXl3wYm to t/results/line_number_mailarc-1.stdout
Output /tmp/d8GOXl3wYm looks good.
ok 13 - Computing differences
Comparing /tmp/8fRKsSMEr1 to t/results/line_number_mailarc-1.stdout
Output /tmp/8fRKsSMEr1 looks good.
ok 14 - Computing differences
ok 15 # skip GNU grep not available
Testing filename: t/mailboxes/mailarc-2.txt
Comparing /tmp/H0q_1jdzWb to t/results/line_number_mailarc-2.stdout
Output /tmp/H0q_1jdzWb looks good.
ok 16 - Computing differences
Comparing /tmp/tO45XhjDg_ to t/results/line_number_mailarc-2.stdout
Output /tmp/tO45XhjDg_ looks good.
ok 17 - Computing differences
ok 18 # skip GNU grep not available
Testing filename: t/mailboxes/mailarc-3.txt
Comparing /tmp/MM3v9NCI8C to t/results/line_number_mailarc-3.stdout
Output /tmp/MM3v9NCI8C looks good.
ok 19 - Computing differences
Comparing /tmp/t6KAH4BBcE to t/results/line_number_mailarc-3.stdout
Output /tmp/t6KAH4BBcE looks good.
ok 20 - Computing differences
ok 21 # skip GNU grep not available
Testing filename: t/mailboxes/mailseparators.txt
Comparing /tmp/kWRxsnIKya to t/results/line_number_mailseparators.stdout
Output /tmp/kWRxsnIKya looks good.
ok 22 - Computing differences
Comparing /tmp/tvrGUI3T0s to t/results/line_number_mailseparators.stdout
Output /tmp/tvrGUI3T0s looks good.
ok 23 - Computing differences
ok 24 # skip GNU grep not available
Testing filename: t/mailboxes/malformed.txt
Comparing /tmp/EVcTrHpgwu to t/results/line_number_malformed.stdout
Output /tmp/EVcTrHpgwu looks good.
ok 25 - Computing differences
Comparing /tmp/meMafgIZro to t/results/line_number_malformed.stdout
Output /tmp/meMafgIZro looks good.
ok 26 - Computing differences
ok 27 # skip GNU grep not available
Testing filename: t/mailboxes/newlines_at_beginning.txt
Comparing /tmp/MfZVnxqXvh to t/results/line_number_newlines_at_beginning.stdout
Output /tmp/MfZVnxqXvh looks good.
ok 28 - Computing differences
Comparing /tmp/x1eJiU3b8O to t/results/line_number_newlines_at_beginning.stdout
Output /tmp/x1eJiU3b8O looks good.
ok 29 - Computing differences
ok 30 # skip GNU grep not available
ok
t/lzip.t ........................ 
1..1
Running test:
  "/bin/cat" "t/mailboxes/mailarc-2.txt.lz" | "lzip" -cd
ok 1 # skip lzip not available
ok
t/number.t ...................... 
1..30
Testing filename: t/mailboxes/binary_body.txt
Comparing /tmp/BSOn7oZwXi to t/results/number_binary_body.stdout
Output /tmp/BSOn7oZwXi looks good.
ok 1 - Computing differences
Comparing /tmp/M8fAOY3qqu to t/results/number_binary_body.stdout
Output /tmp/M8fAOY3qqu looks good.
ok 2 - Computing differences
ok 3 # skip GNU grep not available
Testing filename: t/mailboxes/hessbug.txt
Comparing /tmp/ZbwCF3JvfT to t/results/number_hessbug.stdout
Output /tmp/ZbwCF3JvfT looks good.
ok 4 - Computing differences
Comparing /tmp/jLmA1RTkCl to t/results/number_hessbug.stdout
Output /tmp/jLmA1RTkCl looks good.
ok 5 - Computing differences
ok 6 # skip GNU grep not available
Testing filename: t/mailboxes/invalid-boundaries.txt
Comparing /tmp/C0xrFFn5P_ to t/results/number_invalid-boundaries.stdout
Output /tmp/C0xrFFn5P_ looks good.
ok 7 - Computing differences
Comparing /tmp/Hqki2U3_CD to t/results/number_invalid-boundaries.stdout
Output /tmp/Hqki2U3_CD looks good.
ok 8 - Computing differences
ok 9 # skip GNU grep not available
Testing filename: t/mailboxes/mailarc-1-dos.txt
Comparing /tmp/WzxieNi3aW to t/results/number_mailarc-1-dos.stdout
Output /tmp/WzxieNi3aW looks good.
ok 10 - Computing differences
Comparing /tmp/k7CbIenXTA to t/results/number_mailarc-1-dos.stdout
Output /tmp/k7CbIenXTA looks good.
ok 11 - Computing differences
ok 12 # skip GNU grep not available
Testing filename: t/mailboxes/mailarc-1.txt
Comparing /tmp/DkcdeBT3sM to t/results/number_mailarc-1.stdout
Output /tmp/DkcdeBT3sM looks good.
ok 13 - Computing differences
Comparing /tmp/1HFLw92rkT to t/results/number_mailarc-1.stdout
Output /tmp/1HFLw92rkT looks good.
ok 14 - Computing differences
ok 15 # skip GNU grep not available
Testing filename: t/mailboxes/mailarc-2.txt
Comparing /tmp/_ZT5l2Dr1l to t/results/number_mailarc-2.stdout
Output /tmp/_ZT5l2Dr1l looks good.
ok 16 - Computing differences
Comparing /tmp/J7oAQ4B4Lt to t/results/number_mailarc-2.stdout
Output /tmp/J7oAQ4B4Lt looks good.
ok 17 - Computing differences
ok 18 # skip GNU grep not available
Testing filename: t/mailboxes/mailarc-3.txt
Comparing /tmp/SGotGlFLcU to t/results/number_mailarc-3.stdout
Output /tmp/SGotGlFLcU looks good.
ok 19 - Computing differences
Comparing /tmp/AMksh2hOnD to t/results/number_mailarc-3.stdout
Output /tmp/AMksh2hOnD looks good.
ok 20 - Computing differences
ok 21 # skip GNU grep not available
Testing filename: t/mailboxes/mailseparators.txt
Comparing /tmp/NJXjszlTBu to t/results/number_mailseparators.stdout
Output /tmp/NJXjszlTBu looks good.
ok 22 - Computing differences
Comparing /tmp/Nlww7r_MmR to t/results/number_mailseparators.stdout
Output /tmp/Nlww7r_MmR looks good.
ok 23 - Computing differences
ok 24 # skip GNU grep not available
Testing filename: t/mailboxes/malformed.txt
Comparing /tmp/4Ym_w1InhW to t/results/number_malformed.stdout
Output /tmp/4Ym_w1InhW looks good.
ok 25 - Computing differences
Comparing /tmp/Dpnm7zkXON to t/results/number_malformed.stdout
Output /tmp/Dpnm7zkXON looks good.
ok 26 - Computing differences
ok 27 # skip GNU grep not available
Testing filename: t/mailboxes/newlines_at_beginning.txt
Comparing /tmp/CSyqoMYKSL to t/results/number_newlines_at_beginning.stdout
Output /tmp/CSyqoMYKSL looks good.
ok 28 - Computing differences
Comparing /tmp/h5NbeC2jne to t/results/number_newlines_at_beginning.stdout
Output /tmp/h5NbeC2jne looks good.
ok 29 - Computing differences
ok 30 # skip GNU grep not available
ok
t/offset.t ...................... 
1..30
Testing filename: t/mailboxes/binary_body.txt
Comparing /tmp/Xnw4ayhcfm to t/results/offset_binary_body.stdout
Output /tmp/Xnw4ayhcfm looks good.
ok 1 - Computing differences
Comparing /tmp/s56vUQIbJA to t/results/offset_binary_body.stdout
Output /tmp/s56vUQIbJA looks good.
ok 2 - Computing differences
ok 3 # skip GNU grep not available
Testing filename: t/mailboxes/hessbug.txt
Comparing /tmp/TQE203APFe to t/results/offset_hessbug.stdout
Output /tmp/TQE203APFe looks good.
ok 4 - Computing differences
Comparing /tmp/IHQafhYdcZ to t/results/offset_hessbug.stdout
Output /tmp/IHQafhYdcZ looks good.
ok 5 - Computing differences
ok 6 # skip GNU grep not available
Testing filename: t/mailboxes/invalid-boundaries.txt
Comparing /tmp/Y6Y3M1QCUu to t/results/offset_invalid-boundaries.stdout
Output /tmp/Y6Y3M1QCUu looks good.
ok 7 - Computing differences
Comparing /tmp/cqF6rndvcY to t/results/offset_invalid-boundaries.stdout
Output /tmp/cqF6rndvcY looks good.
ok 8 - Computing differences
ok 9 # skip GNU grep not available
Testing filename: t/mailboxes/mailarc-1-dos.txt
Comparing /tmp/Wk044TMCtb to t/results/offset_mailarc-1-dos.stdout
Output /tmp/Wk044TMCtb looks good.
ok 10 - Computing differences
Comparing /tmp/1j7jw_rfU_ to t/results/offset_mailarc-1-dos.stdout
Output /tmp/1j7jw_rfU_ looks good.
ok 11 - Computing differences
ok 12 # skip GNU grep not available
Testing filename: t/mailboxes/mailarc-1.txt
Comparing /tmp/I9_lsNH8zI to t/results/offset_mailarc-1.stdout
Output /tmp/I9_lsNH8zI looks good.
ok 13 - Computing differences
Comparing /tmp/KYF1AhjEnx to t/results/offset_mailarc-1.stdout
Output /tmp/KYF1AhjEnx looks good.
ok 14 - Computing differences
ok 15 # skip GNU grep not available
Testing filename: t/mailboxes/mailarc-2.txt
Comparing /tmp/9w51Mkw8rK to t/results/offset_mailarc-2.stdout
Output /tmp/9w51Mkw8rK looks good.
ok 16 - Computing differences
Comparing /tmp/bzC4FuqFUl to t/results/offset_mailarc-2.stdout
Output /tmp/bzC4FuqFUl looks good.
ok 17 - Computing differences
ok 18 # skip GNU grep not available
Testing filename: t/mailboxes/mailarc-3.txt
Comparing /tmp/6FcYYvzIbg to t/results/offset_mailarc-3.stdout
Output /tmp/6FcYYvzIbg looks good.
ok 19 - Computing differences
Comparing /tmp/Qze0PQrTJk to t/results/offset_mailarc-3.stdout
Output /tmp/Qze0PQrTJk looks good.
ok 20 - Computing differences
ok 21 # skip GNU grep not available
Testing filename: t/mailboxes/mailseparators.txt
Comparing /tmp/WE1fcD00KQ to t/results/offset_mailseparators.stdout
Output /tmp/WE1fcD00KQ looks good.
ok 22 - Computing differences
Comparing /tmp/rfAx2tDkss to t/results/offset_mailseparators.stdout
Output /tmp/rfAx2tDkss looks good.
ok 23 - Computing differences
ok 24 # skip GNU grep not available
Testing filename: t/mailboxes/malformed.txt
Comparing /tmp/qJRisnfxsH to t/results/offset_malformed.stdout
Output /tmp/qJRisnfxsH looks good.
ok 25 - Computing differences
Comparing /tmp/ZS4IleKy11 to t/results/offset_malformed.stdout
Output /tmp/ZS4IleKy11 looks good.
ok 26 - Computing differences
ok 27 # skip GNU grep not available
Testing filename: t/mailboxes/newlines_at_beginning.txt
Comparing /tmp/DRPvm0J002 to t/results/offset_newlines_at_beginning.stdout
Output /tmp/DRPvm0J002 looks good.
ok 28 - Computing differences
Comparing /tmp/PnctwBFm8h to t/results/offset_newlines_at_beginning.stdout
Output /tmp/PnctwBFm8h looks good.
ok 29 - Computing differences
ok 30 # skip GNU grep not available
ok
t/prologue.t .................... 
1..33
Testing filename: t/mailboxes/binary_body.txt
Comparing /tmp/FJgTVDS6uD to t/mailboxes/binary_body.txt
Output /tmp/FJgTVDS6uD looks good.
ok 1 - Computing differences
Comparing /tmp/v3dkIEWDHJ to t/mailboxes/binary_body.txt
Output /tmp/v3dkIEWDHJ looks good.
ok 2 - Computing differences
ok 3 # skip GNU grep not available
Testing filename: t/mailboxes/hessbug.txt
Comparing /tmp/0_F6pFwIES to t/mailboxes/hessbug.txt
Output /tmp/0_F6pFwIES looks good.
ok 4 - Computing differences
Comparing /tmp/Mp0MQQJVMt to t/mailboxes/hessbug.txt
Output /tmp/Mp0MQQJVMt looks good.
ok 5 - Computing differences
ok 6 # skip GNU grep not available
Testing filename: t/mailboxes/invalid-boundaries.txt
Comparing /tmp/P7559iuzlx to t/mailboxes/invalid-boundaries.txt
Output /tmp/P7559iuzlx looks good.
ok 7 - Computing differences
Comparing /tmp/Wqut5tXhOf to t/mailboxes/invalid-boundaries.txt
Output /tmp/Wqut5tXhOf looks good.
ok 8 - Computing differences
ok 9 # skip GNU grep not available
Testing filename: t/mailboxes/mailarc-1-dos.txt
Comparing /tmp/1xDSNXGiIA to t/mailboxes/mailarc-1-dos.txt
Output /tmp/1xDSNXGiIA looks good.
ok 10 - Computing differences
Comparing /tmp/5BFnBCeo3r to t/mailboxes/mailarc-1-dos.txt
Output /tmp/5BFnBCeo3r looks good.
ok 11 - Computing differences
ok 12 # skip GNU grep not available
Testing filename: t/mailboxes/mailarc-1.txt
Comparing /tmp/tcK3sT9emw to t/mailboxes/mailarc-1.txt
Output /tmp/tcK3sT9emw looks good.
ok 13 - Computing differences
Comparing /tmp/OjBkOKnHj2 to t/mailboxes/mailarc-1.txt
Output /tmp/OjBkOKnHj2 looks good.
ok 14 - Computing differences
ok 15 # skip GNU grep not available
Testing filename: t/mailboxes/mailarc-2.txt
Comparing /tmp/_ms0dUuyLd to t/mailboxes/mailarc-2.txt
Output /tmp/_ms0dUuyLd looks good.
ok 16 - Computing differences
Comparing /tmp/Sl3uGwm0HN to t/mailboxes/mailarc-2.txt
Output /tmp/Sl3uGwm0HN looks good.
ok 17 - Computing differences
ok 18 # skip GNU grep not available
Testing filename: t/mailboxes/mailarc-3.txt
Comparing /tmp/vC9F9rn0gw to t/mailboxes/mailarc-3.txt
Output /tmp/vC9F9rn0gw looks good.
ok 19 - Computing differences
Comparing /tmp/qUtWfUUYJL to t/mailboxes/mailarc-3.txt
Output /tmp/qUtWfUUYJL looks good.
ok 20 - Computing differences
ok 21 # skip GNU grep not available
Testing filename: t/mailboxes/mailseparators.txt
Comparing /tmp/aHhsZzVYwc to t/mailboxes/mailseparators.txt
Output /tmp/aHhsZzVYwc looks good.
ok 22 - Computing differences
Comparing /tmp/diOLptAnMz to t/mailboxes/mailseparators.txt
Output /tmp/diOLptAnMz looks good.
ok 23 - Computing differences
ok 24 # skip GNU grep not available
Testing filename: t/mailboxes/malformed.txt
Comparing /tmp/hbxjLY0EoX to t/mailboxes/malformed.txt
Output /tmp/hbxjLY0EoX looks good.
ok 25 - Computing differences
Comparing /tmp/dikeLAPZpB to t/mailboxes/malformed.txt
Output /tmp/dikeLAPZpB looks good.
ok 26 - Computing differences
ok 27 # skip GNU grep not available
Testing filename: t/mailboxes/newlines_at_beginning.txt
Comparing /tmp/pYye7h7XHt to t/mailboxes/newlines_at_beginning.txt
Output /tmp/pYye7h7XHt looks good.
ok 28 - Computing differences
Comparing /tmp/R8UFdEzUot to t/mailboxes/newlines_at_beginning.txt
Output /tmp/R8UFdEzUot looks good.
ok 29 - Computing differences
ok 30 # skip GNU grep not available
Testing filename: t/mailboxes/vm-emacs.txt
Comparing /tmp/lwBqW5rpik to t/mailboxes/vm-emacs.txt
Output /tmp/lwBqW5rpik looks good.
ok 31 - Computing differences
Comparing /tmp/0xJSe926Hn to t/mailboxes/vm-emacs.txt
Output /tmp/0xJSe926Hn looks good.
ok 32 - Computing differences
ok 33 # skip GNU grep not available
ok
t/reset.t ....................... 
1..60
Testing filename: t/mailboxes/binary_body.txt
Testing partial mailbox reset with Perl implementation
Comparing /tmp/OfJtBYN7nz to t/results/reset_binary_body.stdout
Output /tmp/OfJtBYN7nz looks good.
ok 1 - Computing differences
Testing partial mailbox reset with Cache implementation
Comparing /tmp/fPKwz9LcT1 to t/results/reset_binary_body.stdout
Output /tmp/fPKwz9LcT1 looks good.
ok 2 - Computing differences
Testing partial mailbox reset with Grep implementation
ok 3 # skip GNU grep not available
Testing full mailbox reset with Perl implementation
Comparing /tmp/vvcYUZkI3y to t/results/reset_binary_body.stdout
Output /tmp/vvcYUZkI3y looks good.
ok 4 - Computing differences
Testing full mailbox reset with Cache implementation
Comparing /tmp/LCEDzlgiDD to t/results/reset_binary_body.stdout
Output /tmp/LCEDzlgiDD looks good.
ok 5 - Computing differences
Testing full mailbox reset with Grep implementation
ok 6 # skip GNU grep not available
Testing filename: t/mailboxes/hessbug.txt
Testing partial mailbox reset with Perl implementation
Comparing /tmp/7jjx8XBo7K to t/results/reset_hessbug.stdout
Output /tmp/7jjx8XBo7K looks good.
ok 7 - Computing differences
Testing partial mailbox reset with Cache implementation
Comparing /tmp/lBydOT_MN9 to t/results/reset_hessbug.stdout
Output /tmp/lBydOT_MN9 looks good.
ok 8 - Computing differences
Testing partial mailbox reset with Grep implementation
ok 9 # skip GNU grep not available
Testing full mailbox reset with Perl implementation
Comparing /tmp/6vl2mXV8wI to t/results/reset_hessbug.stdout
Output /tmp/6vl2mXV8wI looks good.
ok 10 - Computing differences
Testing full mailbox reset with Cache implementation
Comparing /tmp/jRvm5ba_yv to t/results/reset_hessbug.stdout
Output /tmp/jRvm5ba_yv looks good.
ok 11 - Computing differences
Testing full mailbox reset with Grep implementation
ok 12 # skip GNU grep not available
Testing filename: t/mailboxes/invalid-boundaries.txt
Testing partial mailbox reset with Perl implementation
Comparing /tmp/aURYm9jbkg to t/results/reset_invalid-boundaries.stdout
Output /tmp/aURYm9jbkg looks good.
ok 13 - Computing differences
Testing partial mailbox reset with Cache implementation
Comparing /tmp/7yQcxQ08gt to t/results/reset_invalid-boundaries.stdout
Output /tmp/7yQcxQ08gt looks good.
ok 14 - Computing differences
Testing partial mailbox reset with Grep implementation
ok 15 # skip GNU grep not available
Testing full mailbox reset with Perl implementation
Comparing /tmp/nDVfDRq6V4 to t/results/reset_invalid-boundaries.stdout
Output /tmp/nDVfDRq6V4 looks good.
ok 16 - Computing differences
Testing full mailbox reset with Cache implementation
Comparing /tmp/etSAXgpaaV to t/results/reset_invalid-boundaries.stdout
Output /tmp/etSAXgpaaV looks good.
ok 17 - Computing differences
Testing full mailbox reset with Grep implementation
ok 18 # skip GNU grep not available
Testing filename: t/mailboxes/mailarc-1-dos.txt
Testing partial mailbox reset with Perl implementation
Comparing /tmp/n8w2rjEbjm to t/results/reset_mailarc-1-dos.stdout
Output /tmp/n8w2rjEbjm looks good.
ok 19 - Computing differences
Testing partial mailbox reset with Cache implementation
Comparing /tmp/1dsItiUJOT to t/results/reset_mailarc-1-dos.stdout
Output /tmp/1dsItiUJOT looks good.
ok 20 - Computing differences
Testing partial mailbox reset with Grep implementation
ok 21 # skip GNU grep not available
Testing full mailbox reset with Perl implementation
Comparing /tmp/R6c_6uxswg to t/results/reset_mailarc-1-dos.stdout
Output /tmp/R6c_6uxswg looks good.
ok 22 - Computing differences
Testing full mailbox reset with Cache implementation
Comparing /tmp/e43f8D0sck to t/results/reset_mailarc-1-dos.stdout
Output /tmp/e43f8D0sck looks good.
ok 23 - Computing differences
Testing full mailbox reset with Grep implementation
ok 24 # skip GNU grep not available
Testing filename: t/mailboxes/mailarc-1.txt
Testing partial mailbox reset with Perl implementation
Comparing /tmp/WXAoiF8x8G to t/results/reset_mailarc-1.stdout
Output /tmp/WXAoiF8x8G looks good.
ok 25 - Computing differences
Testing partial mailbox reset with Cache implementation
Comparing /tmp/x5Pss05EPO to t/results/reset_mailarc-1.stdout
Output /tmp/x5Pss05EPO looks good.
ok 26 - Computing differences
Testing partial mailbox reset with Grep implementation
ok 27 # skip GNU grep not available
Testing full mailbox reset with Perl implementation
Comparing /tmp/FBw2g_To32 to t/results/reset_mailarc-1.stdout
Output /tmp/FBw2g_To32 looks good.
ok 28 - Computing differences
Testing full mailbox reset with Cache implementation
Comparing /tmp/F386AnGNTJ to t/results/reset_mailarc-1.stdout
Output /tmp/F386AnGNTJ looks good.
ok 29 - Computing differences
Testing full mailbox reset with Grep implementation
ok 30 # skip GNU grep not available
Testing filename: t/mailboxes/mailarc-2.txt
Testing partial mailbox reset with Perl implementation
Comparing /tmp/rdvQ0lEXf7 to t/results/reset_mailarc-2.stdout
Output /tmp/rdvQ0lEXf7 looks good.
ok 31 - Computing differences
Testing partial mailbox reset with Cache implementation
Comparing /tmp/UPT7jlHG5d to t/results/reset_mailarc-2.stdout
Output /tmp/UPT7jlHG5d looks good.
ok 32 - Computing differences
Testing partial mailbox reset with Grep implementation
ok 33 # skip GNU grep not available
Testing full mailbox reset with Perl implementation
Comparing /tmp/6zIjRTvj3l to t/results/reset_mailarc-2.stdout
Output /tmp/6zIjRTvj3l looks good.
ok 34 - Computing differences
Testing full mailbox reset with Cache implementation
Comparing /tmp/Hy3Vxbi9o6 to t/results/reset_mailarc-2.stdout
Output /tmp/Hy3Vxbi9o6 looks good.
ok 35 - Computing differences
Testing full mailbox reset with Grep implementation
ok 36 # skip GNU grep not available
Testing filename: t/mailboxes/mailarc-3.txt
Testing partial mailbox reset with Perl implementation
Comparing /tmp/esXTQRGDD_ to t/results/reset_mailarc-3.stdout
Output /tmp/esXTQRGDD_ looks good.
ok 37 - Computing differences
Testing partial mailbox reset with Cache implementation
Comparing /tmp/zauza3KWlr to t/results/reset_mailarc-3.stdout
Output /tmp/zauza3KWlr looks good.
ok 38 - Computing differences
Testing partial mailbox reset with Grep implementation
ok 39 # skip GNU grep not available
Testing full mailbox reset with Perl implementation
Comparing /tmp/EjELUJ0ngv to t/results/reset_mailarc-3.stdout
Output /tmp/EjELUJ0ngv looks good.
ok 40 - Computing differences
Testing full mailbox reset with Cache implementation
Comparing /tmp/Ldl_hYtmfP to t/results/reset_mailarc-3.stdout
Output /tmp/Ldl_hYtmfP looks good.
ok 41 - Computing differences
Testing full mailbox reset with Grep implementation
ok 42 # skip GNU grep not available
Testing filename: t/mailboxes/mailseparators.txt
Testing partial mailbox reset with Perl implementation
Comparing /tmp/S5Jezub1cB to t/results/reset_mailseparators.stdout
Output /tmp/S5Jezub1cB looks good.
ok 43 - Computing differences
Testing partial mailbox reset with Cache implementation
Comparing /tmp/MikTYIoMuW to t/results/reset_mailseparators.stdout
Output /tmp/MikTYIoMuW looks good.
ok 44 - Computing differences
Testing partial mailbox reset with Grep implementation
ok 45 # skip GNU grep not available
Testing full mailbox reset with Perl implementation
Comparing /tmp/lrFNGjVjBu to t/results/reset_mailseparators.stdout
Output /tmp/lrFNGjVjBu looks good.
ok 46 - Computing differences
Testing full mailbox reset with Cache implementation
Comparing /tmp/SeFNTtUjhH to t/results/reset_mailseparators.stdout
Output /tmp/SeFNTtUjhH looks good.
ok 47 - Computing differences
Testing full mailbox reset with Grep implementation
ok 48 # skip GNU grep not available
Testing filename: t/mailboxes/malformed.txt
Testing partial mailbox reset with Perl implementation
Comparing /tmp/EWg3olhq4I to t/results/reset_malformed.stdout
Output /tmp/EWg3olhq4I looks good.
ok 49 - Computing differences
Testing partial mailbox reset with Cache implementation
Comparing /tmp/nsnwKqwmZY to t/results/reset_malformed.stdout
Output /tmp/nsnwKqwmZY looks good.
ok 50 - Computing differences
Testing partial mailbox reset with Grep implementation
ok 51 # skip GNU grep not available
Testing full mailbox reset with Perl implementation
Comparing /tmp/i6gqcS1amB to t/results/reset_malformed.stdout
Output /tmp/i6gqcS1amB looks good.
ok 52 - Computing differences
Testing full mailbox reset with Cache implementation
Comparing /tmp/514vGbTdvV to t/results/reset_malformed.stdout
Output /tmp/514vGbTdvV looks good.
ok 53 - Computing differences
Testing full mailbox reset with Grep implementation
ok 54 # skip GNU grep not available
Testing filename: t/mailboxes/newlines_at_beginning.txt
Testing partial mailbox reset with Perl implementation
Comparing /tmp/Xm0r0J7yIS to t/results/reset_newlines_at_beginning.stdout
Output /tmp/Xm0r0J7yIS looks good.
ok 55 - Computing differences
Testing partial mailbox reset with Cache implementation
Comparing /tmp/OILjIjTTPU to t/results/reset_newlines_at_beginning.stdout
Output /tmp/OILjIjTTPU looks good.
ok 56 - Computing differences
Testing partial mailbox reset with Grep implementation
ok 57 # skip GNU grep not available
Testing full mailbox reset with Perl implementation
Comparing /tmp/OqJnScKgdK to t/results/reset_newlines_at_beginning.stdout
Output /tmp/OqJnScKgdK looks good.
ok 58 - Computing differences
Testing full mailbox reset with Cache implementation
Comparing /tmp/T4TN5nGBud to t/results/reset_newlines_at_beginning.stdout
Output /tmp/T4TN5nGBud looks good.
ok 59 - Computing differences
Testing full mailbox reset with Grep implementation
ok 60 # skip GNU grep not available
ok
t/separators.t .................. 
1..6
Testing filename: t/mailboxes/separators2.sep
ok 1 - Number of emails in t/mailboxes/separators2.sep
ok 2 - Number of emails in t/mailboxes/separators2.sep
ok 3 # skip GNU grep not available
Testing filename: t/mailboxes/separators1.sep
ok 4 - Number of emails in t/mailboxes/separators1.sep
ok 5 - Number of emails in t/mailboxes/separators1.sep
ok 6 # skip GNU grep not available
ok
t/stdin_compressed.t ............ 
1..4
Testing filename: t/mailboxes/mailarc-2.txt.bz2
Comparing /tmp/JX496toiKX to t/mailboxes/mailarc-2.txt
Output /tmp/JX496toiKX looks good.
ok 1 - Computing differences
Testing filename: t/mailboxes/mailarc-2.txt.gz
Comparing /tmp/lIFlyW3nqB to t/mailboxes/mailarc-2.txt
Output /tmp/lIFlyW3nqB looks good.
ok 2 - Computing differences
Testing filename: t/mailboxes/mailarc-2.txt.lz
ok 3 # skip lzip not available
Testing filename: t/mailboxes/mailarc-2.txt.xz
Comparing /tmp/WF1MQIWSro to t/mailboxes/mailarc-2.txt
Output /tmp/WF1MQIWSro looks good.
ok 4 - Computing differences
ok
t/stdin_uncompressed.t .......... 
1..11
Testing filename: t/mailboxes/binary_body.txt
Comparing /tmp/nCIMim6iER to t/mailboxes/binary_body.txt
Output /tmp/nCIMim6iER looks good.
ok 1 - Computing differences
Testing filename: t/mailboxes/hessbug.txt
Comparing /tmp/B4Ss395q0t to t/mailboxes/hessbug.txt
Output /tmp/B4Ss395q0t looks good.
ok 2 - Computing differences
Testing filename: t/mailboxes/invalid-boundaries.txt
Comparing /tmp/L6AR2VMlgM to t/mailboxes/invalid-boundaries.txt
Output /tmp/L6AR2VMlgM looks good.
ok 3 - Computing differences
Testing filename: t/mailboxes/mailarc-1-dos.txt
Comparing /tmp/kevwlZsk6f to t/mailboxes/mailarc-1-dos.txt
Output /tmp/kevwlZsk6f looks good.
ok 4 - Computing differences
Testing filename: t/mailboxes/mailarc-1.txt
Comparing /tmp/nyvV316DnM to t/mailboxes/mailarc-1.txt
Output /tmp/nyvV316DnM looks good.
ok 5 - Computing differences
Testing filename: t/mailboxes/mailarc-2.txt
Comparing /tmp/SCZGITU3uj to t/mailboxes/mailarc-2.txt
Output /tmp/SCZGITU3uj looks good.
ok 6 - Computing differences
Testing filename: t/mailboxes/mailarc-3.txt
Comparing /tmp/2je5Z1Ojoh to t/mailboxes/mailarc-3.txt
Output /tmp/2je5Z1Ojoh looks good.
ok 7 - Computing differences
Testing filename: t/mailboxes/mailseparators.txt
Comparing /tmp/a_EHf5vKlx to t/mailboxes/mailseparators.txt
Output /tmp/a_EHf5vKlx looks good.
ok 8 - Computing differences
Testing filename: t/mailboxes/malformed.txt
Comparing /tmp/H30wpv0RrT to t/mailboxes/malformed.txt
Output /tmp/H30wpv0RrT looks good.
ok 9 - Computing differences
Testing filename: t/mailboxes/newlines_at_beginning.txt
Comparing /tmp/UqPl8u4Csh to t/mailboxes/newlines_at_beginning.txt
Output /tmp/UqPl8u4Csh looks good.
ok 10 - Computing differences
Testing filename: t/mailboxes/vm-emacs.txt
Comparing /tmp/6m0PqCM3pt to t/mailboxes/vm-emacs.txt
Output /tmp/6m0PqCM3pt looks good.
ok 11 - Computing differences
ok
t/undef_return_value.t .......... 
1..33
Testing Perl 
Comparing /tmp/WnDSd14TM_ to t/mailboxes/binary_body.txt
Output /tmp/WnDSd14TM_ looks good.
ok 1 - Computing differences
Testing Cache implementation
Comparing /tmp/9Huxbc8GBl to t/mailboxes/binary_body.txt
Output /tmp/9Huxbc8GBl looks good.
ok 2 - Computing differences
ok 3 # skip GNU grep not available
Testing Perl 
Comparing /tmp/7zW7lF2ENF to t/mailboxes/hessbug.txt
Output /tmp/7zW7lF2ENF looks good.
ok 4 - Computing differences
Testing Cache implementation
Comparing /tmp/XMpg4cAx4k to t/mailboxes/hessbug.txt
Output /tmp/XMpg4cAx4k looks good.
ok 5 - Computing differences
ok 6 # skip GNU grep not available
Testing Perl 
Comparing /tmp/Gbh8eiSYg1 to t/mailboxes/invalid-boundaries.txt
Output /tmp/Gbh8eiSYg1 looks good.
ok 7 - Computing differences
Testing Cache implementation
Comparing /tmp/_ZX6U6bwi5 to t/mailboxes/invalid-boundaries.txt
Output /tmp/_ZX6U6bwi5 looks good.
ok 8 - Computing differences
ok 9 # skip GNU grep not available
Testing Perl 
Comparing /tmp/VuLYxDeZRM to t/mailboxes/mailarc-1-dos.txt
Output /tmp/VuLYxDeZRM looks good.
ok 10 - Computing differences
Testing Cache implementation
Comparing /tmp/eWQZRym8pZ to t/mailboxes/mailarc-1-dos.txt
Output /tmp/eWQZRym8pZ looks good.
ok 11 - Computing differences
ok 12 # skip GNU grep not available
Testing Perl 
Comparing /tmp/AtGDGbMZS3 to t/mailboxes/mailarc-1.txt
Output /tmp/AtGDGbMZS3 looks good.
ok 13 - Computing differences
Testing Cache implementation
Comparing /tmp/EXCR7fJeUb to t/mailboxes/mailarc-1.txt
Output /tmp/EXCR7fJeUb looks good.
ok 14 - Computing differences
ok 15 # skip GNU grep not available
Testing Perl 
Comparing /tmp/zCbNwmDmE3 to t/mailboxes/mailarc-2.txt
Output /tmp/zCbNwmDmE3 looks good.
ok 16 - Computing differences
Testing Cache implementation
Comparing /tmp/FuLdYkttQ8 to t/mailboxes/mailarc-2.txt
Output /tmp/FuLdYkttQ8 looks good.
ok 17 - Computing differences
ok 18 # skip GNU grep not available
Testing Perl 
Comparing /tmp/5da1Rdf1Wb to t/mailboxes/mailarc-3.txt
Output /tmp/5da1Rdf1Wb looks good.
ok 19 - Computing differences
Testing Cache implementation
Comparing /tmp/kCynICVo0y to t/mailboxes/mailarc-3.txt
Output /tmp/kCynICVo0y looks good.
ok 20 - Computing differences
ok 21 # skip GNU grep not available
Testing Perl 
Comparing /tmp/RsxJEXsVHB to t/mailboxes/mailseparators.txt
Output /tmp/RsxJEXsVHB looks good.
ok 22 - Computing differences
Testing Cache implementation
Comparing /tmp/zZ09LFaItz to t/mailboxes/mailseparators.txt
Output /tmp/zZ09LFaItz looks good.
ok 23 - Computing differences
ok 24 # skip GNU grep not available
Testing Perl 
Comparing /tmp/mLJ_qBvbqj to t/mailboxes/malformed.txt
Output /tmp/mLJ_qBvbqj looks good.
ok 25 - Computing differences
Testing Cache implementation
Comparing /tmp/FQQzPJr4fx to t/mailboxes/malformed.txt
Output /tmp/FQQzPJr4fx looks good.
ok 26 - Computing differences
ok 27 # skip GNU grep not available
Testing Perl 
Comparing /tmp/a6mHUWjOm1 to t/mailboxes/newlines_at_beginning.txt
Output /tmp/a6mHUWjOm1 looks good.
ok 28 - Computing differences
Testing Cache implementation
Comparing /tmp/V0aFMwyBAT to t/mailboxes/newlines_at_beginning.txt
Output /tmp/V0aFMwyBAT looks good.
ok 29 - Computing differences
ok 30 # skip GNU grep not available
Testing Perl 
Comparing /tmp/MPYkTTkA3a to t/mailboxes/vm-emacs.txt
Output /tmp/MPYkTTkA3a looks good.
ok 31 - Computing differences
Testing Cache implementation
Comparing /tmp/X66n5JbQOW to t/mailboxes/vm-emacs.txt
Output /tmp/X66n5JbQOW looks good.
ok 32 - Computing differences
ok 33 # skip GNU grep not available
ok
t/xz.t .......................... 
1..1
Running test:
  "/bin/cat" "t/mailboxes/mailarc-2.txt.xz" | "/usr/bin/xz" -cd
Comparing /tmp/TM8eBLbKZ1 to t/results/mailarc-2.txt
Output /tmp/TM8eBLbKZ1 looks good.
Comparing /tmp/J_4b16yIyO to t/results/none
Output /tmp/J_4b16yIyO looks good.
ok 1 - Computing differences
ok
All tests successful.
Files=25, Tests=370,  9 wallclock secs ( 0.18 usr  0.03 sys +  4.85 cusr  2.26 csys =  7.32 CPU)
Result: PASS


PREREQUISITES:

Here is a list of prerequisites you specified and versions we
managed to load:

	  Module Name                        Have     Want
	  ExtUtils::MakeMaker                7.34     6.36
	  File::Path                         2.15     2.08
	  File::Slurper                     0.012        0
	  FileHandle::Unget                0.1634        0
	  Storable                           3.11        0
	  Test::Compile                    v1.3.0        0
	  Test::More                     1.302136        0
	  Text::Diff                         1.45        0
	  UNIVERSAL::require                 0.18        0
	  URI::Escape                        3.31        0

Perl module toolchain versions installed:
	Module Name                        Have
	CPANPLUS                         0.9174
	CPANPLUS::Dist::Build              0.88
	Cwd                                3.74
	ExtUtils::CBuilder             0.280230
	ExtUtils::Command                  7.34
	ExtUtils::Install                  2.14
	ExtUtils::MakeMaker                7.34
	ExtUtils::Manifest                 1.71
	ExtUtils::ParseXS                  3.35
	File::Spec                         3.74
	Module::Build                    0.4224
	Pod::Parser                        1.37
	Pod::Simple                        3.16
	Test2                          1.302136
	Test::Harness                      3.42
	Test::More                     1.302136
	version                          0.9924

******************************** NOTE ********************************
The comments above are created mechanically, possibly without manual
checking by the sender.  As there are many people performing automatic
tests on each upload to CPAN, it is likely that you will receive
identical messages about the same problem.

If you believe that the message is mistaken, please reply to the first
one with correction and/or additional informations, and do not take
it personally.  We appreciate your patience. :)
**********************************************************************

Additional comments:


This report was machine-generated by CPANPLUS::Dist::YACSmoke 1.02.
Powered by minismokebox version 0.68

------------------------------
ENVIRONMENT AND OTHER CONTEXT
------------------------------

Environment variables:

    AUTOMATED_TESTING = 1
    NONINTERACTIVE_TESTING = 1
    PATH = /home/cpan/bin:/bin:/sbin:/usr/bin:/usr/sbin:/usr/X11R7/bin:/usr/X11R6/bin:/usr/pkg/bin:/usr/pkg/sbin:/usr/games:/usr/local/bin:/usr/local/sbin
    PERL5LIB = :/home/cpan/pit/thr/conf/perl-5.14.1/.cpanplus/5.14.1/build/3oEvyEDqG8/File-Slurp-9999.19/blib/lib:/home/cpan/pit/thr/conf/perl-5.14.1/.cpanplus/5.14.1/build/3oEvyEDqG8/File-Slurp-9999.19/blib/arch:/home/cpan/pit/thr/conf/perl-5.14.1/.cpanplus/5.14.1/build/I0IVbi6k7Q/Test-Needs-0.002005/blib/lib:/home/cpan/pit/thr/conf/perl-5.14.1/.cpanplus/5.14.1/build/I0IVbi6k7Q/Test-Needs-0.002005/blib/arch:/home/cpan/pit/thr/conf/perl-5.14.1/.cpanplus/5.14.1/build/amAR50iaNz/URI-1.74/blib/lib:/home/cpan/pit/thr/conf/perl-5.14.1/.cpanplus/5.14.1/build/amAR50iaNz/URI-1.74/blib/arch:/home/cpan/pit/thr/conf/perl-5.14.1/.cpanplus/5.14.1/build/DWftTCt5LM/TimeDate-2.30/blib/lib:/home/cpan/pit/thr/conf/perl-5.14.1/.cpanplus/5.14.1/build/DWftTCt5LM/TimeDate-2.30/blib/arch:/home/cpan/pit/thr/conf/perl-5.14.1/.cpanplus/5.14.1/build/GWB_lSf9Mx/Test-Warnings-0.026/blib/lib:/home/cpan/pit/thr/conf/perl-5.14.1/.cpanplus/5.14.1/build/GWB_lSf9Mx/Test-Warnings-0.026/blib/arch:/home/cpan/pit/thr/conf/perl-5.14.1/.cpanplus/5.14.1/build/9rh_aX7COn/File-Slurper-0.012/blib/lib:/home/cpan/pit/thr/conf/perl-5.14.1/.cpanplus/5.14.1/build/9rh_aX7COn/File-Slurper-0.012/blib/arch:/home/cpan/pit/thr/conf/perl-5.14.1/.cpanplus/5.14.1/build/EolDsfv7EI/UNIVERSAL-require-0.18/blib/lib:/home/cpan/pit/thr/conf/perl-5.14.1/.cpanplus/5.14.1/build/EolDsfv7EI/UNIVERSAL-require-0.18/blib/arch:/home/cpan/pit/thr/conf/perl-5.14.1/.cpanplus/5.14.1/build/CsuKJcB8L8/Test-Compile-v1.3.0/blib/lib:/home/cpan/pit/thr/conf/perl-5.14.1/.cpanplus/5.14.1/build/CsuKJcB8L8/Test-Compile-v1.3.0/blib/arch:/home/cpan/pit/thr/conf/perl-5.14.1/.cpanplus/5.14.1/build/N_JnfCyWEC/FileHandle-Unget-0.1634/blib/lib:/home/cpan/pit/thr/conf/perl-5.14.1/.cpanplus/5.14.1/build/N_JnfCyWEC/FileHandle-Unget-0.1634/blib/arch:/home/cpan/pit/thr/conf/perl-5.14.1/.cpanplus/5.14.1/build/fL3ffrPbsS/Algorithm-Diff-1.1903/blib/lib:/home/cpan/pit/thr/conf/perl-5.14.1/.cpanplus/5.14.1/build/fL3ffrPbsS/Algorithm-Diff-1.1903/blib/arch:/home/cpan/pit/thr/conf/perl-5.14.1/.cpanplus/5.14.1/build/ctMpiDQkLg/Text-Diff-1.45/blib/lib:/home/cpan/pit/thr/conf/perl-5.14.1/.cpanplus/5.14.1/build/ctMpiDQkLg/Text-Diff-1.45/blib/arch:/home/cpan/pit/thr/conf/perl-5.14.1/.cpanplus/5.14.1/build/bG1XOH7ehu/Mail-Mbox-MessageParser-1.5111/blib/lib:/home/cpan/pit/thr/conf/perl-5.14.1/.cpanplus/5.14.1/build/bG1XOH7ehu/Mail-Mbox-MessageParser-1.5111/blib/arch
    PERL5_CPANPLUS_IS_RUNNING = 17260
    PERL5_CPANPLUS_IS_VERSION = 0.9174
    PERL5_MINISMOKEBOX = 0.68
    PERL5_YACSMOKE_BASE = /home/cpan/pit/thr/conf/perl-5.14.1
    PERL_EXTUTILS_AUTOINSTALL = --defaultdeps
    PERL_MM_USE_DEFAULT = 1
    PERL_USE_UNSAFE_INC = 1
    SHELL = /usr/pkg/bin/bash
    TERM = screen

Perl special variables (and OS-specific diagnostics, for MSWin32):

    Perl: $^X = /home/cpan/pit/thr/perl-5.14.1/bin/perl
    UID:  $<  = 1002
    EUID: $>  = 1002
    GID:  $(  = 100 100
    EGID: $)  = 100 100


-------------------------------


--

Summary of my perl5 (revision 5 version 14 subversion 1) configuration:
   
  Platform:
    osname=netbsd, osvers=6.1.4, archname=amd64-netbsd-thread-multi
    uname='netbsd naboo.bingosnet.co.uk 6.1.4 netbsd 6.1.4 (generic) amd64 '
    config_args='-des -Dprefix=/home/cpan/pit/thr/perl-5.14.1 -Dusethreads'
    hint=recommended, useposix=true, d_sigaction=define
    useithreads=define, usemultiplicity=define
    useperlio=define, d_sfio=undef, uselargefiles=define, usesocks=undef
    use64bitint=define, use64bitall=define, uselongdouble=undef
    usemymalloc=n, bincompat5005=undef
  Compiler:
    cc='cc', ccflags ='-fno-strict-aliasing -pipe -fstack-protector -I/usr/pkg/include',
    optimize='-O',
    cppflags='-fno-strict-aliasing -pipe -fstack-protector -I/usr/pkg/include'
    ccversion='', gccversion='4.5.3', gccosandvers=''
    intsize=4, longsize=8, ptrsize=8, doublesize=8, byteorder=12345678
    d_longlong=define, longlongsize=8, d_longdbl=define, longdblsize=16
    ivtype='long', ivsize=8, nvtype='double', nvsize=8, Off_t='off_t', lseeksize=8
    alignbytes=8, prototype=define
  Linker and Libraries:
    ld='cc', ldflags =' -Wl,-rpath,/usr/pkg/lib -Wl,-rpath,/usr/local/lib -fstack-protector -L/usr/pkg/lib'
    libpth=/usr/pkg/lib /lib /usr/lib
    libs=-lgdbm -lm -lcrypt -lutil -lc -lposix -lpthread
    perllibs=-lm -lcrypt -lutil -lc -lposix -lpthread
    libc=/lib/libc.so, so=so, useshrplib=false, libperl=libperl.a
    gnulibc_version=''
  Dynamic Linking:
    dlsrc=dl_dlopen.xs, dlext=so, d_dlsymun=undef, ccdlflags='-Wl,-E '
    cccdlflags='-DPIC -fPIC ', lddlflags='--whole-archive -shared  -L/usr/pkg/lib -fstack-protector'


Characteristics of this binary (from libperl): 
  Compile-time options: MULTIPLICITY PERL_DONT_CREATE_GVSV
                        PERL_IMPLICIT_CONTEXT PERL_MALLOC_WRAP
                        PERL_PRESERVE_IVUV USE_64_BIT_ALL USE_64_BIT_INT
                        USE_ITHREADS USE_LARGE_FILES USE_PERLIO USE_PERL_ATOF
                        USE_REENTRANT_API
  Built under netbsd
  Compiled at May  9 2014 20:13:43
  %ENV:
    PERL5LIB=":/home/cpan/pit/thr/conf/perl-5.14.1/.cpanplus/5.14.1/build/3oEvyEDqG8/File-Slurp-9999.19/blib/lib:/home/cpan/pit/thr/conf/perl-5.14.1/.cpanplus/5.14.1/build/3oEvyEDqG8/File-Slurp-9999.19/blib/arch:/home/cpan/pit/thr/conf/perl-5.14.1/.cpanplus/5.14.1/build/I0IVbi6k7Q/Test-Needs-0.002005/blib/lib:/home/cpan/pit/thr/conf/perl-5.14.1/.cpanplus/5.14.1/build/I0IVbi6k7Q/Test-Needs-0.002005/blib/arch:/home/cpan/pit/thr/conf/perl-5.14.1/.cpanplus/5.14.1/build/amAR50iaNz/URI-1.74/blib/lib:/home/cpan/pit/thr/conf/perl-5.14.1/.cpanplus/5.14.1/build/amAR50iaNz/URI-1.74/blib/arch:/home/cpan/pit/thr/conf/perl-5.14.1/.cpanplus/5.14.1/build/DWftTCt5LM/TimeDate-2.30/blib/lib:/home/cpan/pit/thr/conf/perl-5.14.1/.cpanplus/5.14.1/build/DWftTCt5LM/TimeDate-2.30/blib/arch:/home/cpan/pit/thr/conf/perl-5.14.1/.cpanplus/5.14.1/build/GWB_lSf9Mx/Test-Warnings-0.026/blib/lib:/home/cpan/pit/thr/conf/perl-5.14.1/.cpanplus/5.14.1/build/GWB_lSf9Mx/Test-Warnings-0.026/blib/arch:/home/cpan/pit/thr/conf/perl-5.14.1/.cpanplus/5.14.1/build/9rh_aX7COn/File-Slurper-0.012/blib/lib:/home/cpan/pit/thr/conf/perl-5.14.1/.cpanplus/5.14.1/build/9rh_aX7COn/File-Slurper-0.012/blib/arch:/home/cpan/pit/thr/conf/perl-5.14.1/.cpanplus/5.14.1/build/EolDsfv7EI/UNIVERSAL-require-0.18/blib/lib:/home/cpan/pit/thr/conf/perl-5.14.1/.cpanplus/5.14.1/build/EolDsfv7EI/UNIVERSAL-require-0.18/blib/arch:/home/cpan/pit/thr/conf/perl-5.14.1/.cpanplus/5.14.1/build/CsuKJcB8L8/Test-Compile-v1.3.0/blib/lib:/home/cpan/pit/thr/conf/perl-5.14.1/.cpanplus/5.14.1/build/CsuKJcB8L8/Test-Compile-v1.3.0/blib/arch:/home/cpan/pit/thr/conf/perl-5.14.1/.cpanplus/5.14.1/build/N_JnfCyWEC/FileHandle-Unget-0.1634/blib/lib:/home/cpan/pit/thr/conf/perl-5.14.1/.cpanplus/5.14.1/build/N_JnfCyWEC/FileHandle-Unget-0.1634/blib/arch:/home/cpan/pit/thr/conf/perl-5.14.1/.cpanplus/5.14.1/build/fL3ffrPbsS/Algorithm-Diff-1.1903/blib/lib:/home/cpan/pit/thr/conf/perl-5.14.1/.cpanplus/5.14.1/build/fL3ffrPbsS/Algorithm-Diff-1.1903/blib/arch:/home/cpan/pit/thr/conf/perl-5.14.1/.cpanplus/5.14.1/build/ctMpiDQkLg/Text-Diff-1.45/blib/lib:/home/cpan/pit/thr/conf/perl-5.14.1/.cpanplus/5.14.1/build/ctMpiDQkLg/Text-Diff-1.45/blib/arch:/home/cpan/pit/thr/conf/perl-5.14.1/.cpanplus/5.14.1/build/bG1XOH7ehu/Mail-Mbox-MessageParser-1.5111/blib/lib:/home/cpan/pit/thr/conf/perl-5.14.1/.cpanplus/5.14.1/build/bG1XOH7ehu/Mail-Mbox-MessageParser-1.5111/blib/arch"
    PERL5_CPANPLUS_IS_RUNNING="17260"
    PERL5_CPANPLUS_IS_VERSION="0.9174"
    PERL5_MINISMOKEBOX="0.68"
    PERL5_YACSMOKE_BASE="/home/cpan/pit/thr/conf/perl-5.14.1"
    PERL_EXTUTILS_AUTOINSTALL="--defaultdeps"
    PERL_MM_USE_DEFAULT="1"
    PERL_USE_UNSAFE_INC="1"
  @INC:
    /home/cpan/pit/thr/conf/perl-5.14.1/.cpanplus/5.14.1/build/3oEvyEDqG8/File-Slurp-9999.19/blib/lib
    /home/cpan/pit/thr/conf/perl-5.14.1/.cpanplus/5.14.1/build/3oEvyEDqG8/File-Slurp-9999.19/blib/arch
    /home/cpan/pit/thr/conf/perl-5.14.1/.cpanplus/5.14.1/build/I0IVbi6k7Q/Test-Needs-0.002005/blib/lib
    /home/cpan/pit/thr/conf/perl-5.14.1/.cpanplus/5.14.1/build/I0IVbi6k7Q/Test-Needs-0.002005/blib/arch
    /home/cpan/pit/thr/conf/perl-5.14.1/.cpanplus/5.14.1/build/amAR50iaNz/URI-1.74/blib/lib
    /home/cpan/pit/thr/conf/perl-5.14.1/.cpanplus/5.14.1/build/amAR50iaNz/URI-1.74/blib/arch
    /home/cpan/pit/thr/conf/perl-5.14.1/.cpanplus/5.14.1/build/DWftTCt5LM/TimeDate-2.30/blib/lib
    /home/cpan/pit/thr/conf/perl-5.14.1/.cpanplus/5.14.1/build/DWftTCt5LM/TimeDate-2.30/blib/arch
    /home/cpan/pit/thr/conf/perl-5.14.1/.cpanplus/5.14.1/build/GWB_lSf9Mx/Test-Warnings-0.026/blib/lib
    /home/cpan/pit/thr/conf/perl-5.14.1/.cpanplus/5.14.1/build/GWB_lSf9Mx/Test-Warnings-0.026/blib/arch
    /home/cpan/pit/thr/conf/perl-5.14.1/.cpanplus/5.14.1/build/9rh_aX7COn/File-Slurper-0.012/blib/lib
    /home/cpan/pit/thr/conf/perl-5.14.1/.cpanplus/5.14.1/build/9rh_aX7COn/File-Slurper-0.012/blib/arch
    /home/cpan/pit/thr/conf/perl-5.14.1/.cpanplus/5.14.1/build/EolDsfv7EI/UNIVERSAL-require-0.18/blib/lib
    /home/cpan/pit/thr/conf/perl-5.14.1/.cpanplus/5.14.1/build/EolDsfv7EI/UNIVERSAL-require-0.18/blib/arch
    /home/cpan/pit/thr/conf/perl-5.14.1/.cpanplus/5.14.1/build/CsuKJcB8L8/Test-Compile-v1.3.0/blib/lib
    /home/cpan/pit/thr/conf/perl-5.14.1/.cpanplus/5.14.1/build/CsuKJcB8L8/Test-Compile-v1.3.0/blib/arch
    /home/cpan/pit/thr/conf/perl-5.14.1/.cpanplus/5.14.1/build/N_JnfCyWEC/FileHandle-Unget-0.1634/blib/lib
    /home/cpan/pit/thr/conf/perl-5.14.1/.cpanplus/5.14.1/build/N_JnfCyWEC/FileHandle-Unget-0.1634/blib/arch
    /home/cpan/pit/thr/conf/perl-5.14.1/.cpanplus/5.14.1/build/fL3ffrPbsS/Algorithm-Diff-1.1903/blib/lib
    /home/cpan/pit/thr/conf/perl-5.14.1/.cpanplus/5.14.1/build/fL3ffrPbsS/Algorithm-Diff-1.1903/blib/arch
    /home/cpan/pit/thr/conf/perl-5.14.1/.cpanplus/5.14.1/build/ctMpiDQkLg/Text-Diff-1.45/blib/lib
    /home/cpan/pit/thr/conf/perl-5.14.1/.cpanplus/5.14.1/build/ctMpiDQkLg/Text-Diff-1.45/blib/arch
    /home/cpan/pit/thr/conf/perl-5.14.1/.cpanplus/5.14.1/build/bG1XOH7ehu/Mail-Mbox-MessageParser-1.5111/blib/lib
    /home/cpan/pit/thr/conf/perl-5.14.1/.cpanplus/5.14.1/build/bG1XOH7ehu/Mail-Mbox-MessageParser-1.5111/blib/arch
    /home/cpan/pit/thr/perl-5.14.1/lib/site_perl/5.14.1/amd64-netbsd-thread-multi
    /home/cpan/pit/thr/perl-5.14.1/lib/site_perl/5.14.1
    /home/cpan/pit/thr/perl-5.14.1/lib/5.14.1/amd64-netbsd-thread-multi
    /home/cpan/pit/thr/perl-5.14.1/lib/5.14.1
    .