XS-Install v1.4.0 Perl 5 v5.14.0 x86_64-linux-ld
- Status
- Pass
- From
- Andreas J. König (ANDK)
- Dist
-
XS-Install v1.4.0
- Platform
- Perl 5 v5.14.0 x86_64-linux-ld
- Date
- 2025-03-26 22:05:45
- ID
- 775831f6-0a8e-11f0-b3b9-d79f859dc552
This distribution has been tested as part of the CPAN Testers
project, supporting the Perl programming language. See
http://wiki.cpantesters.org/ for more information or email
questions to cpan-testers-discuss@perl.org
--
Dear Oleg Pronin,
This is a computer-generated report for XS-Install-1.4.0
on perl 5.14.0, created by CPAN-Reporter-1.2020.
Thank you for uploading your work to CPAN. Congratulations!
All tests were successful.
Sections of this report:
* Tester comments
* Program output
* Prerequisites
* Environment and other context
------------------------------
TESTER COMMENTS
------------------------------
Additional comments from tester:
this report is from an automated smoke testing program
and was not reviewed by a human for accuracy
------------------------------
PROGRAM OUTPUT
------------------------------
Output from '/usr/bin/make test':
PERL_DL_NONLAZY=1 "/home/sand/src/perl/repoperls/installed-perls/host/k93msid/v5.14.0/af11/bin/perl" "-MExtUtils::Command::MM" "-MTest::Harness" "-e" "undef *Test::Harness::Switches; test_harness(0, 'blib/lib', 'blib/arch')" t/*.t t/*/*.t
t/all_from.t ............. ok
t/bin_share.t ............ ok
t/c.t .................... ok
t/configure_requires.t ... ok
t/cplus.t ................ skipped: set TEST_FULL=1 to enable this test
t/dependent.t ............ ok
t/nonxs/nonxs.t .......... ok
t/parsexs/parsexs.t ...... skipped: default typemap not found
t/payload.t .............. ok
t/pkgconfig/pkgconfig.t .. ok
t/src.t .................. ok
t/xs.t ................... ok
All tests successful.
Files=12, Tests=42, 6 wallclock secs ( 0.03 usr 0.05 sys + 1.64 cusr 0.42 csys = 2.14 CPU)
Result: PASS
------------------------------
PREREQUISITES
------------------------------
Prerequisite modules loaded:
requires:
Module Need Have
------------------- -------- --------
Exporter 5.58 5.78
ExtUtils::MakeMaker 7.12 7.72
ExtUtils::ParseXS 3.24 3.44
perl 5.010000 5.014000
PkgConfig 0.24 0.25026
build_requires:
Module Need Have
------------------- -------- --------
Test::Deep 0 1.204
Test::More 0 1.302204
Test::Simple 0.96 1.302204
------------------------------
ENVIRONMENT AND OTHER CONTEXT
------------------------------
Environment variables:
AUTOMATED_TESTING = 1
LANG = en_US.UTF-8
LANGUAGE = en_US:en
PATH = /home/sand/bin:/usr/local/bin:/usr/bin:/bin:/usr/games:/usr/local/perl/bin:/usr/X11/bin:/sbin:/usr/sbin
PERL5LIB =
PERL5OPT =
PERL5_CPANPLUS_IS_RUNNING = 2876736
PERL5_CPAN_IS_RUNNING = 2876736
PERL_CANARY_STABILITY_NOPROMPT = 1
PERL_MM_USE_DEFAULT = 1
PERL_USE_UNSAFE_INC = 1
SHELL = /usr/bin/zsh
TERM = screen
Perl special variables (and OS-specific diagnostics, for MSWin32):
$^X = /home/sand/src/perl/repoperls/installed-perls/host/k93msid/v5.14.0/af11/bin/perl
$UID/$EUID = 1005 / 1005
$GID = 1005 1005
$EGID = 1005 1005
Perl module toolchain versions installed:
Module Have
------------------- --------
CPAN 2.38
CPAN::Meta 2.150010
Cwd 3.75
ExtUtils::CBuilder 0.280236
ExtUtils::Command 7.72
ExtUtils::Install 2.22
ExtUtils::MakeMaker 7.72
ExtUtils::Manifest 1.70
ExtUtils::ParseXS 3.44
File::Spec 3.75
JSON 4.10
JSON::PP 4.16
Module::Build 0.4234
Module::Signature 0.89
Parse::CPAN::Meta 2.150010
Test2 1.302204
Test::Harness 3.50
Test::More 1.302204
YAML 1.30
YAML::Syck 1.34
version 0.9929
--
Summary of my perl5 (revision 5 version 14 subversion 0) configuration:
Derived from: a35ef416833511da752c4b5b836b7a8915712aab
Platform:
osname=linux, osvers=5.19.0-2-amd64, archname=x86_64-linux-ld
uname='linux k93msid 5.19.0-2-amd64 #1 smp preempt_dynamic debian 5.19.11-1 (2022-09-24) x86_64 gnulinux '
config_args='-Dprefix=/home/sand/src/perl/repoperls/installed-perls/host/k93msid/v5.14.0/af11 -Dmyhostname=k93msid -Dinstallusrbinperl=n -Uversiononly -Dusedevel -des -Ui_db -Dlibswanted=cl pthread socket inet nsl gdbm dbm malloc dl ld sun m crypt sec util c cposix posix ucb BSD gdbm_compat -Uuseithreads -Duselongdouble -DEBUGGING=-g'
hint=recommended, useposix=true, d_sigaction=define
useithreads=undef, usemultiplicity=undef
useperlio=define, d_sfio=undef, uselargefiles=define, usesocks=undef
use64bitint=define, use64bitall=define, uselongdouble=define
usemymalloc=n, bincompat5005=undef
Compiler:
cc='cc', ccflags ='-fwrapv -fno-strict-aliasing -pipe -fstack-protector -I/usr/local/include -D_LARGEFILE_SOURCE -D_FILE_OFFSET_BITS=64',
optimize='-O2 -g',
cppflags='-fwrapv -fno-strict-aliasing -pipe -fstack-protector -I/usr/local/include'
ccversion='', gccversion='12.2.0', gccosandvers=''
intsize=4, longsize=8, ptrsize=8, doublesize=8, byteorder=12345678
d_longlong=define, longlongsize=8, d_longdbl=define, longdblsize=16
ivtype='long', ivsize=8, nvtype='long double', nvsize=16, Off_t='off_t', lseeksize=8
alignbytes=16, prototype=define
Linker and Libraries:
ld='cc', ldflags =' -fstack-protector -L/usr/local/lib'
libpth=/usr/local/lib /lib/x86_64-linux-gnu /lib/../lib /usr/lib/x86_64-linux-gnu /usr/lib/../lib /lib /usr/lib /lib64 /usr/lib64
libs=-lpthread -lnsl -ldl -lm -lcrypt -lutil -lc
perllibs=-lpthread -lnsl -ldl -lm -lcrypt -lutil -lc
libc=/lib/x86_64-linux-gnu/libc.so.6, so=so, useshrplib=false, libperl=libperl.a
gnulibc_version='2.35'
Dynamic Linking:
dlsrc=dl_dlopen.xs, dlext=so, d_dlsymun=undef, ccdlflags='-Wl,-E'
cccdlflags='-fPIC', lddlflags='-shared -O2 -g -L/usr/local/lib -fstack-protector'
Characteristics of this binary (from libperl):
Compile-time options: PERL_DONT_CREATE_GVSV PERL_MALLOC_WRAP
PERL_PRESERVE_IVUV PERL_USE_DEVEL USE_64_BIT_ALL
USE_64_BIT_INT USE_LARGE_FILES USE_LONG_DOUBLE
USE_PERLIO USE_PERL_ATOF
Locally applied patches:
uncommitted-changes
Built under linux
Compiled at Dec 4 2022 10:06:06
%ENV:
PERL5LIB=""
PERL5OPT=""
PERL5_CPANPLUS_IS_RUNNING="2876736"
PERL5_CPAN_IS_RUNNING="2876736"
PERL_CANARY_STABILITY_NOPROMPT="1"
PERL_MM_USE_DEFAULT="1"
PERL_USE_UNSAFE_INC="1"
@INC:
/home/sand/src/perl/repoperls/installed-perls/host/k93msid/v5.14.0/af11/lib/site_perl/5.14.0/x86_64-linux-ld
/home/sand/src/perl/repoperls/installed-perls/host/k93msid/v5.14.0/af11/lib/site_perl/5.14.0
/home/sand/src/perl/repoperls/installed-perls/host/k93msid/v5.14.0/af11/lib/5.14.0/x86_64-linux-ld
/home/sand/src/perl/repoperls/installed-perls/host/k93msid/v5.14.0/af11/lib/5.14.0
.