Back
From: metabase:user:9820532a-708b-1014-9a05-b18a96298da1
Subject: PASS Test-Pod-LinkCheck-0.007 v5.10.1 FreeBSD
Date: 2011-11-16T17:14:39Z
This distribution has been tested as part of the CPAN Testers
project, supporting the Perl programming language. See
http://wiki.cpantesters.org/ for more information or email
questions to cpan-testers-discuss@perl.org
--
Dear Apocalypse,
This is a computer-generated report for Test-Pod-LinkCheck-0.007
on perl 5.10.1, created by CPAN-Reporter-1.2002.
Thank you for uploading your work to CPAN. Congratulations!
All tests were successful.
Sections of this report:
* Tester comments
* Program output
* Prerequisites
* Environment and other context
------------------------------
TESTER COMMENTS
------------------------------
Additional comments from tester:
this report is from an automated smoke testing program
and was not reviewed by a human for accuracy
------------------------------
PROGRAM OUTPUT
------------------------------
Output from './Build test':
t/00-compile.t ................ ok
#
You should load Test::Tester before Test::Builder (or anything that loads Test::Builder) at /home/test/perl5/perlbrew/perls/perl-5.10.1-th/lib/5.10.1/Test/Tester.pm line 9.
#
# Generated by Dist::Zilla::Plugin::ReportVersions::Tiny v1.03
# perl: v5.10.1 (wanted 5.006) on freebsd from /home/test/perl5/perlbrew/perls/perl-5.10.1-th/bin/perl
#
# App::PodLinkCheck::ParseLinks => 8 (want 4)
# App::PodLinkCheck::ParseSections => 8 (want any version)
# Capture::Tiny => 0.11 (want any version)
# Config => <undef> (want any version)
# Exporter => 5.65 (want any version)
# File::Find => 1.14 (want any version)
# File::Spec => 3.33 (want any version)
# File::Temp => 0.22 (want any version)
# Module::Build => 0.3901 (want 0.3601)
# Moose => 2.0400 (want 1.01)
# Moose::Util::TypeConstraints => 2.0400 (want 1.01)
# Pod::Find => 1.35 (want any version)
# Test::Builder => 0.9801 (want 0.94)
# Test::More => 0.9801 (want 0.88)
# Test::Pod => 1.45 (want 1.44)
# Test::Tester => 0.107 (want any version)
# parent => 0.225 (want any version)
#
# Thanks for using my code. I hope it works for you.
# If not, please try and include this output in the bug report.
# That will help me reproduce the issue and solve your problem.
#
t/000-report-versions-tiny.t .. ok
t/apocalypse.t ................ skipped: Test::Apocalypse required for validating the distribution
t/cpan_backend.t .............. ok
t/functions.t ................. ok
t/simple.t .................... ok
All tests successful.
Test Summary Report
-------------------
t/cpan_backend.t (Wstat: 0 Tests: 12 Failed: 0)
TODO passed: 1-4, 9-12
Files=6, Tests=118, 14 wallclock secs ( 0.10 usr 0.36 sys + 8.59 cusr 3.12 csys = 12.18 CPU)
Result: PASS
------------------------------
PREREQUISITES
------------------------------
Prerequisite modules loaded:
requires:
Module Need Have
-------------------------------- ------ --------
App::PodLinkCheck::ParseLinks 4 8
App::PodLinkCheck::ParseSections 0 8
Capture::Tiny 0 0.11
Config 0 0
Exporter 0 5.65
File::Spec 0 3.33
Moose 1.01 2.0400
! Moose::Util::TypeConstraints 1.01 broken
parent 0 0.225
perl 5.006 5.010001
Pod::Find 0 1.35
Test::Builder 0.94 0.98_01
Test::Pod 1.44 1.45
build_requires:
Module Need Have
-------------------------------- ------ --------
File::Find 0 1.14
File::Temp 0 0.22
Module::Build 0.3601 0.39_01
Test::More 0.88 0.98_01
Test::Tester 0 0.107
configure_requires:
Module Need Have
-------------------------------- ------ --------
Module::Build 0.3601 0.39_01
------------------------------
ENVIRONMENT AND OTHER CONTEXT
------------------------------
Environment variables:
AUTOMATED_TESTING = 1
LANG = C
LC_ALL = C
PATH = /home/test/perl5/perlbrew/bin:/home/test/perl5/perlbrew/perls/perl-5.10.1-th/bin:~/bin:/sbin:/bin:/usr/sbin:/usr/bin:/usr/games:/usr/local/sbin:/usr/local/bin:/home/test/bin
PATH_WITHOUT_PERLBREW = ~/bin:/sbin:/bin:/usr/sbin:/usr/bin:/usr/games:/usr/local/sbin:/usr/local/bin:/home/test/bin
PERL5LIB =
PERL5OPT =
PERL5_CPANPLUS_IS_RUNNING = 38508
PERL5_CPAN_IS_RUNNING = 38508
PERL5_CPAN_IS_RUNNING_IN_RECURSION = 1056,38508
PERLBREW_BASHRC_VERSION = 0.33
PERLBREW_HOME = /home/test/.perlbrew
PERLBREW_PATH = /home/test/perl5/perlbrew/bin:/home/test/perl5/perlbrew/perls/perl-5.10.1-th/bin
PERLBREW_PERL = perl-5.10.1-th
PERLBREW_ROOT = /home/test/perl5/perlbrew
PERLBREW_VERSION = 0.33
PERL_CPANM_OPT = --prompt --mirror http://172.16.1.3/cpan/
PERL_CR_SMOKER_CURRENT = Dist-Zilla-Plugin-Test-Pod-LinkCheck-1.001
PERL_EXTUTILS_AUTOINSTALL = --defaultdeps
PERL_MM_USE_DEFAULT = 1
SHELL = /usr/local/bin/bash
TERM = linux
Perl special variables (and OS-specific diagnostics, for MSWin32):
$^X = /home/test/perl5/perlbrew/perls/perl-5.10.1-th/bin/perl
$UID/$EUID = 1002 / 1002
$GID = 1002 1002
$EGID = 1002 1002
Perl module toolchain versions installed:
Module Have
------------------- --------
CPAN 1.9800
CPAN::Meta 2.112621
Cwd 3.33
ExtUtils::CBuilder 0.280202
ExtUtils::Command 1.17
ExtUtils::Install 1.54
ExtUtils::MakeMaker 6.63_02
ExtUtils::Manifest 1.60
ExtUtils::ParseXS 3.05
File::Spec 3.33
JSON 2.53
JSON::PP 2.27200
Module::Build 0.39_01
Module::Signature n/a
Parse::CPAN::Meta 1.4401
Test::Harness 3.23
Test::More 0.98_01
YAML 0.77
YAML::Syck 1.19
version 0.95
--
Summary of my perl5 (revision 5 version 10 subversion 1) configuration:
Platform:
osname=freebsd, osvers=8.1-release, archname=amd64-freebsd-thread-multi
uname='freebsd fbsd.local 8.1-release freebsd 8.1-release #0: mon jul 19 02:36:49 utc 2010 root@mason.cse.buffalo.edu:usrobjusrsrcsysgeneric amd64 '
config_args='-de -Dprefix=/home/test/perl5/perlbrew/perls/perl-5.10.1-th -Dusethreads'
hint=recommended, useposix=true, d_sigaction=define
useithreads=define, usemultiplicity=define
useperlio=define, d_sfio=undef, uselargefiles=define, usesocks=undef
use64bitint=define, use64bitall=define, uselongdouble=undef
usemymalloc=n, bincompat5005=undef
Compiler:
cc='cc', ccflags ='-DHAS_FPSETMASK -DHAS_FLOATINGPOINT_H -fno-strict-aliasing -pipe -fstack-protector -I/usr/local/include',
optimize='-O',
cppflags='-DHAS_FPSETMASK -DHAS_FLOATINGPOINT_H -fno-strict-aliasing -pipe -fstack-protector -I/usr/local/include'
ccversion='', gccversion='4.2.1 20070719 [FreeBSD]', gccosandvers=''
intsize=4, longsize=8, ptrsize=8, doublesize=8, byteorder=12345678
d_longlong=define, longlongsize=8, d_longdbl=define, longdblsize=16
ivtype='long', ivsize=8, nvtype='double', nvsize=8, Off_t='off_t', lseeksize=8
alignbytes=8, prototype=define
Linker and Libraries:
ld='cc', ldflags ='-pthread -Wl,-E -fstack-protector -L/usr/local/lib'
libpth=/usr/lib /usr/local/lib
libs=-lm -lcrypt
perllibs=-lm -lcrypt
libc=, so=so, useshrplib=false, libperl=libperl.a
gnulibc_version=''
Dynamic Linking:
dlsrc=dl_dlopen.xs, dlext=so, d_dlsymun=undef, ccdlflags=' '
cccdlflags='-DPIC -fPIC', lddlflags='-shared -L/usr/local/lib -fstack-protector'
Characteristics of this binary (from libperl):
Compile-time options: MULTIPLICITY PERL_DONT_CREATE_GVSV
PERL_IMPLICIT_CONTEXT PERL_MALLOC_WRAP USE_64_BIT_ALL
USE_64_BIT_INT USE_ITHREADS USE_LARGE_FILES
USE_PERLIO USE_REENTRANT_API
Built under freebsd
Compiled at Nov 13 2011 19:12:44
%ENV:
PERL5LIB=""
PERL5OPT=""
PERL5_CPANPLUS_IS_RUNNING="38508"
PERL5_CPAN_IS_RUNNING="38508"
PERL5_CPAN_IS_RUNNING_IN_RECURSION="1056,38508"
PERLBREW_BASHRC_VERSION="0.33"
PERLBREW_HOME="/home/test/.perlbrew"
PERLBREW_PATH="/home/test/perl5/perlbrew/bin:/home/test/perl5/perlbrew/perls/perl-5.10.1-th/bin"
PERLBREW_PERL="perl-5.10.1-th"
PERLBREW_ROOT="/home/test/perl5/perlbrew"
PERLBREW_VERSION="0.33"
PERL_CPANM_OPT="--prompt --mirror http://172.16.1.3/cpan/"
PERL_CR_SMOKER_CURRENT="Dist-Zilla-Plugin-Test-Pod-LinkCheck-1.001"
PERL_EXTUTILS_AUTOINSTALL="--defaultdeps"
PERL_MM_USE_DEFAULT="1"
@INC:
/home/test/perl5/perlbrew/perls/perl-5.10.1-th/lib/5.10.1/amd64-freebsd-thread-multi
/home/test/perl5/perlbrew/perls/perl-5.10.1-th/lib/5.10.1
/home/test/perl5/perlbrew/perls/perl-5.10.1-th/lib/site_perl/5.10.1/amd64-freebsd-thread-multi
/home/test/perl5/perlbrew/perls/perl-5.10.1-th/lib/site_perl/5.10.1
.