Back
From: metabase:user:553c21ce-8d47-11df-9de5-e28c4c42590d
Subject: PASS Class-Method-Modifiers-2.10 v5.20.0 GNU/Linux
Date: 2014-06-29T03:28:40Z
This distribution has been tested as part of the CPAN Testers
project, supporting the Perl programming language. See
http://wiki.cpantesters.org/ for more information or email
questions to cpan-testers-discuss@perl.org
--
Dear ETHER,
This is a computer-generated report for Class-Method-Modifiers-2.10
on perl 5.20.0, created by App::cpanminus::reporter 0.11 (1.7004).
Thank you for uploading your work to CPAN. Congratulations!
All tests were successful.
Sections of this report:
* Tester comments
* Program output
* Prerequisites
* Environment and other context
------------------------------
TESTER COMMENTS
------------------------------
Additional comments from tester:
none provided
------------------------------
PROGRAM OUTPUT
------------------------------
Output from '':
Building and testing Class-Method-Modifiers-2.10
cp lib/Class/Method/Modifiers.pm blib/lib/Class/Method/Modifiers.pm
PERL_DL_NONLAZY=1 /home/ioan/perl5/perlbrew/perls/perl-5.20.0/bin/perl "-MExtUtils::Command::MM" "-MTest::Harness" "-e" "undef *Test::Harness::Switches; test_harness(0, 'blib/lib', 'blib/arch')" t/*.t
t/002-cache.t ....................... ok
t/000-load.t ........................ ok
t/001-error.t ....................... ok
t/005-return.t ...................... ok
t/003-basic.t ....................... ok
t/010-before-args.t ................. ok
t/004-around.t ...................... ok
t/011-after-args.t .................. ok
t/012-around-args.t ................. ok
t/031-multiple-after.t .............. ok
t/030-multiple-before.t ............. ok
t/034-multiple-everything.t ......... ok
t/020-multiple-inheritance.t ........ ok
t/032-multiple-around.t ............. ok
t/040-twice-orig.t .................. ok
t/035-multiple-everything-twice.t ... ok
t/051-undef-list-ctxt.t ............. ok
t/041-modify-parent.t ............... ok
t/060-caller.t ...................... ok
t/070-modify-multiple-at-once.t ..... ok
t/090-diamond.t ..................... ok
t/080-multiple-modifiers.t .......... ok
t/100-class-mop-method-modifiers.t .. ok
t/081-sub-and-modifier.t ............ ok
t/130-clean-underscore.t ............ ok
t/120-fresh.t ....................... ok
t/140-lvalue.t ...................... ok
#
# Versions for all modules listed in MYMETA.json (including optional ones):
# Version Module
# -------- ------------------------
# 1.48 B
# 2.140640 CPAN::Meta
# 2.125 CPAN::Meta::Requirements
# 1.3301 Carp
# 5.70 Exporter
# 6.98 ExtUtils::MakeMaker
# 3.47 File::Spec::Functions
# 1.38 List::Util
# 0.013 Test::Fatal
# 1.001002 Test::More
# 2.22 base
# 0.0603 if
# 1.08 strict
# 0.9908 version
# 1.23 warnings
t/00-report-prereqs.t ............... ok
t/110-namespace-clean.t ............. ok
All tests successful.
Files=29, Tests=129, 1 wallclock secs ( 0.22 usr 0.05 sys + 2.43 cusr 0.31 csys = 3.01 CPU)
Result: PASS
------------------------------
PREREQUISITES
------------------------------
Prerequisite modules loaded:
No requirements found
------------------------------
ENVIRONMENT AND OTHER CONTEXT
------------------------------
Environment variables:
LANG = en_CA.UTF-8
LANGUAGE = en_CA:en
PATH = /home/ioan/perl5/perlbrew/bin:/home/ioan/perl5/perlbrew/perls/perl-5.20.0/bin::/home/ioan/bin:/usr/local/bin:/usr/bin:/bin:/usr/local/sbin:/sbin:/usr/sbin:/usr/games
PERLBREW_BASHRC_VERSION = 0.69
PERLBREW_HOME = /home/ioan/.perlbrew
PERLBREW_MANPATH = /home/ioan/perl5/perlbrew/perls/perl-5.20.0/man
PERLBREW_PATH = /home/ioan/perl5/perlbrew/bin:/home/ioan/perl5/perlbrew/perls/perl-5.20.0/bin
PERLBREW_PERL = perl-5.20.0
PERLBREW_ROOT = /home/ioan/perl5/perlbrew
PERLBREW_VERSION = 0.69
PERL_CPANM_OPT = --prompt --no-man-pages --verify --mirror http://mirrors.gossamer-threads.com/CPAN/
SHELL = /bin/bash
TERM = xterm-256color
Perl special variables (and OS-specific diagnostics, for MSWin32):
EGID = 1001 27 996 997 998 999 1001
EUID = 1001
EXECUTABLE_NAME = /home/ioan/perl5/perlbrew/perls/perl-5.20.0/bin/perl
GID = 1001 27 996 997 998 999 1001
UID = 1001
Perl module toolchain versions installed:
Module Have
------------------- --------
CPAN 2.05
CPAN::Meta 2.140640
Cwd 3.47
ExtUtils::CBuilder 0.280216
ExtUtils::Command 1.18
ExtUtils::Install 1.67
ExtUtils::MakeMaker 6.98
ExtUtils::Manifest 1.63
ExtUtils::ParseXS 3.24
File::Spec 3.47
JSON 2.90
JSON::PP 2.27203
Module::Build 0.4205
Module::Signature 0.73
Parse::CPAN::Meta 1.4414
Test::Harness 3.30
Test::More 1.001002
YAML n/a
YAML::Syck n/a
version 0.9908
--
Summary of my perl5 (revision 5 version 20 subversion 0) configuration:
Platform:
osname=linux, osvers=3.13.0-30-generic, archname=x86_64-linux
uname='linux hubris 3.13.0-30-generic #54-ubuntu smp mon jun 9 22:45:01 utc 2014 x86_64 x86_64 x86_64 gnulinux '
config_args='-de -Dprefix=/home/ioan/perl5/perlbrew/perls/perl-5.20.0 -Dccflags=-O2 -Wall -Wp,-D_FORTIFY_SOURCE=2 -fexceptions -fstack-protector --param=ssp-buffer-size=4 -march=native -Dman1dir=none -Dman3dir=none -Dcc=clang -Duse64bitall -Aeval:scriptdir=/home/ioan/perl5/perlbrew/perls/perl-5.20.0/bin'
hint=recommended, useposix=true, d_sigaction=define
useithreads=undef, usemultiplicity=undef
use64bitint=define, use64bitall=define, uselongdouble=undef
usemymalloc=n, bincompat5005=undef
Compiler:
cc='clang', ccflags ='-O2 -Wall -Wp,-D_FORTIFY_SOURCE=2 -fexceptions -fstack-protector --param=ssp-buffer-size=4 -march=native -fno-strict-aliasing -pipe -I/usr/local/include -D_LARGEFILE_SOURCE -D_FILE_OFFSET_BITS=64',
optimize='-O2',
cppflags='-O2 -Wall -Wp,-D_FORTIFY_SOURCE=2 -fexceptions -fstack-protector --param=ssp-buffer-size=4 -march=native -fno-strict-aliasing -pipe -I/usr/local/include'
ccversion='', gccversion='4.2.1 Compatible Ubuntu Clang 3.4 (tags/RELEASE_34/final)', gccosandvers=''
intsize=4, longsize=8, ptrsize=8, doublesize=8, byteorder=12345678
d_longlong=define, longlongsize=8, d_longdbl=define, longdblsize=16
ivtype='long', ivsize=8, nvtype='double', nvsize=8, Off_t='off_t', lseeksize=8
alignbytes=8, prototype=define
Linker and Libraries:
ld='clang', ldflags =' -fstack-protector -L/usr/local/lib'
libpth=/usr/local/lib /usr/bin/../lib/clang/3.4/lib /usr/include/x86_64-linux-gnu /usr/lib /lib/x86_64-linux-gnu /lib/../lib /usr/lib/x86_64-linux-gnu /usr/lib/../lib /lib
libs=-lnsl -ldl -lm -lcrypt -lutil -lc
perllibs=-lnsl -ldl -lm -lcrypt -lutil -lc
libc=libc-2.19.so, so=so, useshrplib=false, libperl=libperl.a
gnulibc_version='2.19'
Dynamic Linking:
dlsrc=dl_dlopen.xs, dlext=so, d_dlsymun=undef, ccdlflags='-Wl,-E'
cccdlflags='-fPIC', lddlflags='-shared -O2 -L/usr/local/lib -fstack-protector'
Characteristics of this binary (from libperl):
Compile-time options: HAS_TIMES PERLIO_LAYERS PERL_DONT_CREATE_GVSV
PERL_HASH_FUNC_ONE_AT_A_TIME_HARD PERL_MALLOC_WRAP
PERL_NEW_COPY_ON_WRITE PERL_PRESERVE_IVUV
USE_64_BIT_ALL USE_64_BIT_INT USE_LARGE_FILES
USE_LOCALE USE_LOCALE_COLLATE USE_LOCALE_CTYPE
USE_LOCALE_NUMERIC USE_PERLIO USE_PERL_ATOF
Built under linux
Compiled at Jun 28 2014 18:41:11
%ENV:
PERLBREW_BASHRC_VERSION="0.69"
PERLBREW_HOME="/home/ioan/.perlbrew"
PERLBREW_MANPATH="/home/ioan/perl5/perlbrew/perls/perl-5.20.0/man"
PERLBREW_PATH="/home/ioan/perl5/perlbrew/bin:/home/ioan/perl5/perlbrew/perls/perl-5.20.0/bin"
PERLBREW_PERL="perl-5.20.0"
PERLBREW_ROOT="/home/ioan/perl5/perlbrew"
PERLBREW_VERSION="0.69"
PERL_CPANM_OPT="--prompt --no-man-pages --verify --mirror http://mirrors.gossamer-threads.com/CPAN/"
@INC:
/home/ioan/perl5/perlbrew/perls/perl-5.20.0/lib/site_perl/5.20.0/x86_64-linux
/home/ioan/perl5/perlbrew/perls/perl-5.20.0/lib/site_perl/5.20.0
/home/ioan/perl5/perlbrew/perls/perl-5.20.0/lib/5.20.0/x86_64-linux
/home/ioan/perl5/perlbrew/perls/perl-5.20.0/lib/5.20.0
.