Inline-Ruby v0.10 Perl 5 v5.16.3 x86_64-linux-thread-multi

Status
Pass
From
Nigel Horne
Dist
Inline-Ruby v0.10
Platform
Perl 5 v5.16.3 x86_64-linux-thread-multi
Date
2018-11-12 15:06:00
ID
772aabd2-e68c-11e8-afbf-aec3b07506ca
This distribution has been tested as part of the CPAN Testers
project, supporting the Perl programming language.  See
http://wiki.cpantesters.org/ for more information or email
questions to cpan-testers-discuss@perl.org


--
Dear Shlomi Fish,

This is a computer-generated report for Inline-Ruby-0.10
on perl 5.16.3, created by CPAN-Reporter-1.2018.

Thank you for uploading your work to CPAN.  Congratulations!
All tests were successful.

Sections of this report:

    * Tester comments
    * Program output
    * Prerequisites
    * Environment and other context

------------------------------
TESTER COMMENTS
------------------------------

Additional comments from tester:

this report is from an automated smoke testing program
and was not reviewed by a human for accuracy

------------------------------
PROGRAM OUTPUT
------------------------------

Output from '/usr/bin/make test':

"/home/njh/perl5/perlbrew/perls/perl-5.16.3/bin/perl" -MExtUtils::Command::MM -e 'cp_nonempty' -- Ruby.bs blib/arch/auto/Inline/Ruby/Ruby.bs 644
PERL_DL_NONLAZY=1 "/home/njh/perl5/perlbrew/perls/perl-5.16.3/bin/perl" "-MExtUtils::Command::MM" "-MTest::Harness" "-e" "undef *Test::Harness::Switches; test_harness(0, 'blib/lib', 'blib/arch')" t/*.t
t/01basic.t ............... ok
t/02iter.t ................ ok
t/03bindfunc.t ............ ok
t/04iterator.t ............ ok
t/05rb_exc.t .............. ok
	(in cleanup) Illegal division by zero at t/06pl_exc.t line 53.
	(in cleanup) Missing right curly or square bracket at (eval 18) line 2, at end of line
syntax error at (eval 18) line 2, at EOF
	(in cleanup) Illegal division by zero at t/06pl_exc.t line 73.
t/06pl_exc.t .............. ok
t/08bind1.t ............... ok
t/08bind2.t ............... ok
t/07proc.t ................ ok
t/09regex.t ............... ok
t/cpan-changes.t .......... skipped: Test::CPAN::Changes required for this test
t/10require.t ............. ok
t/pod.t ................... ok
t/pod-coverage.t .......... ok
t/style-trailing-space.t .. skipped: Test::TrailingSpace required for trailing space test.
All tests successful.
Files=15, Tests=69,  2 wallclock secs ( 0.11 usr  0.02 sys +  2.41 cusr  0.27 csys =  2.81 CPU)
Result: PASS

------------------------------
PREREQUISITES
------------------------------

Prerequisite modules loaded:

requires:

    Module              Need  Have    
    ------------------- ----- --------
    Inline              0.42  0.80    
    perl                5.008 5.016003

build_requires:

    Module              Need  Have    
    ------------------- ----- --------
    ExtUtils::MakeMaker 0     7.24    

configure_requires:

    Module              Need  Have    
    ------------------- ----- --------
    ExtUtils::MakeMaker 0     7.24    


------------------------------
ENVIRONMENT AND OTHER CONTEXT
------------------------------

Environment variables:

    AUTOMATED_TESTING = 1
    HARNESS_OPTIONS = j2
    LANG = en_GB.UTF-8
    LANGUAGE = en_GB:en
    PATH = /home/njh/perl5/perlbrew/bin:/home/njh/perl5/perlbrew/perls/perl-5.16.3/bin:/usr/bin:/bin:/home/njh/src/njh/smoker/bin
    PERL5LIB = /home/njh/.cpan/build/Inline-0.80-14/blib/arch:/home/njh/.cpan/build/Inline-0.80-14/blib/lib
    PERL5OPT = 
    PERL5_CPANPLUS_IS_RUNNING = 18673
    PERL5_CPAN_IS_RUNNING = 18673
    PERLBREW_HOME = /home/njh/.perlbrew
    PERLBREW_MANPATH = /home/njh/perl5/perlbrew/perls/perl-5.16.3/man
    PERLBREW_PATH = /home/njh/perl5/perlbrew/bin:/home/njh/perl5/perlbrew/perls/perl-5.16.3/bin
    PERLBREW_PERL = perl-5.16.3
    PERLBREW_ROOT = /home/njh/perl5/perlbrew
    PERLBREW_SHELLRC_VERSION = 0.83
    PERLBREW_VERSION = 0.83
    SHELL = /bin/sh
    TEMP = /tmp/user/1000
    TMPDIR = /tmp/user/1000/testwrapper.18659

Perl special variables (and OS-specific diagnostics, for MSWin32):

    $^X = /home/njh/perl5/perlbrew/perls/perl-5.16.3/bin/perl
    $UID/$EUID = 1000 / 1000
    $GID = 1000 4 24 25 29 30 44 46 103 108 116 127 1000
    $EGID = 1000 4 24 25 29 30 44 46 103 108 116 127 1000

Perl module toolchain versions installed:

    Module              Have    
    ------------------- --------
    CPAN                2.16    
    CPAN::Meta          2.150010
    Cwd                 3.62    
    ExtUtils::CBuilder  0.280224
    ExtUtils::Command   7.24    
    ExtUtils::Install   2.04    
    ExtUtils::MakeMaker 7.24    
    ExtUtils::Manifest  1.70    
    ExtUtils::ParseXS   3.30    
    File::Spec          3.62    
    JSON                2.97001 
    JSON::PP            2.27400 
    Module::Build       0.4220  
    Module::Signature   n/a     
    Parse::CPAN::Meta   2.150010
    Test::Harness       3.36    
    Test::More          1.302136
    YAML                1.26    
    YAML::Syck          1.30    
    version             0.99    


--

Summary of my perl5 (revision 5 version 16 subversion 3) configuration:
   
  Platform:
    osname=linux, osvers=3.16-3-amd64, archname=x86_64-linux-thread-multi
    uname='linux compaq 3.16-3-amd64 #1 smp debian 3.16.5-1 (2014-10-10) x86_64 gnulinux '
    config_args='-de -Dprefix=/home/njh/perl5/perlbrew/perls/perl-5.16.3 -Duseithreads -Dusemultiplicity -Dusedevel -Accflags= -Aeval:scriptdir=/home/njh/perl5/perlbrew/perls/perl-5.16.3/bin'
    hint=recommended, useposix=true, d_sigaction=define
    useithreads=define, usemultiplicity=define
    useperlio=define, d_sfio=undef, uselargefiles=define, usesocks=undef
    use64bitint=define, use64bitall=define, uselongdouble=undef
    usemymalloc=n, bincompat5005=undef
  Compiler:
    cc='cc', ccflags ='-D_REENTRANT -D_GNU_SOURCE -fno-strict-aliasing -pipe -fstack-protector -I/usr/local/include -D_LARGEFILE_SOURCE -D_FILE_OFFSET_BITS=64',
    optimize='-O2',
    cppflags='-D_REENTRANT -D_GNU_SOURCE -fno-strict-aliasing -pipe -fstack-protector -I/usr/local/include'
    ccversion='', gccversion='4.9.2', gccosandvers=''
    intsize=4, longsize=8, ptrsize=8, doublesize=8, byteorder=12345678
    d_longlong=define, longlongsize=8, d_longdbl=define, longdblsize=16
    ivtype='long', ivsize=8, nvtype='double', nvsize=8, Off_t='off_t', lseeksize=8
    alignbytes=8, prototype=define
  Linker and Libraries:
    ld='cc', ldflags =' -fstack-protector -L/usr/local/lib'
    libpth=/usr/local/lib /lib/x86_64-linux-gnu /lib/../lib /usr/lib/x86_64-linux-gnu /usr/lib/../lib /lib /usr/lib
    libs=-lnsl -lgdbm -ldb -ldl -lm -lcrypt -lutil -lpthread -lc -lgdbm_compat
    perllibs=-lnsl -ldl -lm -lcrypt -lutil -lpthread -lc
    libc=, so=so, useshrplib=false, libperl=libperl.a
    gnulibc_version='2.19'
  Dynamic Linking:
    dlsrc=dl_dlopen.xs, dlext=so, d_dlsymun=undef, ccdlflags='-Wl,-E'
    cccdlflags='-fPIC', lddlflags='-shared -O2 -L/usr/local/lib -fstack-protector'


Characteristics of this binary (from libperl): 
  Compile-time options: HAS_TIMES MULTIPLICITY PERLIO_LAYERS
                        PERL_DONT_CREATE_GVSV PERL_IMPLICIT_CONTEXT
                        PERL_MALLOC_WRAP PERL_PRESERVE_IVUV PERL_USE_DEVEL
                        USE_64_BIT_ALL USE_64_BIT_INT USE_ITHREADS
                        USE_LARGE_FILES USE_LOCALE USE_LOCALE_COLLATE
                        USE_LOCALE_CTYPE USE_LOCALE_NUMERIC USE_PERLIO
                        USE_PERL_ATOF USE_REENTRANT_API
  Built under linux
  Compiled at Nov 15 2014 01:46:07
  %ENV:
    PERL5LIB="/home/njh/.cpan/build/Inline-0.80-14/blib/arch:/home/njh/.cpan/build/Inline-0.80-14/blib/lib"
    PERL5OPT=""
    PERL5_CPANPLUS_IS_RUNNING="18673"
    PERL5_CPAN_IS_RUNNING="18673"
    PERLBREW_HOME="/home/njh/.perlbrew"
    PERLBREW_MANPATH="/home/njh/perl5/perlbrew/perls/perl-5.16.3/man"
    PERLBREW_PATH="/home/njh/perl5/perlbrew/bin:/home/njh/perl5/perlbrew/perls/perl-5.16.3/bin"
    PERLBREW_PERL="perl-5.16.3"
    PERLBREW_ROOT="/home/njh/perl5/perlbrew"
    PERLBREW_SHELLRC_VERSION="0.83"
    PERLBREW_VERSION="0.83"
  @INC:
    /home/njh/.cpan/build/Inline-0.80-14/blib/arch
    /home/njh/.cpan/build/Inline-0.80-14/blib/lib
    /home/njh/perl5/perlbrew/perls/perl-5.16.3/lib/site_perl/5.16.3/x86_64-linux-thread-multi
    /home/njh/perl5/perlbrew/perls/perl-5.16.3/lib/site_perl/5.16.3
    /home/njh/perl5/perlbrew/perls/perl-5.16.3/lib/5.16.3/x86_64-linux-thread-multi
    /home/njh/perl5/perlbrew/perls/perl-5.16.3/lib/5.16.3
    .