Crypt-OpenSSL-PKCS10 v0.26 Perl 5 v5.30.2 x86_64-linux-quadmath

Status
Pass
From
Chris Williams (BINGOS)
Dist
Crypt-OpenSSL-PKCS10 v0.26
Platform
Perl 5 v5.30.2 x86_64-linux-quadmath
Date
2024-06-26 18:04:00
ID
76ffb884-33e6-11ef-98b0-b3c3213a625c
This distribution has been tested as part of the CPAN Testers
project, supporting the Perl programming language.  See
http://wiki.cpantesters.org/ for more information or email
questions to cpan-testers-discuss@perl.org


--

Dear Timothy Legge,

This is a computer-generated error report created automatically by
CPANPLUS, version 0.9914. Testers personal comments may appear
at the end of this report.


Thank you for uploading your work to CPAN.  Congratulations!
All tests were successful.

TEST RESULTS:

Below is the error stack from stage 'make test':

"/home/cpan/pit/bare-qm/perl-5.30.2/bin/perl" -MExtUtils::Command::MM -e 'cp_nonempty' -- PKCS10.bs blib/arch/auto/Crypt/OpenSSL/PKCS10/PKCS10.bs 644
PERL_DL_NONLAZY=1 "/home/cpan/pit/bare-qm/perl-5.30.2/bin/perl" "-MExtUtils::Command::MM" "-MTest::Harness" "-e" "undef *Test::Harness::Switches; test_harness(0, 'blib/lib', 'blib/arch')" t/*.t
t/author-pod-spell.t ... skipped: these tests are for testing by the author
t/author-pod-syntax.t .. skipped: these tests are for testing by the author
-----BEGIN CERTIFICATE REQUEST-----
MIIBPzCBqQIBADAAMIGfMA0GCSqGSIb3DQEBAQUAA4GNADCBiQKBgQCkStIEzuSO
L/mkHsOuM+MK0US0N52+ZVa0o8G50z91KSqy7/fP3Bs+Z5dubKbxmTMNipjo4bPW
YpuIi67ynf4KRFi2O5dnqBpmtH0KjuTtpjecoDoI9Y81e5mz4s1oTpZpxdJ5YKJS
ydy6Ekt/kN2Q17lFP4bf2OGAQfXB55v7bQIDAQABoAAwDQYJKoZIhvcNAQELBQAD
gYEAGNyeubI9eGP1GTRcKOJ+WYyj8zVUEnEOToxgZiKEBCrp7rMIZEXJkH6TMzAj
KExtEXIIXyTVHDZfVLfTySAbyzxDklrdcZez/y5dU7Z97cMgGmmXMUAYwSEf2Bxb
03FPWivupfiVt4UoJ4QPxYBXSMP/nw8HAfLIJcPXQSbcg3w=
-----END CERTIFICATE REQUEST-----

Public-Key: (1024 bit)
Modulus:
    00:a4:4a:d2:04:ce:e4:8e:2f:f9:a4:1e:c3:ae:33:
    e3:0a:d1:44:b4:37:9d:be:65:56:b4:a3:c1:b9:d3:
    3f:75:29:2a:b2:ef:f7:cf:dc:1b:3e:67:97:6e:6c:
    a6:f1:99:33:0d:8a:98:e8:e1:b3:d6:62:9b:88:8b:
    ae:f2:9d:fe:0a:44:58:b6:3b:97:67:a8:1a:66:b4:
    7d:0a:8e:e4:ed:a6:37:9c:a0:3a:08:f5:8f:35:7b:
    99:b3:e2:cd:68:4e:96:69:c5:d2:79:60:a2:52:c9:
    dc:ba:12:4b:7f:90:dd:90:d7:b9:45:3f:86:df:d8:
    e1:80:41:f5:c1:e7:9b:fb:6d
Exponent: 65537 (0x10001)

-----BEGIN CERTIFICATE REQUEST-----
MIIBPzCBqQIBADAAMIGfMA0GCSqGSIb3DQEBAQUAA4GNADCBiQKBgQC4UGFFc6T5
fhkv+drB+7obd0KekVBbmh/vYVG0oVqdN231ERYtrD3It1CHlj4y/ODOf0QcLf/u
GSFQN0LnWS4IgRnce0ytvwlu1Tl2iQtEbcguiN8pMOK07LxvrwPSRVZBJNImmTep
6c+RfGLjGqwkpWC3vwkrz2PpfrJktS8gOQIDAQABoAAwDQYJKoZIhvcNAQELBQAD
gYEACDdsUbK6rXfL1Yo4iQw5cpuzd8B5LURHApD1jF5AITKXg3cI4qVnh3z+gclu
mFA5wxKUG7ROCB1nFkBGv+oiIwRW1Wvy7N/VnQFKYqh02HhhUkfxzlE67/2gG1o2
uLERQuBM97cQV7n90Iydg80Fgn/i49oflCHbEGgVKbeQE18=
-----END CERTIFICATE REQUEST-----

Public-Key: (1024 bit)
Modulus:
    00:b8:50:61:45:73:a4:f9:7e:19:2f:f9:da:c1:fb:
    ba:1b:77:42:9e:91:50:5b:9a:1f:ef:61:51:b4:a1:
    5a:9d:37:6d:f5:11:16:2d:ac:3d:c8:b7:50:87:96:
    3e:32:fc:e0:ce:7f:44:1c:2d:ff:ee:19:21:50:37:
    42:e7:59:2e:08:81:19:dc:7b:4c:ad:bf:09:6e:d5:
    39:76:89:0b:44:6d:c8:2e:88:df:29:30:e2:b4:ec:
    bc:6f:af:03:d2:45:56:41:24:d2:26:99:37:a9:e9:
    cf:91:7c:62:e3:1a:ac:24:a5:60:b7:bf:09:2b:cf:
    63:e9:7e:b2:64:b5:2f:20:39
Exponent: 65537 (0x10001)

rsa
-----BEGIN PUBLIC KEY-----
MIGfMA0GCSqGSIb3DQEBAQUAA4GNADCBiQKBgQC4UGFFc6T5fhkv+drB+7obd0Ke
kVBbmh/vYVG0oVqdN231ERYtrD3It1CHlj4y/ODOf0QcLf/uGSFQN0LnWS4IgRnc
e0ytvwlu1Tl2iQtEbcguiN8pMOK07LxvrwPSRVZBJNImmTep6c+RfGLjGqwkpWC3
vwkrz2PpfrJktS8gOQIDAQAB
-----END PUBLIC KEY-----

-----BEGIN CERTIFICATE REQUEST-----
MIICJzCCAZACAQAwKTELMAkGA1UEBhMCUk8xDDAKBgNVBAoMA1VUSTEMMAoGA1UE
CwwDc3NpMIGfMA0GCSqGSIb3DQEBAQUAA4GNADCBiQKBgQC8kHTmEkcDbH5ZtLxY
jQ2RkgqKOtW3jtdR9FkD2ktSER8kTZK73duN95oipMSi3mKshs6HuVnJ/E3l2CrJ
lhDFca4dj+dk6JCY4TmtbCbQxSoANgFxCT/GRyzthedMz9RsB3q78rNWNEH4i+A6
gdfRNZdNgcqjyB7v3FNxkeVhgQIDAQABoIG9MIG6BgkqhkiG9w0BCQ4xgawwgakw
DgYDVR0PAQH/BAQDAgWgMC4GA1UdJQQnMCUGCCsGAQUFBwMBBglghkgBhvhCBAEG
CisGAQQBgjcKAwMGAisEMBwGA1UdEQQVMBOBEXN0ZXZlQG9wZW5zc2wub3JnMB0G
A1UdDgQWBBSD0sY1fuwPCXss5cF6RfxxDihcIjAZBgMqAwMEEhYQTXkgbmV3IGV4
dGVuc2lvbjAPBgMqAwQECB4GAGEAYgBjMA0GCSqGSIb3DQEBCwUAA4GBAI7nYohl
mp5qNDUKu9IYVdMmWAdF0hM9tn+rw9zPwZJWLDbGaVYIuFtmSkyb2BLvaihK8/24
LUQsL8JxvLQ5q1FhTf1arcCyZdVQveBW+wcfH0qoZKIfiGxmMTCuN4M4jn2Z1U9g
U5WRbJTvkoSGbTyNd5ferPtnasW4VlhuUdTB
-----END CERTIFICATE REQUEST-----
C=RO, O=UTI, OU=ssi
Public-Key: (1024 bit)
Modulus:
    00:bc:90:74:e6:12:47:03:6c:7e:59:b4:bc:58:8d:
    0d:91:92:0a:8a:3a:d5:b7:8e:d7:51:f4:59:03:da:
    4b:52:11:1f:24:4d:92:bb:dd:db:8d:f7:9a:22:a4:
    c4:a2:de:62:ac:86:ce:87:b9:59:c9:fc:4d:e5:d8:
    2a:c9:96:10:c5:71:ae:1d:8f:e7:64:e8:90:98:e1:
    39:ad:6c:26:d0:c5:2a:00:36:01:71:09:3f:c6:47:
    2c:ed:85:e7:4c:cf:d4:6c:07:7a:bb:f2:b3:56:34:
    41:f8:8b:e0:3a:81:d7:d1:35:97:4d:81:ca:a3:c8:
    1e:ef:dc:53:71:91:e5:61:81
Exponent: 65537 (0x10001)

rsa
-----BEGIN PUBLIC KEY-----
MIGfMA0GCSqGSIb3DQEBAQUAA4GNADCBiQKBgQC8kHTmEkcDbH5ZtLxYjQ2RkgqK
OtW3jtdR9FkD2ktSER8kTZK73duN95oipMSi3mKshs6HuVnJ/E3l2CrJlhDFca4d
j+dk6JCY4TmtbCbQxSoANgFxCT/GRyzthedMz9RsB3q78rNWNEH4i+A6gdfRNZdN
gcqjyB7v3FNxkeVhgQIDAQAB
-----END PUBLIC KEY-----

C=DE, ST=NRW, L=Foo, O=Internet Widgits Pty Ltd, CN=foo.der.bar.com
Public-Key: (2048 bit)
Modulus:
    00:c0:f3:18:17:17:28:00:e7:26:3f:b3:e3:40:13:
    30:96:36:a3:5d:97:7a:ad:9c:e5:10:d5:93:a0:4f:
    02:60:0d:0c:d9:36:f3:4c:e0:42:1a:68:71:5d:f3:
    36:c7:fc:01:77:c3:7e:a1:e9:b1:09:73:5a:a4:ad:
    75:9e:e5:d4:30:3d:0e:98:92:b2:e5:c2:0f:78:7b:
    49:af:21:4d:99:a1:99:25:63:59:5b:b0:2f:96:b8:
    95:b4:a8:a0:18:41:6d:4f:d1:bb:3e:a4:b0:da:1f:
    08:20:3d:85:50:fc:29:40:ae:12:31:71:55:04:9c:
    45:cb:40:47:b0:60:58:46:3e:68:46:26:16:fb:c0:
    e5:76:1d:a1:b1:c1:f0:47:f1:5f:ff:62:c1:81:b7:
    13:92:d8:f3:df:bf:f5:24:0a:13:43:3d:93:05:42:
    10:aa:0f:16:53:e3:32:ba:dc:1e:f8:04:b2:34:98:
    5f:2c:c1:5d:16:7a:e6:88:de:99:f4:ed:8a:f4:bd:
    33:c5:e7:88:bd:3e:54:e1:c2:c1:88:d3:38:84:fb:
    41:76:68:3d:76:23:90:94:47:74:33:b9:0b:1a:8f:
    c7:7f:d5:d2:82:32:1b:4c:fd:e2:fc:17:75:46:97:
    73:a5:19:03:20:68:c2:58:ee:be:7d:a4:1e:08:0f:
    11:eb
Exponent: 65537 (0x10001)

rsa
-----BEGIN PUBLIC KEY-----
MIIBIjANBgkqhkiG9w0BAQEFAAOCAQ8AMIIBCgKCAQEAwPMYFxcoAOcmP7PjQBMw
ljajXZd6rZzlENWToE8CYA0M2TbzTOBCGmhxXfM2x/wBd8N+oemxCXNapK11nuXU
MD0OmJKy5cIPeHtJryFNmaGZJWNZW7AvlriVtKigGEFtT9G7PqSw2h8IID2FUPwp
QK4SMXFVBJxFy0BHsGBYRj5oRiYW+8Dldh2hscHwR/Ff/2LBgbcTktjz37/1JAoT
Qz2TBUIQqg8WU+Myutwe+ASyNJhfLMFdFnrmiN6Z9O2K9L0zxeeIvT5U4cLBiNM4
hPtBdmg9diOQlEd0M7kLGo/Hf9XSgjIbTP3i/Bd1RpdzpRkDIGjCWO6+faQeCA8R
6wIDAQAB
-----END PUBLIC KEY-----

t/Mytest.t ............. ok
t/release-kwalitee.t ... skipped: these tests are for release candidate testing
t/release-meta-json.t .. skipped: these tests are for release candidate testing
All tests successful.
Files=5, Tests=7,  1 wallclock secs ( 0.02 usr  0.00 sys +  0.10 cusr  0.01 csys =  0.13 CPU)
Result: PASS


PREREQUISITES:

Here is a list of prerequisites you specified and versions we
managed to load:

	  Module Name                        Have     Want
	  Crypt::OpenSSL::Guess              0.15     0.11
	  Crypt::OpenSSL::RSA                0.33        0
	  Exporter                           5.73        0
	  Test::More                     1.302199        0
	  XSLoader                           0.30        0

Perl module toolchain versions installed:
	Module Name                        Have
	CPANPLUS                         0.9914
	CPANPLUS::Dist::Build              0.90
	Cwd                                3.78
	ExtUtils::CBuilder             0.280236
	ExtUtils::Command                  7.70
	ExtUtils::Install                  2.22
	ExtUtils::MakeMaker                7.70
	ExtUtils::Manifest                 1.75
	ExtUtils::ParseXS                  3.51
	File::Spec                         3.78
	Module::Build                    0.4234
	Pod::Parser                        1.63
	Pod::Simple                        3.35
	Test2                          1.302199
	Test::Harness                      3.48
	Test::More                     1.302199
	version                          0.9932

******************************** NOTE ********************************
The comments above are created mechanically, possibly without manual
checking by the sender.  As there are many people performing automatic
tests on each upload to CPAN, it is likely that you will receive
identical messages about the same problem.

If you believe that the message is mistaken, please reply to the first
one with correction and/or additional informations, and do not take
it personally.  We appreciate your patience. :)
**********************************************************************

Additional comments:


This report was machine-generated by CPANPLUS::Dist::YACSmoke 1.08.
Powered by minismokebox version 0.68

CPANPLUS is prefering Build.PL

------------------------------
ENVIRONMENT AND OTHER CONTEXT
------------------------------

Environment variables:

    AUTOMATED_TESTING = 1
    LANG = en_GB.UTF-8
    LANGUAGE = en_GB:en
    NONINTERACTIVE_TESTING = 1
    PATH = /usr/local/sbin:/usr/local/bin:/usr/sbin:/usr/bin:/sbin:/bin:/usr/games:/usr/local/games:/snap/bin
    PERL5LIB = /home/cpan/pit/jail/02UU8k1jWW/lib/perl5:/home/cpan/pit/bare-qm/conf/perl-5.30.2/.cpanplus/5.30.2/build/FXpFYJHk0t/Crypt-OpenSSL-PKCS10-0.26/blib/lib:/home/cpan/pit/bare-qm/conf/perl-5.30.2/.cpanplus/5.30.2/build/FXpFYJHk0t/Crypt-OpenSSL-PKCS10-0.26/blib/arch
    PERL5_CPANPLUS_IS_RUNNING = 3468855
    PERL5_CPANPLUS_IS_VERSION = 0.9914
    PERL5_MINISMOKEBOX = 0.68
    PERL5_YACSMOKE_BASE = /home/cpan/pit/bare-qm/conf/perl-5.30.2
    PERL_EXTUTILS_AUTOINSTALL = --defaultdeps
    PERL_LOCAL_LIB_ROOT = /home/cpan/pit/jail/02UU8k1jWW
    PERL_MB_OPT = --install_base "/home/cpan/pit/jail/02UU8k1jWW"
    PERL_MM_OPT = INSTALL_BASE=/home/cpan/pit/jail/02UU8k1jWW
    PERL_MM_USE_DEFAULT = 1
    PERL_USE_UNSAFE_INC = 1
    SHELL = /bin/bash
    TERM = screen.xterm-256color

Perl special variables (and OS-specific diagnostics, for MSWin32):

    Perl: $^X = /home/cpan/pit/bare-qm/perl-5.30.2/bin/perl
    UID:  $<  = 1001
    EUID: $>  = 1001
    GID:  $(  = 1001 1001
    EGID: $)  = 1001 1001


-------------------------------


--

Summary of my perl5 (revision 5 version 30 subversion 2) configuration:
   
  Platform:
    osname=linux
    osvers=5.4.0-26-generic
    archname=x86_64-linux-quadmath
    uname='linux uchder 5.4.0-26-generic #30-ubuntu smp mon apr 20 16:58:30 utc 2020 x86_64 x86_64 x86_64 gnulinux '
    config_args='-des -Dprefix=/home/cpan/pit/bare-qm/perl-5.30.2 -Dusequadmath'
    hint=recommended
    useposix=true
    d_sigaction=define
    useithreads=undef
    usemultiplicity=undef
    use64bitint=define
    use64bitall=define
    uselongdouble=undef
    usemymalloc=n
    default_inc_excludes_dot=define
    bincompat5005=undef
  Compiler:
    cc='cc'
    ccflags ='-fwrapv -fno-strict-aliasing -pipe -fstack-protector-strong -I/usr/local/include -D_LARGEFILE_SOURCE -D_FILE_OFFSET_BITS=64'
    optimize='-O2'
    cppflags='-fwrapv -fno-strict-aliasing -pipe -fstack-protector-strong -I/usr/local/include'
    ccversion=''
    gccversion='9.3.0'
    gccosandvers=''
    intsize=4
    longsize=8
    ptrsize=8
    doublesize=8
    byteorder=12345678
    doublekind=3
    d_longlong=define
    longlongsize=8
    d_longdbl=define
    longdblsize=16
    longdblkind=3
    ivtype='long'
    ivsize=8
    nvtype='__float128'
    nvsize=16
    Off_t='off_t'
    lseeksize=8
    alignbytes=16
    prototype=define
  Linker and Libraries:
    ld='cc'
    ldflags =' -fstack-protector-strong -L/usr/local/lib'
    libpth=/usr/local/lib /usr/include/x86_64-linux-gnu /usr/lib /lib/x86_64-linux-gnu /lib/../lib /usr/lib/x86_64-linux-gnu /usr/lib/../lib /lib
    libs=-lpthread -lnsl -lgdbm -ldl -lm -lcrypt -lutil -lc -lquadmath
    perllibs=-lpthread -lnsl -ldl -lm -lcrypt -lutil -lc -lquadmath
    libc=libc-2.31.so
    so=so
    useshrplib=false
    libperl=libperl.a
    gnulibc_version='2.31'
  Dynamic Linking:
    dlsrc=dl_dlopen.xs
    dlext=so
    d_dlsymun=undef
    ccdlflags='-Wl,-E'
    cccdlflags='-fPIC'
    lddlflags='-shared -O2 -L/usr/local/lib -fstack-protector-strong'


Characteristics of this binary (from libperl): 
  Compile-time options:
    HAS_TIMES
    PERLIO_LAYERS
    PERL_COPY_ON_WRITE
    PERL_DONT_CREATE_GVSV
    PERL_MALLOC_WRAP
    PERL_OP_PARENT
    PERL_PRESERVE_IVUV
    USE_64_BIT_ALL
    USE_64_BIT_INT
    USE_LARGE_FILES
    USE_LOCALE
    USE_LOCALE_COLLATE
    USE_LOCALE_CTYPE
    USE_LOCALE_NUMERIC
    USE_LOCALE_TIME
    USE_PERLIO
    USE_PERL_ATOF
    USE_QUADMATH
  Locally applied patches:
    Devel::PatchPerl 1.90
  Built under linux
  Compiled at Apr 27 2020 00:51:24
  %ENV:
    PERL5LIB="/home/cpan/pit/jail/02UU8k1jWW/lib/perl5:/home/cpan/pit/bare-qm/conf/perl-5.30.2/.cpanplus/5.30.2/build/FXpFYJHk0t/Crypt-OpenSSL-PKCS10-0.26/blib/lib:/home/cpan/pit/bare-qm/conf/perl-5.30.2/.cpanplus/5.30.2/build/FXpFYJHk0t/Crypt-OpenSSL-PKCS10-0.26/blib/arch"
    PERL5_CPANPLUS_IS_RUNNING="3468855"
    PERL5_CPANPLUS_IS_VERSION="0.9914"
    PERL5_MINISMOKEBOX="0.68"
    PERL5_YACSMOKE_BASE="/home/cpan/pit/bare-qm/conf/perl-5.30.2"
    PERL_EXTUTILS_AUTOINSTALL="--defaultdeps"
    PERL_LOCAL_LIB_ROOT="/home/cpan/pit/jail/02UU8k1jWW"
    PERL_MB_OPT="--install_base "/home/cpan/pit/jail/02UU8k1jWW""
    PERL_MM_OPT="INSTALL_BASE=/home/cpan/pit/jail/02UU8k1jWW"
    PERL_MM_USE_DEFAULT="1"
    PERL_USE_UNSAFE_INC="1"
  @INC:
    /home/cpan/pit/jail/02UU8k1jWW/lib/perl5/5.30.2/x86_64-linux-quadmath
    /home/cpan/pit/jail/02UU8k1jWW/lib/perl5/5.30.2
    /home/cpan/pit/jail/02UU8k1jWW/lib/perl5/x86_64-linux-quadmath
    /home/cpan/pit/jail/02UU8k1jWW/lib/perl5
    /home/cpan/pit/bare-qm/conf/perl-5.30.2/.cpanplus/5.30.2/build/FXpFYJHk0t/Crypt-OpenSSL-PKCS10-0.26/blib/lib
    /home/cpan/pit/bare-qm/conf/perl-5.30.2/.cpanplus/5.30.2/build/FXpFYJHk0t/Crypt-OpenSSL-PKCS10-0.26/blib/arch
    /home/cpan/pit/bare-qm/perl-5.30.2/lib/site_perl/5.30.2/x86_64-linux-quadmath
    /home/cpan/pit/bare-qm/perl-5.30.2/lib/site_perl/5.30.2
    /home/cpan/pit/bare-qm/perl-5.30.2/lib/5.30.2/x86_64-linux-quadmath
    /home/cpan/pit/bare-qm/perl-5.30.2/lib/5.30.2
    .