XML-SemanticDiff v1.0007 Perl 5 v5.18.3 i86pc-solaris-thread-multi
- Status
- Pass
- From
- Nigel Horne
- Dist
-
XML-SemanticDiff v1.0007
- Platform
- Perl 5 v5.18.3 i86pc-solaris-thread-multi
- Date
- 2019-01-22 02:14:36
- ID
- 76f0c5ac-1deb-11e9-aa3f-aeee7e98360c
This distribution has been tested as part of the CPAN Testers
project, supporting the Perl programming language. See
http://wiki.cpantesters.org/ for more information or email
questions to cpan-testers-discuss@perl.org
--
Dear Chris Prather,
This is a computer-generated report for XML-SemanticDiff-1.0007
on perl 5.18.3, created by CPAN-Reporter-1.2018.
Thank you for uploading your work to CPAN. Congratulations!
All tests were successful.
Sections of this report:
* Tester comments
* Program output
* Prerequisites
* Environment and other context
------------------------------
TESTER COMMENTS
------------------------------
Additional comments from tester:
this report is from an automated smoke testing program
and was not reviewed by a human for accuracy
------------------------------
PROGRAM OUTPUT
------------------------------
Output from './Build test':
t/00-compile.t ........................ ok
t/01basic.t ........................... ok
t/02load_xml.t ........................ ok
t/03simple_compare.t .................. ok
t/04namespaces.t ...................... ok
t/05simple_handler.t .................. ok
t/06pass_to_handler.t ................. ok
t/07pitest.t .......................... ok
t/08nonexist_ns.t ..................... ok
t/09two-tags.t ........................ ok
t/10wide-chars.t ...................... ok
t/11tag-in-different-locations.t ...... ok
t/12missing-element-has-o-as-cdata.t .. ok
t/13to-doc-read.t ..................... ok
t/14ignore_xpath.t .................... ok
t/15ignore_multi.t .................... ok
t/16zero_to_empty_str_cmp.t ........... ok
t/style-trailing-space.t .............. skipped: Test::TrailingSpace required for trailing space test.
All tests successful.
Files=18, Tests=47, 3 wallclock secs ( 0.09 usr 0.06 sys + 1.64 cusr 0.74 csys = 2.53 CPU)
Result: PASS
------------------------------
PREREQUISITES
------------------------------
Prerequisite modules loaded:
requires:
Module Need Have
------------- ----- --------
Digest::MD5 0 2.55
Encode 0 2.98
perl 5.008 5.018003
strict 0 1.07
warnings 0 1.18
XML::Parser 0 2.44
build_requires:
Module Need Have
------------- ----- --------
File::Spec 0 3.40
IO::Handle 0 1.39
IPC::Open3 0 1.13
Module::Build 0.28 0.4224
Test 0 1.26
Test::More 0.88 1.302140
configure_requires:
Module Need Have
------------- ----- --------
Module::Build 0.28 0.4224
------------------------------
ENVIRONMENT AND OTHER CONTEXT
------------------------------
Environment variables:
AUTOMATED_TESTING = 1
NONINTERACTIVE_TESTING = 1
PATH = /export/home/njh/perl5/perlbrew/bin:/export/home/njh/perl5/perlbrew/perls/perl-5.18.3-thread/bin:/export/home/njh/src/njh/smoker/bin:/usr/bin
PERL5LIB = /export/home/njh/.cpan/build/IO-stringy-2.111-21/blib/arch:/export/home/njh/.cpan/build/IO-stringy-2.111-21/blib/lib:/export/home/njh/.cpan/build/Mojolicious-8.11-21/blib/arch:/export/home/njh/.cpan/build/Mojolicious-8.11-21/blib/lib:/export/home/njh/.cpan/build/IO-Socket-IP-0.39-6/blib/arch:/export/home/njh/.cpan/build/IO-Socket-IP-0.39-6/blib/lib:/export/home/njh/.cpan/build/Image-Size-3.300-21/blib/arch:/export/home/njh/.cpan/build/Image-Size-3.300-21/blib/lib:/export/home/njh/.cpan/build/File-Rsync-0.49-21/blib/arch:/export/home/njh/.cpan/build/File-Rsync-0.49-21/blib/lib:/export/home/njh/.cpan/build/Data-Printer-0.40-21/blib/arch:/export/home/njh/.cpan/build/Data-Printer-0.40-21/blib/lib:/export/home/njh/.cpan/build/Sort-Naturally-1.03-21/blib/arch:/export/home/njh/.cpan/build/Sort-Naturally-1.03-21/blib/lib:/export/home/njh/.cpan/build/Clone-PP-1.07-21/blib/arch:/export/home/njh/.cpan/build/Clone-PP-1.07-21/blib/lib
PERL5OPT =
PERL5_CPANPLUS_IS_RUNNING = 27130
PERL5_CPAN_IS_RUNNING = 27130
PERLBREW_HOME = /export/home/njh/.perlbrew
PERLBREW_MANPATH = /export/home/njh/perl5/perlbrew/perls/perl-5.18.3-thread/man
PERLBREW_PATH = /export/home/njh/perl5/perlbrew/bin:/export/home/njh/perl5/perlbrew/perls/perl-5.18.3-thread/bin
PERLBREW_PERL = perl-5.18.3-thread
PERLBREW_ROOT = /export/home/njh/perl5/perlbrew
PERLBREW_SHELLRC_VERSION = 0.84
PERLBREW_VERSION = 0.84
PERL_MM_USE_DEFAULT = 1
SHELL = /usr/bin/sh
TERM = dumb
TMPDIR = /tmp/testwrapper.27117
Perl special variables (and OS-specific diagnostics, for MSWin32):
$^X = /export/home/njh/perl5/perlbrew/perls/perl-5.18.3-thread/bin/perl5.18.3
$UID/$EUID = 101 / 101
$GID = 10 10
$EGID = 10 10
Perl module toolchain versions installed:
Module Have
------------------- --------
CPAN 2.16
CPAN::Meta 2.150010
Cwd 3.40
ExtUtils::CBuilder 0.280230
ExtUtils::Command 7.34
ExtUtils::Install 2.14
ExtUtils::MakeMaker 7.34
ExtUtils::Manifest 1.71
ExtUtils::ParseXS 3.35
File::Spec 3.40
JSON 4.00
JSON::PP 2.97001
Module::Build 0.4224
Module::Signature n/a
Parse::CPAN::Meta 2.150010
Test::Harness 3.42
Test::More 1.302140
YAML 1.27
YAML::Syck 1.31
version 0.9924
--
Summary of my perl5 (revision 5 version 18 subversion 3) configuration:
Platform:
osname=solaris, osvers=2.11, archname=i86pc-solaris-thread-multi
uname='sunos vultr1.bandsman.co.uk 5.11 illumos-b075503f22 i86pc i386 i86pc '
config_args='-de -Dprefix=/export/home/njh/perl5/perlbrew/perls/perl-5.18.3-thread -Dusedevel -Dusethreads -Accflags= -Aeval:scriptdir=/export/home/njh/perl5/perlbrew/perls/perl-5.18.3-thread/bin'
hint=recommended, useposix=true, d_sigaction=define
useithreads=define, usemultiplicity=define
useperlio=define, d_sfio=undef, uselargefiles=define, usesocks=undef
use64bitint=undef, use64bitall=undef, uselongdouble=undef
usemymalloc=n, bincompat5005=undef
Compiler:
cc='/opt/SUNWspro/bin/cc', ccflags ='-D_REENTRANT -I/usr/gnu/include -D_LARGEFILE_SOURCE -D_FILE_OFFSET_BITS=64 -DPERL_USE_SAFE_PUTENV',
optimize='-O',
cppflags='-D_REENTRANT -I/usr/gnu/include'
ccversion='Sun C 5.10 SunOS_i386 2009/06/03', gccversion='', gccosandvers=''
intsize=4, longsize=4, ptrsize=4, doublesize=8, byteorder=1234
d_longlong=define, longlongsize=8, d_longdbl=define, longdblsize=12
ivtype='long', ivsize=4, nvtype='double', nvsize=8, Off_t='off_t', lseeksize=8
alignbytes=4, prototype=define
Linker and Libraries:
ld='/opt/SUNWspro/bin/cc', ldflags =' -L/usr/lib -L/usr/ccs/lib -L/opt/sunstudio12.1/prod/lib -L/lib -L/usr/gnu/lib '
libpth=/usr/lib /usr/ccs/lib /opt/sunstudio12.1/prod/lib /lib /usr/gnu/lib
libs=-lsocket -lnsl -lgdbm -ldb -ldl -lm -lpthread -lc
perllibs=-lsocket -lnsl -ldl -lm -lpthread -lc
libc=/lib/libc.so, so=so, useshrplib=true, libperl=libperl.so
gnulibc_version=''
Dynamic Linking:
dlsrc=dl_dlopen.xs, dlext=so, d_dlsymun=undef, ccdlflags=' -R /export/home/njh/perl5/perlbrew/perls/perl-5.18.3-thread/lib/5.18.3/i86pc-solaris-thread-multi/CORE'
cccdlflags='-KPIC', lddlflags='-G -L/usr/lib -L/usr/ccs/lib -L/opt/sunstudio12.1/prod/lib -L/lib -L/usr/gnu/lib'
Characteristics of this binary (from libperl):
Compile-time options: HAS_TIMES MULTIPLICITY PERLIO_LAYERS
PERL_DONT_CREATE_GVSV
PERL_HASH_FUNC_ONE_AT_A_TIME_HARD
PERL_IMPLICIT_CONTEXT PERL_MALLOC_WRAP
PERL_PRESERVE_IVUV PERL_SAWAMPERSAND PERL_USE_DEVEL
PERL_USE_SAFE_PUTENV USE_ITHREADS USE_LARGE_FILES
USE_LOCALE USE_LOCALE_COLLATE USE_LOCALE_CTYPE
USE_LOCALE_NUMERIC USE_PERLIO USE_PERL_ATOF
USE_REENTRANT_API
Locally applied patches:
Devel::PatchPerl 1.52
Built under solaris
Compiled at Sep 12 2018 21:51:23
%ENV:
PERL5LIB="/export/home/njh/.cpan/build/IO-stringy-2.111-21/blib/arch:/export/home/njh/.cpan/build/IO-stringy-2.111-21/blib/lib:/export/home/njh/.cpan/build/Mojolicious-8.11-21/blib/arch:/export/home/njh/.cpan/build/Mojolicious-8.11-21/blib/lib:/export/home/njh/.cpan/build/IO-Socket-IP-0.39-6/blib/arch:/export/home/njh/.cpan/build/IO-Socket-IP-0.39-6/blib/lib:/export/home/njh/.cpan/build/Image-Size-3.300-21/blib/arch:/export/home/njh/.cpan/build/Image-Size-3.300-21/blib/lib:/export/home/njh/.cpan/build/File-Rsync-0.49-21/blib/arch:/export/home/njh/.cpan/build/File-Rsync-0.49-21/blib/lib:/export/home/njh/.cpan/build/Data-Printer-0.40-21/blib/arch:/export/home/njh/.cpan/build/Data-Printer-0.40-21/blib/lib:/export/home/njh/.cpan/build/Sort-Naturally-1.03-21/blib/arch:/export/home/njh/.cpan/build/Sort-Naturally-1.03-21/blib/lib:/export/home/njh/.cpan/build/Clone-PP-1.07-21/blib/arch:/export/home/njh/.cpan/build/Clone-PP-1.07-21/blib/lib"
PERL5OPT=""
PERL5_CPANPLUS_IS_RUNNING="27130"
PERL5_CPAN_IS_RUNNING="27130"
PERLBREW_HOME="/export/home/njh/.perlbrew"
PERLBREW_MANPATH="/export/home/njh/perl5/perlbrew/perls/perl-5.18.3-thread/man"
PERLBREW_PATH="/export/home/njh/perl5/perlbrew/bin:/export/home/njh/perl5/perlbrew/perls/perl-5.18.3-thread/bin"
PERLBREW_PERL="perl-5.18.3-thread"
PERLBREW_ROOT="/export/home/njh/perl5/perlbrew"
PERLBREW_SHELLRC_VERSION="0.84"
PERLBREW_VERSION="0.84"
PERL_MM_USE_DEFAULT="1"
@INC:
/export/home/njh/.cpan/build/IO-stringy-2.111-21/blib/arch
/export/home/njh/.cpan/build/IO-stringy-2.111-21/blib/lib
/export/home/njh/.cpan/build/Mojolicious-8.11-21/blib/arch
/export/home/njh/.cpan/build/Mojolicious-8.11-21/blib/lib
/export/home/njh/.cpan/build/IO-Socket-IP-0.39-6/blib/arch
/export/home/njh/.cpan/build/IO-Socket-IP-0.39-6/blib/lib
/export/home/njh/.cpan/build/Image-Size-3.300-21/blib/arch
/export/home/njh/.cpan/build/Image-Size-3.300-21/blib/lib
/export/home/njh/.cpan/build/File-Rsync-0.49-21/blib/arch
/export/home/njh/.cpan/build/File-Rsync-0.49-21/blib/lib
/export/home/njh/.cpan/build/Data-Printer-0.40-21/blib/arch
/export/home/njh/.cpan/build/Data-Printer-0.40-21/blib/lib
/export/home/njh/.cpan/build/Sort-Naturally-1.03-21/blib/arch
/export/home/njh/.cpan/build/Sort-Naturally-1.03-21/blib/lib
/export/home/njh/.cpan/build/Clone-PP-1.07-21/blib/arch
/export/home/njh/.cpan/build/Clone-PP-1.07-21/blib/lib
/export/home/njh/perl5/perlbrew/perls/perl-5.18.3-thread/lib/site_perl/5.18.3/i86pc-solaris-thread-multi
/export/home/njh/perl5/perlbrew/perls/perl-5.18.3-thread/lib/site_perl/5.18.3
/export/home/njh/perl5/perlbrew/perls/perl-5.18.3-thread/lib/5.18.3/i86pc-solaris-thread-multi
/export/home/njh/perl5/perlbrew/perls/perl-5.18.3-thread/lib/5.18.3
.