App-perlmv v0.609 Perl 5 v5.22.2 amd64-freebsd

Status
Pass
From
Slaven Rezić
Dist
App-perlmv v0.609
Platform
Perl 5 v5.22.2 amd64-freebsd
Date
2024-02-28T15:53:06
ID
76d33b62-d651-11ee-b6c9-0b136e8775ea
This distribution has been tested as part of the CPAN Testers
project, supporting the Perl programming language.  See
http://wiki.cpantesters.org/ for more information or email
questions to cpan-testers-discuss@perl.org


--
Dear perlancar,

This is a computer-generated report for App-perlmv-0.609
on perl 5.22.2, created by CPAN-Reporter-1.2019.

Thank you for uploading your work to CPAN.  Congratulations!
All tests were successful.

Sections of this report:

    * Tester comments
    * Program output
    * Prerequisites
    * Environment and other context

------------------------------
TESTER COMMENTS
------------------------------

Additional comments from tester:

none provided

------------------------------
PROGRAM OUTPUT
------------------------------

Output from '/usr/bin/make test':

PERL_DL_NONLAZY=1 "/usr/perl5.22.2p/bin/perl" "-MExtUtils::Command::MM" "-MTest::Harness" "-e" "undef *Test::Harness::Switches; test_harness(0, 'blib/lib', 'blib/arch')" t/*.t
t/00-compile.t ........................... ok
t/author-critic.t ........................ skipped: these tests are for testing by the author
t/author-pod-coverage.t .................. skipped: these tests are for testing by the author
t/author-pod-syntax.t .................... skipped: these tests are for testing by the author
t/cp.t ................................... ok
t/ln.t ................................... ok
t/ln_s.t ................................. ok
t/mv.t ................................... ok
t/recursive.t ............................ skipped: TODO
t/release-rinci.t ........................ skipped: these tests are for release candidate testing
ERROR: rename failed `a` -> `b/c/d`: No such file or directory
ERROR: rename failed `a` -> `b/c/d`: No such file or directory
t/rename.t ............................... ok
t/scriptlets.t ........................... ok
t/std_scriptlets-dedup-space.t ........... ok
t/std_scriptlets-keep-one-ext.t .......... ok
t/std_scriptlets-pinyin.t ................ ok
t/std_scriptlets-remove-all-ext.t ........ ok
t/std_scriptlets-remove-common-prefix.t .. ok
t/std_scriptlets-remove-common-suffix.t .. ok
t/std_scriptlets-remove-ext.t ............ ok
t/std_scriptlets-to-number-ext.t ......... ok
t/std_scriptlets-to-number.t ............. ok
t/std_scriptlets-to-timestamp-ext.t ...... ok
t/std_scriptlets-to-timestamp.t .......... ok
t/std_scriptlets-trim.t .................. ok
unac_string: Useless use of function in void context
 at (eval 16) line 4.
unac_string: Useless use of function in void context
 at (eval 10) line 4.
t/std_scriptlets-unaccent.t .............. ok
All tests successful.
Files=25, Tests=86,  4 wallclock secs ( 0.04 usr  0.05 sys +  1.71 cusr  1.62 csys =  3.43 CPU)
Result: PASS

------------------------------
PREREQUISITES
------------------------------

Prerequisite modules loaded:

requires:

    Module                 Need     Have    
    ---------------------- -------- --------
    Complete::File         0.440    0.443   
    Complete::Util         0.616    0.618   
    Cwd                    0        3.75    
    Exporter               5.57     5.77    
    File::Copy             0        2.30    
    File::Find             0        1.29    
    File::Path             2.07     2.18    
    File::Slurper          0        0.012   
    File::Spec             0        3.75    
    File::Util::Test       0.628    0.631   
    Getopt::Long::Complete 0        0.312   
    Module::List::Tiny     0        0.004002
    perl                   5.010001 5.022002
    strict                 0        1.09    
    vars                   0        1.03    
    warnings               0        1.34    

build_requires:

    Module                 Need     Have    
    ---------------------- -------- --------
    ExtUtils::MakeMaker    0        7.70    
    File::Spec             0        3.75    
    File::Temp             0.2307   0.2311  
    FindBin                0        1.54    
    IO::Handle             0        1.55    
    IPC::Open3             0        1.18    
    Test::Exception        0        0.43    
    Test::More             0.98     1.302198
    Test::Needs            0        0.002010

configure_requires:

    Module                 Need     Have    
    ---------------------- -------- --------
    ExtUtils::MakeMaker    0        7.70    


------------------------------
ENVIRONMENT AND OTHER CONTEXT
------------------------------

Environment variables:

    LC_ALL = de_DE.ISO8859-1
    PATH = /usr/local/bin:/usr/bin:/bin:/usr/local/sbin:/usr/sbin:/sbin:/home/cpansand/bin/freebsd10.3:/home/cpansand/bin/sh:/home/cpansand/bin:/usr/games:/home/cpansand/devel:/home/eserte/src/srezic-misc/scripts
    PERL5LIB = 
    PERL5OPT = 
    PERL5_CPANPLUS_IS_RUNNING = 83142
    PERL5_CPAN_IS_RUNNING = 83142
    PERL5_CPAN_IS_RUNNING_IN_RECURSION = 55490,83142
    PERLDOC = -MPod::Perldoc::ToTextOverstrike
    PERL_BATCH = yes
    PERL_CANARY_STABILITY_NOPROMPT = 1
    PERL_CPAN_REPORTER_CONFIG = /var/tmp/cpansmoker-1023/2024022807/cpanreporter_000_config.ini
    PERL_EXTUTILS_AUTOINSTALL = --defaultdeps
    PERL_USE_UNSAFE_INC = 1
    SHELL = /usr/local/bin/zsh
    TERM = screen
    TMPDIR = /var/tmp/cpansmoker-1023/2024022807

Perl special variables (and OS-specific diagnostics, for MSWin32):

    $^X = /usr/perl5.22.2p/bin/perl
    $UID/$EUID = 1023 / 1023
    $GID = 1023 1023
    $EGID = 1023 1023

Perl module toolchain versions installed:

    Module              Have    
    ------------------- --------
    CPAN                2.34    
    CPAN::Meta          2.150010
    Cwd                 3.75    
    ExtUtils::CBuilder  0.280236
    ExtUtils::Command   7.70    
    ExtUtils::Install   2.22    
    ExtUtils::MakeMaker 7.70    
    ExtUtils::Manifest  1.75    
    ExtUtils::ParseXS   3.51    
    File::Spec          3.75    
    JSON                4.10    
    JSON::PP            4.16    
    Module::Build       0.4234  
    Module::Signature   0.87    
    Parse::CPAN::Meta   2.150010
    Test2               1.302198
    Test::Harness       3.47    
    Test::More          1.302198
    YAML                1.30    
    YAML::Syck          1.34    
    version             0.9930  


--

Summary of my perl5 (revision 5 version 22 subversion 2) configuration:
   
  Platform:
    osname=freebsd, osvers=10.1-release, archname=amd64-freebsd
    uname='freebsd cvrsnica-freebsd-101.herceg.de 10.1-release freebsd 10.1-release #0 r274401: tue nov 11 21:02:49 utc 2014 root@releng1.nyi.freebsd.org:usrobjusrsrcsysgeneric amd64 '
    config_args='-ds -e -Dprefix=/usr/perl5.22.2p -Dcf_email=srezic@cpan.org -Doptimize=-O2 -pipe'
    hint=recommended, useposix=true, d_sigaction=define
    useithreads=undef, usemultiplicity=undef
    use64bitint=define, use64bitall=define, uselongdouble=undef
    usemymalloc=n, bincompat5005=undef
  Compiler:
    cc='cc', ccflags ='-DHAS_FPSETMASK -DHAS_FLOATINGPOINT_H -fno-strict-aliasing -pipe -fstack-protector -I/usr/local/include -D_FORTIFY_SOURCE=2',
    optimize='-O2 -pipe',
    cppflags='-DHAS_FPSETMASK -DHAS_FLOATINGPOINT_H -fno-strict-aliasing -pipe -fstack-protector -I/usr/local/include'
    ccversion='', gccversion='4.2.1 Compatible FreeBSD Clang 3.4.1 (tags/RELEASE_34/dot1-final 208032)', gccosandvers=''
    intsize=4, longsize=8, ptrsize=8, doublesize=8, byteorder=12345678, doublekind=3
    d_longlong=define, longlongsize=8, d_longdbl=define, longdblsize=16, longdblkind=3
    ivtype='long', ivsize=8, nvtype='double', nvsize=8, Off_t='off_t', lseeksize=8
    alignbytes=8, prototype=define
  Linker and Libraries:
    ld='cc', ldflags ='-pthread -Wl,-E  -fstack-protector -L/usr/local/lib'
    libpth=/usr/lib /usr/local/lib /usr/include/clang/3.4.1 /usr/lib
    libs=-lpthread -lgdbm -lm -lcrypt -lutil -lc
    perllibs=-lpthread -lm -lcrypt -lutil -lc
    libc=, so=so, useshrplib=false, libperl=libperl.a
    gnulibc_version=''
  Dynamic Linking:
    dlsrc=dl_dlopen.xs, dlext=so, d_dlsymun=undef, ccdlflags=' '
    cccdlflags='-DPIC -fPIC', lddlflags='-shared  -L/usr/local/lib -fstack-protector'


Characteristics of this binary (from libperl): 
  Compile-time options: HAS_TIMES PERLIO_LAYERS PERL_DONT_CREATE_GVSV
                        PERL_HASH_FUNC_ONE_AT_A_TIME_HARD PERL_MALLOC_WRAP
                        PERL_NEW_COPY_ON_WRITE PERL_PRESERVE_IVUV
                        USE_64_BIT_ALL USE_64_BIT_INT USE_LARGE_FILES
                        USE_LOCALE USE_LOCALE_COLLATE USE_LOCALE_CTYPE
                        USE_LOCALE_NUMERIC USE_LOCALE_TIME USE_PERLIO
                        USE_PERL_ATOF
  Built under freebsd
  Compiled at May 29 2016 23:34:36
  %ENV:
    PERL5LIB=""
    PERL5OPT=""
    PERL5_CPANPLUS_IS_RUNNING="83142"
    PERL5_CPAN_IS_RUNNING="83142"
    PERL5_CPAN_IS_RUNNING_IN_RECURSION="55490,83142"
    PERLDOC="-MPod::Perldoc::ToTextOverstrike"
    PERL_BATCH="yes"
    PERL_CANARY_STABILITY_NOPROMPT="1"
    PERL_CPAN_REPORTER_CONFIG="/var/tmp/cpansmoker-1023/2024022807/cpanreporter_000_config.ini"
    PERL_EXTUTILS_AUTOINSTALL="--defaultdeps"
    PERL_USE_UNSAFE_INC="1"
  @INC:
    /usr/perl5.22.2p/lib/site_perl/5.22.2/amd64-freebsd
    /usr/perl5.22.2p/lib/site_perl/5.22.2
    /usr/perl5.22.2p/lib/5.22.2/amd64-freebsd
    /usr/perl5.22.2p/lib/5.22.2
    .