Mail-Mbox-MessageParser v1.5111 Perl 5 v5.40.0 x86_64-linux-thread-multi

Status
Pass
From
Andreas J. König (ANDK)
Dist
Mail-Mbox-MessageParser v1.5111
Platform
Perl 5 v5.40.0 x86_64-linux-thread-multi
Date
2024-06-16 17:32:53
ID
766c2476-2c06-11ef-9d3f-8a8f84f4ad7c
This distribution has been tested as part of the CPAN Testers
project, supporting the Perl programming language.  See
http://wiki.cpantesters.org/ for more information or email
questions to cpan-testers-discuss@perl.org


--
Dear David Coppit,

This is a computer-generated report for Mail-Mbox-MessageParser-1.5111
on perl 5.40.0, created by CPAN-Reporter-1.2019.

Thank you for uploading your work to CPAN.  Congratulations!
All tests were successful.

Sections of this report:

    * Tester comments
    * Program output
    * Prerequisites
    * Environment and other context

------------------------------
TESTER COMMENTS
------------------------------

Additional comments from tester:

this report is from an automated smoke testing program
and was not reviewed by a human for accuracy

------------------------------
PROGRAM OUTPUT
------------------------------

Output from '/usr/bin/make test':

PERL_DL_NONLAZY=1 "/tmp/basesmoker-reloperl-CxT1/bin/perl" "-MExtUtils::Command::MM" "-MTest::Harness" "-e" "undef *Test::Harness::Switches; test_harness(1, 'blib/lib', 'blib/arch')" t/*.t
t/000_standard__compile.t ....... 
1..6
ok 1 - blib/lib/Mail/Mbox/MessageParser.pm compiles
ok 2 - blib/lib/Mail/Mbox/MessageParser/Cache.pm compiles
ok 3 - blib/lib/Mail/Mbox/MessageParser/Config.pm compiles
ok 4 - blib/lib/Mail/Mbox/MessageParser/Grep.pm compiles
ok 5 - blib/lib/Mail/Mbox/MessageParser/MetaInfo.pm compiles
ok 6 - blib/lib/Mail/Mbox/MessageParser/Perl.pm compiles
ok
t/000_standard__perl_critic.t ... skipped: Author test. Set $ENV{TEST_AUTHOR} to a true value to run.
t/000_standard__pod.t ........... 
1..6
ok 1 - POD test for blib/lib/Mail/Mbox/MessageParser.pm
ok 2 - POD test for blib/lib/Mail/Mbox/MessageParser/Grep.pm
ok 3 - POD test for blib/lib/Mail/Mbox/MessageParser/Cache.pm
ok 4 - POD test for blib/lib/Mail/Mbox/MessageParser/Config.pm
ok 5 - POD test for blib/lib/Mail/Mbox/MessageParser/MetaInfo.pm
ok 6 - POD test for blib/lib/Mail/Mbox/MessageParser/Perl.pm
ok
t/000_standard__pod_coverage.t .. 
1..6
ok 1 - Pod coverage on Mail::Mbox::MessageParser
ok 2 - Pod coverage on Mail::Mbox::MessageParser::Grep
ok 3 - Pod coverage on Mail::Mbox::MessageParser::Cache
ok 4 - Pod coverage on Mail::Mbox::MessageParser::Config
ok 5 - Pod coverage on Mail::Mbox::MessageParser::MetaInfo
ok 6 - Pod coverage on Mail::Mbox::MessageParser::Perl
ok
t/appended_mailbox.t ............ 
1..6
Testing modified mailbox with Perl implementation
Comparing /tmp/v_OdvZRnCB to t/mailboxes/mailarc-1.txt
Output /tmp/v_OdvZRnCB looks good.
ok 1 - Computing differences
Testing modified mailbox with Cache implementation
Comparing /tmp/6LOtxfeTV9 to t/mailboxes/mailarc-1.txt
Output /tmp/6LOtxfeTV9 looks good.
ok 2 - Computing differences
Testing modified mailbox with Grep implementation
ok 3 # skip GNU grep not available
Testing modified mailbox with Perl implementation
Comparing /tmp/_dDtcpkLx3 to t/mailboxes/mailarc-1.txt
Output /tmp/_dDtcpkLx3 looks good.
ok 4 - Computing differences
Testing modified mailbox with Cache implementation
Comparing /tmp/9QJ4y3B2F9 to t/mailboxes/mailarc-1.txt
Output /tmp/9QJ4y3B2F9 looks good.
ok 5 - Computing differences
Testing modified mailbox with Grep implementation
ok 6 # skip GNU grep not available
ok
t/bzip2.t ....................... 
1..1
Running test:
  "/usr/bin/cat" "t/mailboxes/mailarc-2.txt.bz2" | "/usr/bin/bzip2" -cd
Comparing /tmp/hf0p02EFVW to t/results/mailarc-2.txt
Output /tmp/hf0p02EFVW looks good.
Comparing /tmp/WZMyhgB2QK to t/results/none
Output /tmp/WZMyhgB2QK looks good.
ok 1 - Computing differences
ok
t/endline.t ..................... 
1..8
Testing filename: t/mailboxes/mailarc-1-dos.txt
ok 1 - Dos endline expected
ok 2 - Dos endline expected
ok 3 - Dos endline expected
ok 4 # skip GNU grep not available
Testing filename: t/mailboxes/mailarc-1.txt
ok 5 - Unix endline expected
ok 6 - Unix endline expected
ok 7 - Unix endline expected
ok 8 # skip GNU grep not available
ok
t/filehandle_compressed.t ....... 
1..16
Testing filename: t/mailboxes/mailarc-2.txt.bz2
Comparing /tmp/HnZkFX2D7y to t/mailboxes/mailarc-2.txt
Output /tmp/HnZkFX2D7y looks good.
ok 1 - Computing differences
Comparing /tmp/erYfOuEZBa to t/mailboxes/mailarc-2.txt
Output /tmp/erYfOuEZBa looks good.
ok 2 - Computing differences
Comparing /tmp/I0KEsSCf9U to t/mailboxes/mailarc-2.txt
Output /tmp/I0KEsSCf9U looks good.
ok 3 - Computing differences
ok 4 # skip GNU grep not available
Testing filename: t/mailboxes/mailarc-2.txt.gz
Comparing /tmp/iqd0LHomLe to t/mailboxes/mailarc-2.txt
Output /tmp/iqd0LHomLe looks good.
ok 5 - Computing differences
Comparing /tmp/pprm4wGJxK to t/mailboxes/mailarc-2.txt
Output /tmp/pprm4wGJxK looks good.
ok 6 - Computing differences
Comparing /tmp/c7LQdbV19W to t/mailboxes/mailarc-2.txt
Output /tmp/c7LQdbV19W looks good.
ok 7 - Computing differences
ok 8 # skip GNU grep not available
Testing filename: t/mailboxes/mailarc-2.txt.lz
ok 9 # skip lzip not available
ok 10 # skip lzip not available
ok 11 # skip lzip not available
ok 12 # skip lzip not available
Testing filename: t/mailboxes/mailarc-2.txt.xz
Comparing /tmp/s7zBDgAV9c to t/mailboxes/mailarc-2.txt
Output /tmp/s7zBDgAV9c looks good.
ok 13 - Computing differences
Comparing /tmp/OPtY4bEbeG to t/mailboxes/mailarc-2.txt
Output /tmp/OPtY4bEbeG looks good.
ok 14 - Computing differences
Comparing /tmp/ia6bVy8FzA to t/mailboxes/mailarc-2.txt
Output /tmp/ia6bVy8FzA looks good.
ok 15 - Computing differences
ok 16 # skip GNU grep not available
ok
t/filehandle_noncompressed.t .... 
1..44
Testing filename: t/mailboxes/binary_body.txt
Comparing /tmp/68QHyQiak2 to t/mailboxes/binary_body.txt
Output /tmp/68QHyQiak2 looks good.
ok 1 - Computing differences
Comparing /tmp/2EokpqSi4p to t/mailboxes/binary_body.txt
Output /tmp/2EokpqSi4p looks good.
ok 2 - Computing differences
Comparing /tmp/T1Si4yi1So to t/mailboxes/binary_body.txt
Output /tmp/T1Si4yi1So looks good.
ok 3 - Computing differences
ok 4 # skip GNU grep not available
Testing filename: t/mailboxes/hessbug.txt
Comparing /tmp/WSvUYURD2y to t/mailboxes/hessbug.txt
Output /tmp/WSvUYURD2y looks good.
ok 5 - Computing differences
Comparing /tmp/8t0AT00Wki to t/mailboxes/hessbug.txt
Output /tmp/8t0AT00Wki looks good.
ok 6 - Computing differences
Comparing /tmp/rQ8v0MN7w2 to t/mailboxes/hessbug.txt
Output /tmp/rQ8v0MN7w2 looks good.
ok 7 - Computing differences
ok 8 # skip GNU grep not available
Testing filename: t/mailboxes/invalid-boundaries.txt
Comparing /tmp/Qbv7pyKIKh to t/mailboxes/invalid-boundaries.txt
Output /tmp/Qbv7pyKIKh looks good.
ok 9 - Computing differences
Comparing /tmp/DhuzsKrC_A to t/mailboxes/invalid-boundaries.txt
Output /tmp/DhuzsKrC_A looks good.
ok 10 - Computing differences
Comparing /tmp/OSXOLQvG1x to t/mailboxes/invalid-boundaries.txt
Output /tmp/OSXOLQvG1x looks good.
ok 11 - Computing differences
ok 12 # skip GNU grep not available
Testing filename: t/mailboxes/mailarc-1-dos.txt
Comparing /tmp/O3qvAb0bYu to t/mailboxes/mailarc-1-dos.txt
Output /tmp/O3qvAb0bYu looks good.
ok 13 - Computing differences
Comparing /tmp/DYSPLF4blo to t/mailboxes/mailarc-1-dos.txt
Output /tmp/DYSPLF4blo looks good.
ok 14 - Computing differences
Comparing /tmp/dwAxOtw9BC to t/mailboxes/mailarc-1-dos.txt
Output /tmp/dwAxOtw9BC looks good.
ok 15 - Computing differences
ok 16 # skip GNU grep not available
Testing filename: t/mailboxes/mailarc-1.txt
Comparing /tmp/M24YxbNI4R to t/mailboxes/mailarc-1.txt
Output /tmp/M24YxbNI4R looks good.
ok 17 - Computing differences
Comparing /tmp/uqw_3Lnvir to t/mailboxes/mailarc-1.txt
Output /tmp/uqw_3Lnvir looks good.
ok 18 - Computing differences
Comparing /tmp/qKa8QUqq5M to t/mailboxes/mailarc-1.txt
Output /tmp/qKa8QUqq5M looks good.
ok 19 - Computing differences
ok 20 # skip GNU grep not available
Testing filename: t/mailboxes/mailarc-2.txt
Comparing /tmp/ecJAftY7Xk to t/mailboxes/mailarc-2.txt
Output /tmp/ecJAftY7Xk looks good.
ok 21 - Computing differences
Comparing /tmp/8cE_noGhcJ to t/mailboxes/mailarc-2.txt
Output /tmp/8cE_noGhcJ looks good.
ok 22 - Computing differences
Comparing /tmp/GNBY0qe7ys to t/mailboxes/mailarc-2.txt
Output /tmp/GNBY0qe7ys looks good.
ok 23 - Computing differences
ok 24 # skip GNU grep not available
Testing filename: t/mailboxes/mailarc-3.txt
Comparing /tmp/EGXzrFOr2B to t/mailboxes/mailarc-3.txt
Output /tmp/EGXzrFOr2B looks good.
ok 25 - Computing differences
Comparing /tmp/53V9SNFXwG to t/mailboxes/mailarc-3.txt
Output /tmp/53V9SNFXwG looks good.
ok 26 - Computing differences
Comparing /tmp/oCds7Dp2Ib to t/mailboxes/mailarc-3.txt
Output /tmp/oCds7Dp2Ib looks good.
ok 27 - Computing differences
ok 28 # skip GNU grep not available
Testing filename: t/mailboxes/mailseparators.txt
Comparing /tmp/2FaGtl8jNh to t/mailboxes/mailseparators.txt
Output /tmp/2FaGtl8jNh looks good.
ok 29 - Computing differences
Comparing /tmp/J_88ZTc3Vs to t/mailboxes/mailseparators.txt
Output /tmp/J_88ZTc3Vs looks good.
ok 30 - Computing differences
Comparing /tmp/1pAlG9ZSrC to t/mailboxes/mailseparators.txt
Output /tmp/1pAlG9ZSrC looks good.
ok 31 - Computing differences
ok 32 # skip GNU grep not available
Testing filename: t/mailboxes/malformed.txt
Comparing /tmp/0SWEltzSBj to t/mailboxes/malformed.txt
Output /tmp/0SWEltzSBj looks good.
ok 33 - Computing differences
Comparing /tmp/viNKzp9Sz6 to t/mailboxes/malformed.txt
Output /tmp/viNKzp9Sz6 looks good.
ok 34 - Computing differences
Comparing /tmp/a2RgBV0McS to t/mailboxes/malformed.txt
Output /tmp/a2RgBV0McS looks good.
ok 35 - Computing differences
ok 36 # skip GNU grep not available
Testing filename: t/mailboxes/newlines_at_beginning.txt
Comparing /tmp/MZlIGfhPcC to t/mailboxes/newlines_at_beginning.txt
Output /tmp/MZlIGfhPcC looks good.
ok 37 - Computing differences
Comparing /tmp/kNBrHCB2Sf to t/mailboxes/newlines_at_beginning.txt
Output /tmp/kNBrHCB2Sf looks good.
ok 38 - Computing differences
Comparing /tmp/kssTqlXfvu to t/mailboxes/newlines_at_beginning.txt
Output /tmp/kssTqlXfvu looks good.
ok 39 - Computing differences
ok 40 # skip GNU grep not available
Testing filename: t/mailboxes/vm-emacs.txt
Comparing /tmp/bhDeafWVkN to t/mailboxes/vm-emacs.txt
Output /tmp/bhDeafWVkN looks good.
ok 41 - Computing differences
Comparing /tmp/Ny2ICs0geS to t/mailboxes/vm-emacs.txt
Output /tmp/Ny2ICs0geS looks good.
ok 42 - Computing differences
Comparing /tmp/CYCfwEtIy_ to t/mailboxes/vm-emacs.txt
Output /tmp/CYCfwEtIy_ looks good.
ok 43 - Computing differences
ok 44 # skip GNU grep not available
ok
t/filename_compressed.t ......... 
1..4
Testing filename: t/mailboxes/mailarc-2.txt.bz2
Comparing /tmp/_rYv7Mg8r2 to t/mailboxes/mailarc-2.txt
Output /tmp/_rYv7Mg8r2 looks good.
ok 1 - Computing differences
Testing filename: t/mailboxes/mailarc-2.txt.gz
Comparing /tmp/nnKh5e86xo to t/mailboxes/mailarc-2.txt
Output /tmp/nnKh5e86xo looks good.
ok 2 - Computing differences
Testing filename: t/mailboxes/mailarc-2.txt.lz
ok 3 # skip lzip not available
Testing filename: t/mailboxes/mailarc-2.txt.xz
Comparing /tmp/6k0p6xt9l6 to t/mailboxes/mailarc-2.txt
Output /tmp/6k0p6xt9l6 looks good.
ok 4 - Computing differences
ok
t/filename_noncompressed.t ...... 
1..11
Testing filename: t/mailboxes/binary_body.txt
Comparing /tmp/ki8O2t65oP to t/mailboxes/binary_body.txt
Output /tmp/ki8O2t65oP looks good.
ok 1 - Computing differences
Testing filename: t/mailboxes/hessbug.txt
Comparing /tmp/3ZU4jqGY9R to t/mailboxes/hessbug.txt
Output /tmp/3ZU4jqGY9R looks good.
ok 2 - Computing differences
Testing filename: t/mailboxes/invalid-boundaries.txt
Comparing /tmp/ij1ErLe0b2 to t/mailboxes/invalid-boundaries.txt
Output /tmp/ij1ErLe0b2 looks good.
ok 3 - Computing differences
Testing filename: t/mailboxes/mailarc-1-dos.txt
Comparing /tmp/gRhCHxfoc4 to t/mailboxes/mailarc-1-dos.txt
Output /tmp/gRhCHxfoc4 looks good.
ok 4 - Computing differences
Testing filename: t/mailboxes/mailarc-1.txt
Comparing /tmp/8qpLoFrMx5 to t/mailboxes/mailarc-1.txt
Output /tmp/8qpLoFrMx5 looks good.
ok 5 - Computing differences
Testing filename: t/mailboxes/mailarc-2.txt
Comparing /tmp/Fs3VPtCCZz to t/mailboxes/mailarc-2.txt
Output /tmp/Fs3VPtCCZz looks good.
ok 6 - Computing differences
Testing filename: t/mailboxes/mailarc-3.txt
Comparing /tmp/19sFLp_GfD to t/mailboxes/mailarc-3.txt
Output /tmp/19sFLp_GfD looks good.
ok 7 - Computing differences
Testing filename: t/mailboxes/mailseparators.txt
Comparing /tmp/l9eVKHXYtG to t/mailboxes/mailseparators.txt
Output /tmp/l9eVKHXYtG looks good.
ok 8 - Computing differences
Testing filename: t/mailboxes/malformed.txt
Comparing /tmp/9Y64psqpu3 to t/mailboxes/malformed.txt
Output /tmp/9Y64psqpu3 looks good.
ok 9 - Computing differences
Testing filename: t/mailboxes/newlines_at_beginning.txt
Comparing /tmp/z_aDiNFqpm to t/mailboxes/newlines_at_beginning.txt
Output /tmp/z_aDiNFqpm looks good.
ok 10 - Computing differences
Testing filename: t/mailboxes/vm-emacs.txt
Comparing /tmp/SvFhCScv_E to t/mailboxes/vm-emacs.txt
Output /tmp/SvFhCScv_E looks good.
ok 11 - Computing differences
ok
t/grep.t ........................ 
1..4
Running test:
  unset LC_ALL LC_COLLATE LANG LC_CTYPE LC_MESSAGES; grep --extended-regexp --line-number --byte-offset --binary-files=text "^From [^:]+(:[0-9][0-9]){1,2}(  *([A-Z]{2,6}|[+-]?[0-9]{4})){1,3}( remote from .*)?
?$" t/mailboxes/mailarc-1.txt
ok 1 # skip 1
Running test:
  unset LC_ALL LC_COLLATE LANG LC_CTYPE LC_MESSAGES; grep --extended-regexp --line-number --byte-offset --binary-files=text "^From [^:]+(:[0-9][0-9]){1,2}(  *([A-Z]{2,6}|[+-]?[0-9]{4})){1,3}( remote from .*)?
?$" t/mailboxes/mailarc-2.txt
ok 2 # skip 1
Running test:
  unset LC_ALL LC_COLLATE LANG LC_CTYPE LC_MESSAGES; grep --extended-regexp --line-number --byte-offset --binary-files=text "^From [^:]+(:[0-9][0-9]){1,2}(  *([A-Z]{2,6}|[+-]?[0-9]{4})){1,3}( remote from .*)?
?$" t/mailboxes/mailarc-3.txt
ok 3 # skip 1
Running test:
  unset LC_ALL LC_COLLATE LANG LC_CTYPE LC_MESSAGES; grep --extended-regexp --line-number --byte-offset --binary-files=text "^From [^:]+(:[0-9][0-9]){1,2}(  *([A-Z]{2,6}|[+-]?[0-9]{4})){1,3}( remote from .*)?
?$" t/mailboxes/mailseparators.txt
ok 4 # skip 1
ok
t/gzip.t ........................ 
1..1
Running test:
  "/usr/bin/cat" "t/mailboxes/mailarc-2.txt.gz" | "/usr/bin/gzip" -cd
Comparing /tmp/_nP4NFgp58 to t/results/mailarc-2.txt
Output /tmp/_nP4NFgp58 looks good.
Comparing /tmp/3krtvJrZuq to t/results/none
Output /tmp/3krtvJrZuq looks good.
ok 1 - Computing differences
ok
t/length.t ...................... 
1..30
Testing filename: t/mailboxes/binary_body.txt
Comparing /tmp/viwEvoAEH4 to t/results/length_binary_body.stdout
Output /tmp/viwEvoAEH4 looks good.
ok 1 - Computing differences
Comparing /tmp/OAtn_V_Pae to t/results/length_binary_body.stdout
Output /tmp/OAtn_V_Pae looks good.
ok 2 - Computing differences
ok 3 # skip GNU grep not available
Testing filename: t/mailboxes/hessbug.txt
Comparing /tmp/Wr1gCKy1Th to t/results/length_hessbug.stdout
Output /tmp/Wr1gCKy1Th looks good.
ok 4 - Computing differences
Comparing /tmp/g16bsYdjzb to t/results/length_hessbug.stdout
Output /tmp/g16bsYdjzb looks good.
ok 5 - Computing differences
ok 6 # skip GNU grep not available
Testing filename: t/mailboxes/invalid-boundaries.txt
Comparing /tmp/GWt9fqBOIj to t/results/length_invalid-boundaries.stdout
Output /tmp/GWt9fqBOIj looks good.
ok 7 - Computing differences
Comparing /tmp/vBNZg30_Dv to t/results/length_invalid-boundaries.stdout
Output /tmp/vBNZg30_Dv looks good.
ok 8 - Computing differences
ok 9 # skip GNU grep not available
Testing filename: t/mailboxes/mailarc-1-dos.txt
Comparing /tmp/JYFcCC8cN2 to t/results/length_mailarc-1-dos.stdout
Output /tmp/JYFcCC8cN2 looks good.
ok 10 - Computing differences
Comparing /tmp/UB3edZwNmS to t/results/length_mailarc-1-dos.stdout
Output /tmp/UB3edZwNmS looks good.
ok 11 - Computing differences
ok 12 # skip GNU grep not available
Testing filename: t/mailboxes/mailarc-1.txt
Comparing /tmp/jPehwdLCmu to t/results/length_mailarc-1.stdout
Output /tmp/jPehwdLCmu looks good.
ok 13 - Computing differences
Comparing /tmp/fW93N7rU7w to t/results/length_mailarc-1.stdout
Output /tmp/fW93N7rU7w looks good.
ok 14 - Computing differences
ok 15 # skip GNU grep not available
Testing filename: t/mailboxes/mailarc-2.txt
Comparing /tmp/0K_7rFPYH7 to t/results/length_mailarc-2.stdout
Output /tmp/0K_7rFPYH7 looks good.
ok 16 - Computing differences
Comparing /tmp/D4ZG5swXM9 to t/results/length_mailarc-2.stdout
Output /tmp/D4ZG5swXM9 looks good.
ok 17 - Computing differences
ok 18 # skip GNU grep not available
Testing filename: t/mailboxes/mailarc-3.txt
Comparing /tmp/Le1rtm7sMt to t/results/length_mailarc-3.stdout
Output /tmp/Le1rtm7sMt looks good.
ok 19 - Computing differences
Comparing /tmp/Qkpsx3xTnx to t/results/length_mailarc-3.stdout
Output /tmp/Qkpsx3xTnx looks good.
ok 20 - Computing differences
ok 21 # skip GNU grep not available
Testing filename: t/mailboxes/mailseparators.txt
Comparing /tmp/bRy0r7_Dy5 to t/results/length_mailseparators.stdout
Output /tmp/bRy0r7_Dy5 looks good.
ok 22 - Computing differences
Comparing /tmp/5IQDaCBhRA to t/results/length_mailseparators.stdout
Output /tmp/5IQDaCBhRA looks good.
ok 23 - Computing differences
ok 24 # skip GNU grep not available
Testing filename: t/mailboxes/malformed.txt
Comparing /tmp/nawi3aByXq to t/results/length_malformed.stdout
Output /tmp/nawi3aByXq looks good.
ok 25 - Computing differences
Comparing /tmp/BuT9aLK2me to t/results/length_malformed.stdout
Output /tmp/BuT9aLK2me looks good.
ok 26 - Computing differences
ok 27 # skip GNU grep not available
Testing filename: t/mailboxes/newlines_at_beginning.txt
Comparing /tmp/D1FBIJvGFj to t/results/length_newlines_at_beginning.stdout
Output /tmp/D1FBIJvGFj looks good.
ok 28 - Computing differences
Comparing /tmp/lieklwNxMI to t/results/length_newlines_at_beginning.stdout
Output /tmp/lieklwNxMI looks good.
ok 29 - Computing differences
ok 30 # skip GNU grep not available
ok
t/line_number.t ................. 
1..30
Testing filename: t/mailboxes/binary_body.txt
Comparing /tmp/8nvbKE8j9X to t/results/line_number_binary_body.stdout
Output /tmp/8nvbKE8j9X looks good.
ok 1 - Computing differences
Comparing /tmp/cFQizRKJIV to t/results/line_number_binary_body.stdout
Output /tmp/cFQizRKJIV looks good.
ok 2 - Computing differences
ok 3 # skip GNU grep not available
Testing filename: t/mailboxes/hessbug.txt
Comparing /tmp/QRfoLugzpi to t/results/line_number_hessbug.stdout
Output /tmp/QRfoLugzpi looks good.
ok 4 - Computing differences
Comparing /tmp/ue8KMu83AT to t/results/line_number_hessbug.stdout
Output /tmp/ue8KMu83AT looks good.
ok 5 - Computing differences
ok 6 # skip GNU grep not available
Testing filename: t/mailboxes/invalid-boundaries.txt
Comparing /tmp/DBncHHSsVo to t/results/line_number_invalid-boundaries.stdout
Output /tmp/DBncHHSsVo looks good.
ok 7 - Computing differences
Comparing /tmp/kgmNK4V2bl to t/results/line_number_invalid-boundaries.stdout
Output /tmp/kgmNK4V2bl looks good.
ok 8 - Computing differences
ok 9 # skip GNU grep not available
Testing filename: t/mailboxes/mailarc-1-dos.txt
Comparing /tmp/EBWSw1j27C to t/results/line_number_mailarc-1-dos.stdout
Output /tmp/EBWSw1j27C looks good.
ok 10 - Computing differences
Comparing /tmp/wNanJr73cY to t/results/line_number_mailarc-1-dos.stdout
Output /tmp/wNanJr73cY looks good.
ok 11 - Computing differences
ok 12 # skip GNU grep not available
Testing filename: t/mailboxes/mailarc-1.txt
Comparing /tmp/ndGKgCN_AL to t/results/line_number_mailarc-1.stdout
Output /tmp/ndGKgCN_AL looks good.
ok 13 - Computing differences
Comparing /tmp/US1_3AQgNv to t/results/line_number_mailarc-1.stdout
Output /tmp/US1_3AQgNv looks good.
ok 14 - Computing differences
ok 15 # skip GNU grep not available
Testing filename: t/mailboxes/mailarc-2.txt
Comparing /tmp/t0sqxVRUEL to t/results/line_number_mailarc-2.stdout
Output /tmp/t0sqxVRUEL looks good.
ok 16 - Computing differences
Comparing /tmp/CvwgaEBzEz to t/results/line_number_mailarc-2.stdout
Output /tmp/CvwgaEBzEz looks good.
ok 17 - Computing differences
ok 18 # skip GNU grep not available
Testing filename: t/mailboxes/mailarc-3.txt
Comparing /tmp/YpYYeNu5Qz to t/results/line_number_mailarc-3.stdout
Output /tmp/YpYYeNu5Qz looks good.
ok 19 - Computing differences
Comparing /tmp/vVjJQKj802 to t/results/line_number_mailarc-3.stdout
Output /tmp/vVjJQKj802 looks good.
ok 20 - Computing differences
ok 21 # skip GNU grep not available
Testing filename: t/mailboxes/mailseparators.txt
Comparing /tmp/OQpTx5HpBL to t/results/line_number_mailseparators.stdout
Output /tmp/OQpTx5HpBL looks good.
ok 22 - Computing differences
Comparing /tmp/LlgPslCzsC to t/results/line_number_mailseparators.stdout
Output /tmp/LlgPslCzsC looks good.
ok 23 - Computing differences
ok 24 # skip GNU grep not available
Testing filename: t/mailboxes/malformed.txt
Comparing /tmp/_RY__W6_2a to t/results/line_number_malformed.stdout
Output /tmp/_RY__W6_2a looks good.
ok 25 - Computing differences
Comparing /tmp/CI6iItBp0p to t/results/line_number_malformed.stdout
Output /tmp/CI6iItBp0p looks good.
ok 26 - Computing differences
ok 27 # skip GNU grep not available
Testing filename: t/mailboxes/newlines_at_beginning.txt
Comparing /tmp/R6hFc4xakT to t/results/line_number_newlines_at_beginning.stdout
Output /tmp/R6hFc4xakT looks good.
ok 28 - Computing differences
Comparing /tmp/hm6BPflgQK to t/results/line_number_newlines_at_beginning.stdout
Output /tmp/hm6BPflgQK looks good.
ok 29 - Computing differences
ok 30 # skip GNU grep not available
ok
t/lzip.t ........................ 
1..1
Running test:
  "/usr/bin/cat" "t/mailboxes/mailarc-2.txt.lz" | "lzip" -cd
ok 1 # skip lzip not available
ok
t/number.t ...................... 
1..30
Testing filename: t/mailboxes/binary_body.txt
Comparing /tmp/NJuY6JfgLG to t/results/number_binary_body.stdout
Output /tmp/NJuY6JfgLG looks good.
ok 1 - Computing differences
Comparing /tmp/YMvdAJwuVE to t/results/number_binary_body.stdout
Output /tmp/YMvdAJwuVE looks good.
ok 2 - Computing differences
ok 3 # skip GNU grep not available
Testing filename: t/mailboxes/hessbug.txt
Comparing /tmp/CU9akLI4hB to t/results/number_hessbug.stdout
Output /tmp/CU9akLI4hB looks good.
ok 4 - Computing differences
Comparing /tmp/ptTF4CJsgw to t/results/number_hessbug.stdout
Output /tmp/ptTF4CJsgw looks good.
ok 5 - Computing differences
ok 6 # skip GNU grep not available
Testing filename: t/mailboxes/invalid-boundaries.txt
Comparing /tmp/tPBaj77kb8 to t/results/number_invalid-boundaries.stdout
Output /tmp/tPBaj77kb8 looks good.
ok 7 - Computing differences
Comparing /tmp/Rc4RtBdD0a to t/results/number_invalid-boundaries.stdout
Output /tmp/Rc4RtBdD0a looks good.
ok 8 - Computing differences
ok 9 # skip GNU grep not available
Testing filename: t/mailboxes/mailarc-1-dos.txt
Comparing /tmp/NBtmR50GNN to t/results/number_mailarc-1-dos.stdout
Output /tmp/NBtmR50GNN looks good.
ok 10 - Computing differences
Comparing /tmp/A0UrGh4xDB to t/results/number_mailarc-1-dos.stdout
Output /tmp/A0UrGh4xDB looks good.
ok 11 - Computing differences
ok 12 # skip GNU grep not available
Testing filename: t/mailboxes/mailarc-1.txt
Comparing /tmp/BRASBxRuSc to t/results/number_mailarc-1.stdout
Output /tmp/BRASBxRuSc looks good.
ok 13 - Computing differences
Comparing /tmp/IQXn7QhspX to t/results/number_mailarc-1.stdout
Output /tmp/IQXn7QhspX looks good.
ok 14 - Computing differences
ok 15 # skip GNU grep not available
Testing filename: t/mailboxes/mailarc-2.txt
Comparing /tmp/xYhOoKzFjt to t/results/number_mailarc-2.stdout
Output /tmp/xYhOoKzFjt looks good.
ok 16 - Computing differences
Comparing /tmp/Me0KWHaAZT to t/results/number_mailarc-2.stdout
Output /tmp/Me0KWHaAZT looks good.
ok 17 - Computing differences
ok 18 # skip GNU grep not available
Testing filename: t/mailboxes/mailarc-3.txt
Comparing /tmp/hsQAkKd_Qg to t/results/number_mailarc-3.stdout
Output /tmp/hsQAkKd_Qg looks good.
ok 19 - Computing differences
Comparing /tmp/1JT4M3ZR8o to t/results/number_mailarc-3.stdout
Output /tmp/1JT4M3ZR8o looks good.
ok 20 - Computing differences
ok 21 # skip GNU grep not available
Testing filename: t/mailboxes/mailseparators.txt
Comparing /tmp/mT2o7BWkw2 to t/results/number_mailseparators.stdout
Output /tmp/mT2o7BWkw2 looks good.
ok 22 - Computing differences
Comparing /tmp/BvkmYrC6XF to t/results/number_mailseparators.stdout
Output /tmp/BvkmYrC6XF looks good.
ok 23 - Computing differences
ok 24 # skip GNU grep not available
Testing filename: t/mailboxes/malformed.txt
Comparing /tmp/PBbu4UssqB to t/results/number_malformed.stdout
Output /tmp/PBbu4UssqB looks good.
ok 25 - Computing differences
Comparing /tmp/gEPAiCZQ0R to t/results/number_malformed.stdout
Output /tmp/gEPAiCZQ0R looks good.
ok 26 - Computing differences
ok 27 # skip GNU grep not available
Testing filename: t/mailboxes/newlines_at_beginning.txt
Comparing /tmp/onjS5ZAg9l to t/results/number_newlines_at_beginning.stdout
Output /tmp/onjS5ZAg9l looks good.
ok 28 - Computing differences
Comparing /tmp/z2liKzJqX9 to t/results/number_newlines_at_beginning.stdout
Output /tmp/z2liKzJqX9 looks good.
ok 29 - Computing differences
ok 30 # skip GNU grep not available
ok
t/offset.t ...................... 
1..30
Testing filename: t/mailboxes/binary_body.txt
Comparing /tmp/UPn0sTpEdu to t/results/offset_binary_body.stdout
Output /tmp/UPn0sTpEdu looks good.
ok 1 - Computing differences
Comparing /tmp/Wcn3pl4Oy6 to t/results/offset_binary_body.stdout
Output /tmp/Wcn3pl4Oy6 looks good.
ok 2 - Computing differences
ok 3 # skip GNU grep not available
Testing filename: t/mailboxes/hessbug.txt
Comparing /tmp/rvGSfxZHrR to t/results/offset_hessbug.stdout
Output /tmp/rvGSfxZHrR looks good.
ok 4 - Computing differences
Comparing /tmp/zZ8Pv5wL5C to t/results/offset_hessbug.stdout
Output /tmp/zZ8Pv5wL5C looks good.
ok 5 - Computing differences
ok 6 # skip GNU grep not available
Testing filename: t/mailboxes/invalid-boundaries.txt
Comparing /tmp/4qANLBPgfS to t/results/offset_invalid-boundaries.stdout
Output /tmp/4qANLBPgfS looks good.
ok 7 - Computing differences
Comparing /tmp/wYPxJMVwF4 to t/results/offset_invalid-boundaries.stdout
Output /tmp/wYPxJMVwF4 looks good.
ok 8 - Computing differences
ok 9 # skip GNU grep not available
Testing filename: t/mailboxes/mailarc-1-dos.txt
Comparing /tmp/n6dSqGCYZj to t/results/offset_mailarc-1-dos.stdout
Output /tmp/n6dSqGCYZj looks good.
ok 10 - Computing differences
Comparing /tmp/GZagPJQdr0 to t/results/offset_mailarc-1-dos.stdout
Output /tmp/GZagPJQdr0 looks good.
ok 11 - Computing differences
ok 12 # skip GNU grep not available
Testing filename: t/mailboxes/mailarc-1.txt
Comparing /tmp/B2caYhlVdu to t/results/offset_mailarc-1.stdout
Output /tmp/B2caYhlVdu looks good.
ok 13 - Computing differences
Comparing /tmp/fPnMIMEGtB to t/results/offset_mailarc-1.stdout
Output /tmp/fPnMIMEGtB looks good.
ok 14 - Computing differences
ok 15 # skip GNU grep not available
Testing filename: t/mailboxes/mailarc-2.txt
Comparing /tmp/t5oEX3osf_ to t/results/offset_mailarc-2.stdout
Output /tmp/t5oEX3osf_ looks good.
ok 16 - Computing differences
Comparing /tmp/KZMeyaUEzf to t/results/offset_mailarc-2.stdout
Output /tmp/KZMeyaUEzf looks good.
ok 17 - Computing differences
ok 18 # skip GNU grep not available
Testing filename: t/mailboxes/mailarc-3.txt
Comparing /tmp/4cupXr7H04 to t/results/offset_mailarc-3.stdout
Output /tmp/4cupXr7H04 looks good.
ok 19 - Computing differences
Comparing /tmp/OUo1LtqTcA to t/results/offset_mailarc-3.stdout
Output /tmp/OUo1LtqTcA looks good.
ok 20 - Computing differences
ok 21 # skip GNU grep not available
Testing filename: t/mailboxes/mailseparators.txt
Comparing /tmp/LQcv5eytep to t/results/offset_mailseparators.stdout
Output /tmp/LQcv5eytep looks good.
ok 22 - Computing differences
Comparing /tmp/aUaBLxazXI to t/results/offset_mailseparators.stdout
Output /tmp/aUaBLxazXI looks good.
ok 23 - Computing differences
ok 24 # skip GNU grep not available
Testing filename: t/mailboxes/malformed.txt
Comparing /tmp/eufuHwV1rK to t/results/offset_malformed.stdout
Output /tmp/eufuHwV1rK looks good.
ok 25 - Computing differences
Comparing /tmp/mRVQZ_IOZ4 to t/results/offset_malformed.stdout
Output /tmp/mRVQZ_IOZ4 looks good.
ok 26 - Computing differences
ok 27 # skip GNU grep not available
Testing filename: t/mailboxes/newlines_at_beginning.txt
Comparing /tmp/mg4pnWDC0p to t/results/offset_newlines_at_beginning.stdout
Output /tmp/mg4pnWDC0p looks good.
ok 28 - Computing differences
Comparing /tmp/uuWXjixjmi to t/results/offset_newlines_at_beginning.stdout
Output /tmp/uuWXjixjmi looks good.
ok 29 - Computing differences
ok 30 # skip GNU grep not available
ok
t/prologue.t .................... 
1..33
Testing filename: t/mailboxes/binary_body.txt
Comparing /tmp/KMCX3k2cZw to t/mailboxes/binary_body.txt
Output /tmp/KMCX3k2cZw looks good.
ok 1 - Computing differences
Comparing /tmp/X6wb5Tx0ue to t/mailboxes/binary_body.txt
Output /tmp/X6wb5Tx0ue looks good.
ok 2 - Computing differences
ok 3 # skip GNU grep not available
Testing filename: t/mailboxes/hessbug.txt
Comparing /tmp/6V1r8qHdcH to t/mailboxes/hessbug.txt
Output /tmp/6V1r8qHdcH looks good.
ok 4 - Computing differences
Comparing /tmp/s83iojj8oG to t/mailboxes/hessbug.txt
Output /tmp/s83iojj8oG looks good.
ok 5 - Computing differences
ok 6 # skip GNU grep not available
Testing filename: t/mailboxes/invalid-boundaries.txt
Comparing /tmp/jbozLkLb0K to t/mailboxes/invalid-boundaries.txt
Output /tmp/jbozLkLb0K looks good.
ok 7 - Computing differences
Comparing /tmp/Kgq_oRIthu to t/mailboxes/invalid-boundaries.txt
Output /tmp/Kgq_oRIthu looks good.
ok 8 - Computing differences
ok 9 # skip GNU grep not available
Testing filename: t/mailboxes/mailarc-1-dos.txt
Comparing /tmp/7krO7lRtjC to t/mailboxes/mailarc-1-dos.txt
Output /tmp/7krO7lRtjC looks good.
ok 10 - Computing differences
Comparing /tmp/3btPlNYxC5 to t/mailboxes/mailarc-1-dos.txt
Output /tmp/3btPlNYxC5 looks good.
ok 11 - Computing differences
ok 12 # skip GNU grep not available
Testing filename: t/mailboxes/mailarc-1.txt
Comparing /tmp/Ad6VrUxBmQ to t/mailboxes/mailarc-1.txt
Output /tmp/Ad6VrUxBmQ looks good.
ok 13 - Computing differences
Comparing /tmp/Ynqtt9DCjw to t/mailboxes/mailarc-1.txt
Output /tmp/Ynqtt9DCjw looks good.
ok 14 - Computing differences
ok 15 # skip GNU grep not available
Testing filename: t/mailboxes/mailarc-2.txt
Comparing /tmp/ZhDtND6h_R to t/mailboxes/mailarc-2.txt
Output /tmp/ZhDtND6h_R looks good.
ok 16 - Computing differences
Comparing /tmp/KBkhXQ0gLd to t/mailboxes/mailarc-2.txt
Output /tmp/KBkhXQ0gLd looks good.
ok 17 - Computing differences
ok 18 # skip GNU grep not available
Testing filename: t/mailboxes/mailarc-3.txt
Comparing /tmp/amNnKj50pR to t/mailboxes/mailarc-3.txt
Output /tmp/amNnKj50pR looks good.
ok 19 - Computing differences
Comparing /tmp/7eaFigmHFy to t/mailboxes/mailarc-3.txt
Output /tmp/7eaFigmHFy looks good.
ok 20 - Computing differences
ok 21 # skip GNU grep not available
Testing filename: t/mailboxes/mailseparators.txt
Comparing /tmp/6irj7Vzj8z to t/mailboxes/mailseparators.txt
Output /tmp/6irj7Vzj8z looks good.
ok 22 - Computing differences
Comparing /tmp/lOpk60bciU to t/mailboxes/mailseparators.txt
Output /tmp/lOpk60bciU looks good.
ok 23 - Computing differences
ok 24 # skip GNU grep not available
Testing filename: t/mailboxes/malformed.txt
Comparing /tmp/qqvkdFR20a to t/mailboxes/malformed.txt
Output /tmp/qqvkdFR20a looks good.
ok 25 - Computing differences
Comparing /tmp/NlqhlzykW_ to t/mailboxes/malformed.txt
Output /tmp/NlqhlzykW_ looks good.
ok 26 - Computing differences
ok 27 # skip GNU grep not available
Testing filename: t/mailboxes/newlines_at_beginning.txt
Comparing /tmp/X_NERp5diI to t/mailboxes/newlines_at_beginning.txt
Output /tmp/X_NERp5diI looks good.
ok 28 - Computing differences
Comparing /tmp/sQ2R0IqjBh to t/mailboxes/newlines_at_beginning.txt
Output /tmp/sQ2R0IqjBh looks good.
ok 29 - Computing differences
ok 30 # skip GNU grep not available
Testing filename: t/mailboxes/vm-emacs.txt
Comparing /tmp/xCzVG_KLYM to t/mailboxes/vm-emacs.txt
Output /tmp/xCzVG_KLYM looks good.
ok 31 - Computing differences
Comparing /tmp/slXBFXdM9O to t/mailboxes/vm-emacs.txt
Output /tmp/slXBFXdM9O looks good.
ok 32 - Computing differences
ok 33 # skip GNU grep not available
ok
t/reset.t ....................... 
1..60
Testing filename: t/mailboxes/binary_body.txt
Testing partial mailbox reset with Perl implementation
Comparing /tmp/NspzU0u1OX to t/results/reset_binary_body.stdout
Output /tmp/NspzU0u1OX looks good.
ok 1 - Computing differences
Testing partial mailbox reset with Cache implementation
Comparing /tmp/HflX8rktt6 to t/results/reset_binary_body.stdout
Output /tmp/HflX8rktt6 looks good.
ok 2 - Computing differences
Testing partial mailbox reset with Grep implementation
ok 3 # skip GNU grep not available
Testing full mailbox reset with Perl implementation
Comparing /tmp/gcpWB5h7Aj to t/results/reset_binary_body.stdout
Output /tmp/gcpWB5h7Aj looks good.
ok 4 - Computing differences
Testing full mailbox reset with Cache implementation
Comparing /tmp/WC2xgnv2rb to t/results/reset_binary_body.stdout
Output /tmp/WC2xgnv2rb looks good.
ok 5 - Computing differences
Testing full mailbox reset with Grep implementation
ok 6 # skip GNU grep not available
Testing filename: t/mailboxes/hessbug.txt
Testing partial mailbox reset with Perl implementation
Comparing /tmp/hhkcK55zPr to t/results/reset_hessbug.stdout
Output /tmp/hhkcK55zPr looks good.
ok 7 - Computing differences
Testing partial mailbox reset with Cache implementation
Comparing /tmp/YBBSAPmW2O to t/results/reset_hessbug.stdout
Output /tmp/YBBSAPmW2O looks good.
ok 8 - Computing differences
Testing partial mailbox reset with Grep implementation
ok 9 # skip GNU grep not available
Testing full mailbox reset with Perl implementation
Comparing /tmp/MjsLJRqUA1 to t/results/reset_hessbug.stdout
Output /tmp/MjsLJRqUA1 looks good.
ok 10 - Computing differences
Testing full mailbox reset with Cache implementation
Comparing /tmp/NPLq2gXRr9 to t/results/reset_hessbug.stdout
Output /tmp/NPLq2gXRr9 looks good.
ok 11 - Computing differences
Testing full mailbox reset with Grep implementation
ok 12 # skip GNU grep not available
Testing filename: t/mailboxes/invalid-boundaries.txt
Testing partial mailbox reset with Perl implementation
Comparing /tmp/gB0pbBxeTx to t/results/reset_invalid-boundaries.stdout
Output /tmp/gB0pbBxeTx looks good.
ok 13 - Computing differences
Testing partial mailbox reset with Cache implementation
Comparing /tmp/SjxkdxzImA to t/results/reset_invalid-boundaries.stdout
Output /tmp/SjxkdxzImA looks good.
ok 14 - Computing differences
Testing partial mailbox reset with Grep implementation
ok 15 # skip GNU grep not available
Testing full mailbox reset with Perl implementation
Comparing /tmp/42zyErxXVO to t/results/reset_invalid-boundaries.stdout
Output /tmp/42zyErxXVO looks good.
ok 16 - Computing differences
Testing full mailbox reset with Cache implementation
Comparing /tmp/Fjk621FxgE to t/results/reset_invalid-boundaries.stdout
Output /tmp/Fjk621FxgE looks good.
ok 17 - Computing differences
Testing full mailbox reset with Grep implementation
ok 18 # skip GNU grep not available
Testing filename: t/mailboxes/mailarc-1-dos.txt
Testing partial mailbox reset with Perl implementation
Comparing /tmp/dNDDncIeQW to t/results/reset_mailarc-1-dos.stdout
Output /tmp/dNDDncIeQW looks good.
ok 19 - Computing differences
Testing partial mailbox reset with Cache implementation
Comparing /tmp/4nQAMOcyOh to t/results/reset_mailarc-1-dos.stdout
Output /tmp/4nQAMOcyOh looks good.
ok 20 - Computing differences
Testing partial mailbox reset with Grep implementation
ok 21 # skip GNU grep not available
Testing full mailbox reset with Perl implementation
Comparing /tmp/rXqaI9kK1M to t/results/reset_mailarc-1-dos.stdout
Output /tmp/rXqaI9kK1M looks good.
ok 22 - Computing differences
Testing full mailbox reset with Cache implementation
Comparing /tmp/xDrq42DT7u to t/results/reset_mailarc-1-dos.stdout
Output /tmp/xDrq42DT7u looks good.
ok 23 - Computing differences
Testing full mailbox reset with Grep implementation
ok 24 # skip GNU grep not available
Testing filename: t/mailboxes/mailarc-1.txt
Testing partial mailbox reset with Perl implementation
Comparing /tmp/7NL3VJKUd2 to t/results/reset_mailarc-1.stdout
Output /tmp/7NL3VJKUd2 looks good.
ok 25 - Computing differences
Testing partial mailbox reset with Cache implementation
Comparing /tmp/JFbQNlsarZ to t/results/reset_mailarc-1.stdout
Output /tmp/JFbQNlsarZ looks good.
ok 26 - Computing differences
Testing partial mailbox reset with Grep implementation
ok 27 # skip GNU grep not available
Testing full mailbox reset with Perl implementation
Comparing /tmp/a4cu0vNdG0 to t/results/reset_mailarc-1.stdout
Output /tmp/a4cu0vNdG0 looks good.
ok 28 - Computing differences
Testing full mailbox reset with Cache implementation
Comparing /tmp/Vzk7PdswFG to t/results/reset_mailarc-1.stdout
Output /tmp/Vzk7PdswFG looks good.
ok 29 - Computing differences
Testing full mailbox reset with Grep implementation
ok 30 # skip GNU grep not available
Testing filename: t/mailboxes/mailarc-2.txt
Testing partial mailbox reset with Perl implementation
Comparing /tmp/ao_VJiNbtT to t/results/reset_mailarc-2.stdout
Output /tmp/ao_VJiNbtT looks good.
ok 31 - Computing differences
Testing partial mailbox reset with Cache implementation
Comparing /tmp/DpdCtOP1d2 to t/results/reset_mailarc-2.stdout
Output /tmp/DpdCtOP1d2 looks good.
ok 32 - Computing differences
Testing partial mailbox reset with Grep implementation
ok 33 # skip GNU grep not available
Testing full mailbox reset with Perl implementation
Comparing /tmp/5x9ZIN2xfM to t/results/reset_mailarc-2.stdout
Output /tmp/5x9ZIN2xfM looks good.
ok 34 - Computing differences
Testing full mailbox reset with Cache implementation
Comparing /tmp/rrqeuscp_w to t/results/reset_mailarc-2.stdout
Output /tmp/rrqeuscp_w looks good.
ok 35 - Computing differences
Testing full mailbox reset with Grep implementation
ok 36 # skip GNU grep not available
Testing filename: t/mailboxes/mailarc-3.txt
Testing partial mailbox reset with Perl implementation
Comparing /tmp/BeJvpxPj_A to t/results/reset_mailarc-3.stdout
Output /tmp/BeJvpxPj_A looks good.
ok 37 - Computing differences
Testing partial mailbox reset with Cache implementation
Comparing /tmp/muA1bnImYX to t/results/reset_mailarc-3.stdout
Output /tmp/muA1bnImYX looks good.
ok 38 - Computing differences
Testing partial mailbox reset with Grep implementation
ok 39 # skip GNU grep not available
Testing full mailbox reset with Perl implementation
Comparing /tmp/zCs2MabeiZ to t/results/reset_mailarc-3.stdout
Output /tmp/zCs2MabeiZ looks good.
ok 40 - Computing differences
Testing full mailbox reset with Cache implementation
Comparing /tmp/ZPz_GJeDBb to t/results/reset_mailarc-3.stdout
Output /tmp/ZPz_GJeDBb looks good.
ok 41 - Computing differences
Testing full mailbox reset with Grep implementation
ok 42 # skip GNU grep not available
Testing filename: t/mailboxes/mailseparators.txt
Testing partial mailbox reset with Perl implementation
Comparing /tmp/rKw34WBUZ2 to t/results/reset_mailseparators.stdout
Output /tmp/rKw34WBUZ2 looks good.
ok 43 - Computing differences
Testing partial mailbox reset with Cache implementation
Comparing /tmp/v_PHnqsu57 to t/results/reset_mailseparators.stdout
Output /tmp/v_PHnqsu57 looks good.
ok 44 - Computing differences
Testing partial mailbox reset with Grep implementation
ok 45 # skip GNU grep not available
Testing full mailbox reset with Perl implementation
Comparing /tmp/ZBMcWDnTMm to t/results/reset_mailseparators.stdout
Output /tmp/ZBMcWDnTMm looks good.
ok 46 - Computing differences
Testing full mailbox reset with Cache implementation
Comparing /tmp/eCtT_ypRWY to t/results/reset_mailseparators.stdout
Output /tmp/eCtT_ypRWY looks good.
ok 47 - Computing differences
Testing full mailbox reset with Grep implementation
ok 48 # skip GNU grep not available
Testing filename: t/mailboxes/malformed.txt
Testing partial mailbox reset with Perl implementation
Comparing /tmp/I05eiywEAB to t/results/reset_malformed.stdout
Output /tmp/I05eiywEAB looks good.
ok 49 - Computing differences
Testing partial mailbox reset with Cache implementation
Comparing /tmp/aduy1QCT78 to t/results/reset_malformed.stdout
Output /tmp/aduy1QCT78 looks good.
ok 50 - Computing differences
Testing partial mailbox reset with Grep implementation
ok 51 # skip GNU grep not available
Testing full mailbox reset with Perl implementation
Comparing /tmp/63QsZt6RaK to t/results/reset_malformed.stdout
Output /tmp/63QsZt6RaK looks good.
ok 52 - Computing differences
Testing full mailbox reset with Cache implementation
Comparing /tmp/rhA6Wn2W9v to t/results/reset_malformed.stdout
Output /tmp/rhA6Wn2W9v looks good.
ok 53 - Computing differences
Testing full mailbox reset with Grep implementation
ok 54 # skip GNU grep not available
Testing filename: t/mailboxes/newlines_at_beginning.txt
Testing partial mailbox reset with Perl implementation
Comparing /tmp/TdiP3wWqGr to t/results/reset_newlines_at_beginning.stdout
Output /tmp/TdiP3wWqGr looks good.
ok 55 - Computing differences
Testing partial mailbox reset with Cache implementation
Comparing /tmp/a5ZNWcNzBv to t/results/reset_newlines_at_beginning.stdout
Output /tmp/a5ZNWcNzBv looks good.
ok 56 - Computing differences
Testing partial mailbox reset with Grep implementation
ok 57 # skip GNU grep not available
Testing full mailbox reset with Perl implementation
Comparing /tmp/EDyLg4M9kx to t/results/reset_newlines_at_beginning.stdout
Output /tmp/EDyLg4M9kx looks good.
ok 58 - Computing differences
Testing full mailbox reset with Cache implementation
Comparing /tmp/KQcuyVgOHy to t/results/reset_newlines_at_beginning.stdout
Output /tmp/KQcuyVgOHy looks good.
ok 59 - Computing differences
Testing full mailbox reset with Grep implementation
ok 60 # skip GNU grep not available
ok
t/separators.t .................. 
1..6
Testing filename: t/mailboxes/separators1.sep
ok 1 - Number of emails in t/mailboxes/separators1.sep
ok 2 - Number of emails in t/mailboxes/separators1.sep
ok 3 # skip GNU grep not available
Testing filename: t/mailboxes/separators2.sep
ok 4 - Number of emails in t/mailboxes/separators2.sep
ok 5 - Number of emails in t/mailboxes/separators2.sep
ok 6 # skip GNU grep not available
ok
t/stdin_compressed.t ............ 
1..4
Testing filename: t/mailboxes/mailarc-2.txt.bz2
Comparing /tmp/VB4yNxNVyG to t/mailboxes/mailarc-2.txt
Output /tmp/VB4yNxNVyG looks good.
ok 1 - Computing differences
Testing filename: t/mailboxes/mailarc-2.txt.gz
Comparing /tmp/J78PFewYju to t/mailboxes/mailarc-2.txt
Output /tmp/J78PFewYju looks good.
ok 2 - Computing differences
Testing filename: t/mailboxes/mailarc-2.txt.lz
ok 3 # skip lzip not available
Testing filename: t/mailboxes/mailarc-2.txt.xz
Comparing /tmp/SNJBHvIZKL to t/mailboxes/mailarc-2.txt
Output /tmp/SNJBHvIZKL looks good.
ok 4 - Computing differences
ok
t/stdin_uncompressed.t .......... 
1..11
Testing filename: t/mailboxes/binary_body.txt
Comparing /tmp/XF9eStc5Ve to t/mailboxes/binary_body.txt
Output /tmp/XF9eStc5Ve looks good.
ok 1 - Computing differences
Testing filename: t/mailboxes/hessbug.txt
Comparing /tmp/YkDy7l90qA to t/mailboxes/hessbug.txt
Output /tmp/YkDy7l90qA looks good.
ok 2 - Computing differences
Testing filename: t/mailboxes/invalid-boundaries.txt
Comparing /tmp/Vtjr9jjbZ5 to t/mailboxes/invalid-boundaries.txt
Output /tmp/Vtjr9jjbZ5 looks good.
ok 3 - Computing differences
Testing filename: t/mailboxes/mailarc-1-dos.txt
Comparing /tmp/KfKFSO28gY to t/mailboxes/mailarc-1-dos.txt
Output /tmp/KfKFSO28gY looks good.
ok 4 - Computing differences
Testing filename: t/mailboxes/mailarc-1.txt
Comparing /tmp/QO4m1OrG8z to t/mailboxes/mailarc-1.txt
Output /tmp/QO4m1OrG8z looks good.
ok 5 - Computing differences
Testing filename: t/mailboxes/mailarc-2.txt
Comparing /tmp/yF5IlK3GeE to t/mailboxes/mailarc-2.txt
Output /tmp/yF5IlK3GeE looks good.
ok 6 - Computing differences
Testing filename: t/mailboxes/mailarc-3.txt
Comparing /tmp/snkp6E8dfy to t/mailboxes/mailarc-3.txt
Output /tmp/snkp6E8dfy looks good.
ok 7 - Computing differences
Testing filename: t/mailboxes/mailseparators.txt
Comparing /tmp/CTZcyXjGIE to t/mailboxes/mailseparators.txt
Output /tmp/CTZcyXjGIE looks good.
ok 8 - Computing differences
Testing filename: t/mailboxes/malformed.txt
Comparing /tmp/pMCScI4AyR to t/mailboxes/malformed.txt
Output /tmp/pMCScI4AyR looks good.
ok 9 - Computing differences
Testing filename: t/mailboxes/newlines_at_beginning.txt
Comparing /tmp/mjZf32ZQIa to t/mailboxes/newlines_at_beginning.txt
Output /tmp/mjZf32ZQIa looks good.
ok 10 - Computing differences
Testing filename: t/mailboxes/vm-emacs.txt
Comparing /tmp/b2qbYEC478 to t/mailboxes/vm-emacs.txt
Output /tmp/b2qbYEC478 looks good.
ok 11 - Computing differences
ok
t/undef_return_value.t .......... 
1..33
Testing Perl 
Comparing /tmp/oSI3x7XktV to t/mailboxes/binary_body.txt
Output /tmp/oSI3x7XktV looks good.
ok 1 - Computing differences
Testing Cache implementation
Comparing /tmp/pLPbdr4UM1 to t/mailboxes/binary_body.txt
Output /tmp/pLPbdr4UM1 looks good.
ok 2 - Computing differences
ok 3 # skip GNU grep not available
Testing Perl 
Comparing /tmp/mO4vEuSlqt to t/mailboxes/hessbug.txt
Output /tmp/mO4vEuSlqt looks good.
ok 4 - Computing differences
Testing Cache implementation
Comparing /tmp/11bG_ZatUK to t/mailboxes/hessbug.txt
Output /tmp/11bG_ZatUK looks good.
ok 5 - Computing differences
ok 6 # skip GNU grep not available
Testing Perl 
Comparing /tmp/Cs5qLkc5kT to t/mailboxes/invalid-boundaries.txt
Output /tmp/Cs5qLkc5kT looks good.
ok 7 - Computing differences
Testing Cache implementation
Comparing /tmp/QOWx817L58 to t/mailboxes/invalid-boundaries.txt
Output /tmp/QOWx817L58 looks good.
ok 8 - Computing differences
ok 9 # skip GNU grep not available
Testing Perl 
Comparing /tmp/3C7DPCAt6r to t/mailboxes/mailarc-1-dos.txt
Output /tmp/3C7DPCAt6r looks good.
ok 10 - Computing differences
Testing Cache implementation
Comparing /tmp/wh1UB79qi7 to t/mailboxes/mailarc-1-dos.txt
Output /tmp/wh1UB79qi7 looks good.
ok 11 - Computing differences
ok 12 # skip GNU grep not available
Testing Perl 
Comparing /tmp/f_F8Sx0qZR to t/mailboxes/mailarc-1.txt
Output /tmp/f_F8Sx0qZR looks good.
ok 13 - Computing differences
Testing Cache implementation
Comparing /tmp/yXICYM3TAK to t/mailboxes/mailarc-1.txt
Output /tmp/yXICYM3TAK looks good.
ok 14 - Computing differences
ok 15 # skip GNU grep not available
Testing Perl 
Comparing /tmp/AHkn5DhJVr to t/mailboxes/mailarc-2.txt
Output /tmp/AHkn5DhJVr looks good.
ok 16 - Computing differences
Testing Cache implementation
Comparing /tmp/pSwGnRErrv to t/mailboxes/mailarc-2.txt
Output /tmp/pSwGnRErrv looks good.
ok 17 - Computing differences
ok 18 # skip GNU grep not available
Testing Perl 
Comparing /tmp/0Q9EvDaLHN to t/mailboxes/mailarc-3.txt
Output /tmp/0Q9EvDaLHN looks good.
ok 19 - Computing differences
Testing Cache implementation
Comparing /tmp/R1js_19DMf to t/mailboxes/mailarc-3.txt
Output /tmp/R1js_19DMf looks good.
ok 20 - Computing differences
ok 21 # skip GNU grep not available
Testing Perl 
Comparing /tmp/E0PcB2Dtp0 to t/mailboxes/mailseparators.txt
Output /tmp/E0PcB2Dtp0 looks good.
ok 22 - Computing differences
Testing Cache implementation
Comparing /tmp/UGWkDShETo to t/mailboxes/mailseparators.txt
Output /tmp/UGWkDShETo looks good.
ok 23 - Computing differences
ok 24 # skip GNU grep not available
Testing Perl 
Comparing /tmp/shh5v9UlZ2 to t/mailboxes/malformed.txt
Output /tmp/shh5v9UlZ2 looks good.
ok 25 - Computing differences
Testing Cache implementation
Comparing /tmp/QCMjsPxeJJ to t/mailboxes/malformed.txt
Output /tmp/QCMjsPxeJJ looks good.
ok 26 - Computing differences
ok 27 # skip GNU grep not available
Testing Perl 
Comparing /tmp/syfpLYCrta to t/mailboxes/newlines_at_beginning.txt
Output /tmp/syfpLYCrta looks good.
ok 28 - Computing differences
Testing Cache implementation
Comparing /tmp/mVSvFY2JwL to t/mailboxes/newlines_at_beginning.txt
Output /tmp/mVSvFY2JwL looks good.
ok 29 - Computing differences
ok 30 # skip GNU grep not available
Testing Perl 
Comparing /tmp/jbQpINpa1u to t/mailboxes/vm-emacs.txt
Output /tmp/jbQpINpa1u looks good.
ok 31 - Computing differences
Testing Cache implementation
Comparing /tmp/T877ZmyEn9 to t/mailboxes/vm-emacs.txt
Output /tmp/T877ZmyEn9 looks good.
ok 32 - Computing differences
ok 33 # skip GNU grep not available
ok
t/xz.t .......................... 
1..1
Running test:
  "/usr/bin/cat" "t/mailboxes/mailarc-2.txt.xz" | "/usr/bin/xz" -cd
Comparing /tmp/upmlrT5bt7 to t/results/mailarc-2.txt
Output /tmp/upmlrT5bt7 looks good.
Comparing /tmp/eL6Ey476CU to t/results/none
Output /tmp/eL6Ey476CU looks good.
ok 1 - Computing differences
ok
All tests successful.
Files=25, Tests=382,  6 wallclock secs ( 0.16 usr  0.05 sys +  4.26 cusr  1.24 csys =  5.71 CPU)
Result: PASS

------------------------------
PREREQUISITES
------------------------------

Prerequisite modules loaded:

requires:

    Module              Need  Have    
    ------------------- ----- --------
    FileHandle::Unget   0     0.1634  
    perl                5.005 5.040000
    Storable            0     3.32    

build_requires:

    Module              Need  Have    
    ------------------- ----- --------
    ExtUtils::MakeMaker 6.36  7.70    
    File::Path          2.08  2.18    
    File::Slurper       0     0.014   
    Test::Compile       0     v3.3.3  
    Test::More          0     1.302199
    Text::Diff          0     1.45    
    UNIVERSAL::require  0     0.19    
    URI::Escape         0     5.28    

configure_requires:

    Module              Need  Have    
    ------------------- ----- --------
    ExtUtils::MakeMaker 6.36  7.70    
    URI::Escape         0     5.28    


------------------------------
ENVIRONMENT AND OTHER CONTEXT
------------------------------

Environment variables:

    AUTOMATED_TESTING = 1
    LANG = en_US.UTF-8
    LC_ADDRESS = de_DE.UTF-8
    LC_IDENTIFICATION = de_DE.UTF-8
    LC_MEASUREMENT = de_DE.UTF-8
    LC_MONETARY = de_DE.UTF-8
    LC_NAME = de_DE.UTF-8
    LC_NUMERIC = de_DE.UTF-8
    LC_PAPER = de_DE.UTF-8
    LC_TELEPHONE = de_DE.UTF-8
    LC_TIME = de_DE.UTF-8
    PATH = /home/sand/bin:/usr/local/bin:/usr/local/sbin:/usr/sbin:/usr/bin:/sbin:/bin:/usr/games:/usr/local/games:/snap/bin:/usr/local/perl/bin:/usr/X11/bin
    PERL = /tmp/basesmoker-reloperl-CxT1/bin/perl
    PERL5LIB = /tmp/loop_over_bdir-2623-8CpJOC/Debian-Packages-0.03-0/blib/arch:/tmp/loop_over_bdir-2623-8CpJOC/Debian-Packages-0.03-0/blib/lib:/tmp/loop_over_bdir-2623-8CpJOC/CORBA-Python-2.66-0/blib/arch:/tmp/loop_over_bdir-2623-8CpJOC/CORBA-Python-2.66-0/blib/lib:/tmp/loop_over_bdir-2623-8CpJOC/dta-tokwrap-0.98-0/blib/arch:/tmp/loop_over_bdir-2623-8CpJOC/dta-tokwrap-0.98-0/blib/lib:/tmp/loop_over_bdir-2623-8CpJOC/triceps-2.1.0-0/blib/arch:/tmp/loop_over_bdir-2623-8CpJOC/triceps-2.1.0-0/blib/lib:/tmp/loop_over_bdir-2623-8CpJOC/MP3-PodcastFetch-1.05-0/blib/arch:/tmp/loop_over_bdir-2623-8CpJOC/MP3-PodcastFetch-1.05-0/blib/lib:/tmp/loop_over_bdir-2623-8CpJOC/LiquidWeb-Storm-CLI-1.03-0/blib/arch:/tmp/loop_over_bdir-2623-8CpJOC/LiquidWeb-Storm-CLI-1.03-0/blib/lib:/tmp/loop_over_bdir-2623-8CpJOC/Devel-Required-0.16-0/blib/arch:/tmp/loop_over_bdir-2623-8CpJOC/Devel-Required-0.16-0/blib/lib:/tmp/loop_over_bdir-2623-8CpJOC/DBIx-Migration-Directories-0.12-0/blib/arch:/tmp/loop_over_bdir-2623-8CpJOC/DBIx-Migration-Directories-0.12-0/blib/lib:/tmp/loop_over_bdir-2623-8CpJOC/RDF-NLP-SPARQLQuery-0.1-0/blib/arch:/tmp/loop_over_bdir-2623-8CpJOC/RDF-NLP-SPARQLQuery-0.1-0/blib/lib:/tmp/loop_over_bdir-2623-8CpJOC/AllKnowingDNS-1.7-0/blib/arch:/tmp/loop_over_bdir-2623-8CpJOC/AllKnowingDNS-1.7-0/blib/lib:/tmp/loop_over_bdir-2623-8CpJOC/Lingua-BioYaTeA-0.11-0/blib/arch:/tmp/loop_over_bdir-2623-8CpJOC/Lingua-BioYaTeA-0.11-0/blib/lib:/tmp/loop_over_bdir-2623-8CpJOC/Lingua-YaTeA-0.626-0/blib/arch:/tmp/loop_over_bdir-2623-8CpJOC/Lingua-YaTeA-0.626-0/blib/lib:/tmp/loop_over_bdir-2623-8CpJOC/Linux-InitFS-0.2-0/blib/arch:/tmp/loop_over_bdir-2623-8CpJOC/Linux-InitFS-0.2-0/blib/lib:/tmp/loop_over_bdir-2623-8CpJOC/perl-Hardware-UPS-Perl-0.43-0/blib/arch:/tmp/loop_over_bdir-2623-8CpJOC/perl-Hardware-UPS-Perl-0.43-0/blib/lib:/tmp/loop_over_bdir-2623-8CpJOC/mmds-1.902-0/blib/arch:/tmp/loop_over_bdir-2623-8CpJOC/mmds-1.902-0/blib/lib:/tmp/loop_over_bdir-2623-8CpJOC/Simulation-Automate-1.0.1-0/blib/arch:/tmp/loop_over_bdir-2623-8CpJOC/Simulation-Automate-1.0.1-0/blib/lib:/tmp/loop_over_bdir-2623-8CpJOC/Dpkg-1.22.6-0/blib/arch:/tmp/loop_over_bdir-2623-8CpJOC/Dpkg-1.22.6-0/blib/lib
    PERL5OPT = 
    PERL5_CPANPLUS_IS_RUNNING = 2631
    PERL5_CPAN_IS_RUNNING = 2631
    PERL_CANARY_STABILITY_NOPROMPT = 1
    PERL_MM_USE_DEFAULT = 1
    PERL_USE_UNSAFE_INC = 1
    SHELL = /usr/bin/zsh
    TERM = screen

Perl special variables (and OS-specific diagnostics, for MSWin32):

    $^X = /tmp/basesmoker-reloperl-CxT1/bin/perl
    $UID/$EUID = 1005 / 1005
    $GID = 1005 1005
    $EGID = 1005 1005

Perl module toolchain versions installed:

    Module              Have    
    ------------------- --------
    CPAN                2.36    
    CPAN::Meta          2.150010
    Cwd                 3.90    
    ExtUtils::CBuilder  0.280240
    ExtUtils::Command   7.70    
    ExtUtils::Install   2.22    
    ExtUtils::MakeMaker 7.70    
    ExtUtils::Manifest  1.75    
    ExtUtils::ParseXS   3.51    
    File::Spec          3.90    
    JSON                4.10    
    JSON::PP            4.16    
    Module::Build       0.4234  
    Module::Signature   0.88    
    Parse::CPAN::Meta   2.150010
    Test2               1.302199
    Test::Harness       3.48    
    Test::More          1.302199
    YAML                1.31    
    YAML::Syck          1.34    
    version             0.9932  


--

Summary of my perl5 (revision 5 version 40 subversion 0) configuration:
  Commit id: f22a16ecf4821b7e93d2569f630817a2631fddd9
  Platform:
    osname=linux
    osvers=6.5.0-35-generic
    archname=x86_64-linux-thread-multi
    uname='linux k93jammy 6.5.0-35-generic #35~22.04.1-ubuntu smp preempt_dynamic tue may 7 09:00:52 utc 2 x86_64 x86_64 x86_64 gnulinux '
    config_args='-Dprefix=/home/sand/src/perl/repoperls/installed-perls/host/k93jammy/v5.40.0/b4f3 -Dmyhostname=k93jammy -Dinstallusrbinperl=n -Uversiononly -Dusedevel -des -Ui_db -Dlibswanted=cl pthread socket inet nsl gdbm dbm malloc dl ld sun m crypt sec util c cposix posix ucb BSD gdbm_compat -Duseithreads -Uuselongdouble -DEBUGGING=-g'
    hint=recommended
    useposix=true
    d_sigaction=define
    useithreads=define
    usemultiplicity=define
    use64bitint=define
    use64bitall=define
    uselongdouble=undef
    usemymalloc=n
    default_inc_excludes_dot=define
  Compiler:
    cc='cc'
    ccflags ='-D_REENTRANT -D_GNU_SOURCE -fwrapv -fno-strict-aliasing -pipe -fstack-protector-strong -I/usr/local/include -D_LARGEFILE_SOURCE -D_FILE_OFFSET_BITS=64'
    optimize='-O2 -g'
    cppflags='-D_REENTRANT -D_GNU_SOURCE -fwrapv -fno-strict-aliasing -pipe -fstack-protector-strong -I/usr/local/include'
    ccversion=''
    gccversion='11.4.0'
    gccosandvers=''
    intsize=4
    longsize=8
    ptrsize=8
    doublesize=8
    byteorder=12345678
    doublekind=3
    d_longlong=define
    longlongsize=8
    d_longdbl=define
    longdblsize=16
    longdblkind=3
    ivtype='long'
    ivsize=8
    nvtype='double'
    nvsize=8
    Off_t='off_t'
    lseeksize=8
    alignbytes=8
    prototype=define
  Linker and Libraries:
    ld='cc'
    ldflags =' -fstack-protector-strong -L/usr/local/lib'
    libpth=/usr/local/lib /usr/lib/x86_64-linux-gnu /usr/lib /usr/lib64
    libs=-lpthread -lnsl -ldl -lm -lcrypt -lutil -lc
    perllibs=-lpthread -lnsl -ldl -lm -lcrypt -lutil -lc
    libc=/lib/x86_64-linux-gnu/libc.so.6
    so=so
    useshrplib=false
    libperl=libperl.a
    gnulibc_version='2.35'
  Dynamic Linking:
    dlsrc=dl_dlopen.xs
    dlext=so
    d_dlsymun=undef
    ccdlflags='-Wl,-E'
    cccdlflags='-fPIC'
    lddlflags='-shared -O2 -g -L/usr/local/lib -fstack-protector-strong'


Characteristics of this binary (from libperl): 
  Compile-time options:
    HAS_LONG_DOUBLE
    HAS_STRTOLD
    HAS_TIMES
    MULTIPLICITY
    PERLIO_LAYERS
    PERL_COPY_ON_WRITE
    PERL_DONT_CREATE_GVSV
    PERL_HASH_FUNC_SIPHASH13
    PERL_HASH_USE_SBOX32
    PERL_MALLOC_WRAP
    PERL_OP_PARENT
    PERL_PRESERVE_IVUV
    PERL_USE_DEVEL
    PERL_USE_SAFE_PUTENV
    USE_64_BIT_ALL
    USE_64_BIT_INT
    USE_ITHREADS
    USE_LARGE_FILES
    USE_LOCALE
    USE_LOCALE_COLLATE
    USE_LOCALE_CTYPE
    USE_LOCALE_NUMERIC
    USE_LOCALE_TIME
    USE_PERLIO
    USE_PERL_ATOF
    USE_REENTRANT_API
    USE_THREAD_SAFE_LOCALE
  Built under linux
  Compiled at Jun 11 2024 04:44:22
  %ENV:
    PERL="/tmp/basesmoker-reloperl-CxT1/bin/perl"
    PERL5LIB="/tmp/loop_over_bdir-2623-8CpJOC/Debian-Packages-0.03-0/blib/arch:/tmp/loop_over_bdir-2623-8CpJOC/Debian-Packages-0.03-0/blib/lib:/tmp/loop_over_bdir-2623-8CpJOC/CORBA-Python-2.66-0/blib/arch:/tmp/loop_over_bdir-2623-8CpJOC/CORBA-Python-2.66-0/blib/lib:/tmp/loop_over_bdir-2623-8CpJOC/dta-tokwrap-0.98-0/blib/arch:/tmp/loop_over_bdir-2623-8CpJOC/dta-tokwrap-0.98-0/blib/lib:/tmp/loop_over_bdir-2623-8CpJOC/triceps-2.1.0-0/blib/arch:/tmp/loop_over_bdir-2623-8CpJOC/triceps-2.1.0-0/blib/lib:/tmp/loop_over_bdir-2623-8CpJOC/MP3-PodcastFetch-1.05-0/blib/arch:/tmp/loop_over_bdir-2623-8CpJOC/MP3-PodcastFetch-1.05-0/blib/lib:/tmp/loop_over_bdir-2623-8CpJOC/LiquidWeb-Storm-CLI-1.03-0/blib/arch:/tmp/loop_over_bdir-2623-8CpJOC/LiquidWeb-Storm-CLI-1.03-0/blib/lib:/tmp/loop_over_bdir-2623-8CpJOC/Devel-Required-0.16-0/blib/arch:/tmp/loop_over_bdir-2623-8CpJOC/Devel-Required-0.16-0/blib/lib:/tmp/loop_over_bdir-2623-8CpJOC/DBIx-Migration-Directories-0.12-0/blib/arch:/tmp/loop_over_bdir-2623-8CpJOC/DBIx-Migration-Directories-0.12-0/blib/lib:/tmp/loop_over_bdir-2623-8CpJOC/RDF-NLP-SPARQLQuery-0.1-0/blib/arch:/tmp/loop_over_bdir-2623-8CpJOC/RDF-NLP-SPARQLQuery-0.1-0/blib/lib:/tmp/loop_over_bdir-2623-8CpJOC/AllKnowingDNS-1.7-0/blib/arch:/tmp/loop_over_bdir-2623-8CpJOC/AllKnowingDNS-1.7-0/blib/lib:/tmp/loop_over_bdir-2623-8CpJOC/Lingua-BioYaTeA-0.11-0/blib/arch:/tmp/loop_over_bdir-2623-8CpJOC/Lingua-BioYaTeA-0.11-0/blib/lib:/tmp/loop_over_bdir-2623-8CpJOC/Lingua-YaTeA-0.626-0/blib/arch:/tmp/loop_over_bdir-2623-8CpJOC/Lingua-YaTeA-0.626-0/blib/lib:/tmp/loop_over_bdir-2623-8CpJOC/Linux-InitFS-0.2-0/blib/arch:/tmp/loop_over_bdir-2623-8CpJOC/Linux-InitFS-0.2-0/blib/lib:/tmp/loop_over_bdir-2623-8CpJOC/perl-Hardware-UPS-Perl-0.43-0/blib/arch:/tmp/loop_over_bdir-2623-8CpJOC/perl-Hardware-UPS-Perl-0.43-0/blib/lib:/tmp/loop_over_bdir-2623-8CpJOC/mmds-1.902-0/blib/arch:/tmp/loop_over_bdir-2623-8CpJOC/mmds-1.902-0/blib/lib:/tmp/loop_over_bdir-2623-8CpJOC/Simulation-Automate-1.0.1-0/blib/arch:/tmp/loop_over_bdir-2623-8CpJOC/Simulation-Automate-1.0.1-0/blib/lib:/tmp/loop_over_bdir-2623-8CpJOC/Dpkg-1.22.6-0/blib/arch:/tmp/loop_over_bdir-2623-8CpJOC/Dpkg-1.22.6-0/blib/lib"
    PERL5OPT=""
    PERL5_CPANPLUS_IS_RUNNING="2631"
    PERL5_CPAN_IS_RUNNING="2631"
    PERL_CANARY_STABILITY_NOPROMPT="1"
    PERL_MM_USE_DEFAULT="1"
    PERL_USE_UNSAFE_INC="1"
  @INC:
    /tmp/loop_over_bdir-2623-8CpJOC/Debian-Packages-0.03-0/blib/arch
    /tmp/loop_over_bdir-2623-8CpJOC/Debian-Packages-0.03-0/blib/lib
    /tmp/loop_over_bdir-2623-8CpJOC/CORBA-Python-2.66-0/blib/arch
    /tmp/loop_over_bdir-2623-8CpJOC/CORBA-Python-2.66-0/blib/lib
    /tmp/loop_over_bdir-2623-8CpJOC/dta-tokwrap-0.98-0/blib/arch
    /tmp/loop_over_bdir-2623-8CpJOC/dta-tokwrap-0.98-0/blib/lib
    /tmp/loop_over_bdir-2623-8CpJOC/triceps-2.1.0-0/blib/arch
    /tmp/loop_over_bdir-2623-8CpJOC/triceps-2.1.0-0/blib/lib
    /tmp/loop_over_bdir-2623-8CpJOC/MP3-PodcastFetch-1.05-0/blib/arch
    /tmp/loop_over_bdir-2623-8CpJOC/MP3-PodcastFetch-1.05-0/blib/lib
    /tmp/loop_over_bdir-2623-8CpJOC/LiquidWeb-Storm-CLI-1.03-0/blib/arch
    /tmp/loop_over_bdir-2623-8CpJOC/LiquidWeb-Storm-CLI-1.03-0/blib/lib
    /tmp/loop_over_bdir-2623-8CpJOC/Devel-Required-0.16-0/blib/arch
    /tmp/loop_over_bdir-2623-8CpJOC/Devel-Required-0.16-0/blib/lib
    /tmp/loop_over_bdir-2623-8CpJOC/DBIx-Migration-Directories-0.12-0/blib/arch
    /tmp/loop_over_bdir-2623-8CpJOC/DBIx-Migration-Directories-0.12-0/blib/lib
    /tmp/loop_over_bdir-2623-8CpJOC/RDF-NLP-SPARQLQuery-0.1-0/blib/arch
    /tmp/loop_over_bdir-2623-8CpJOC/RDF-NLP-SPARQLQuery-0.1-0/blib/lib
    /tmp/loop_over_bdir-2623-8CpJOC/AllKnowingDNS-1.7-0/blib/arch
    /tmp/loop_over_bdir-2623-8CpJOC/AllKnowingDNS-1.7-0/blib/lib
    /tmp/loop_over_bdir-2623-8CpJOC/Lingua-BioYaTeA-0.11-0/blib/arch
    /tmp/loop_over_bdir-2623-8CpJOC/Lingua-BioYaTeA-0.11-0/blib/lib
    /tmp/loop_over_bdir-2623-8CpJOC/Lingua-YaTeA-0.626-0/blib/arch
    /tmp/loop_over_bdir-2623-8CpJOC/Lingua-YaTeA-0.626-0/blib/lib
    /tmp/loop_over_bdir-2623-8CpJOC/Linux-InitFS-0.2-0/blib/arch
    /tmp/loop_over_bdir-2623-8CpJOC/Linux-InitFS-0.2-0/blib/lib
    /tmp/loop_over_bdir-2623-8CpJOC/perl-Hardware-UPS-Perl-0.43-0/blib/arch
    /tmp/loop_over_bdir-2623-8CpJOC/perl-Hardware-UPS-Perl-0.43-0/blib/lib
    /tmp/loop_over_bdir-2623-8CpJOC/mmds-1.902-0/blib/arch
    /tmp/loop_over_bdir-2623-8CpJOC/mmds-1.902-0/blib/lib
    /tmp/loop_over_bdir-2623-8CpJOC/Simulation-Automate-1.0.1-0/blib/arch
    /tmp/loop_over_bdir-2623-8CpJOC/Simulation-Automate-1.0.1-0/blib/lib
    /tmp/loop_over_bdir-2623-8CpJOC/Dpkg-1.22.6-0/blib/arch
    /tmp/loop_over_bdir-2623-8CpJOC/Dpkg-1.22.6-0/blib/lib
    /home/sand/src/perl/repoperls/installed-perls/host/k93jammy/v5.40.0/b4f3/lib/site_perl/5.40.0/x86_64-linux-thread-multi
    /home/sand/src/perl/repoperls/installed-perls/host/k93jammy/v5.40.0/b4f3/lib/site_perl/5.40.0
    /home/sand/src/perl/repoperls/installed-perls/host/k93jammy/v5.40.0/b4f3/lib/5.40.0/x86_64-linux-thread-multi
    /home/sand/src/perl/repoperls/installed-perls/host/k93jammy/v5.40.0/b4f3/lib/5.40.0
    .