Facebook-OpenGraph v1.31 Perl 5 v5.20.3 x86_64-linux-ld

Status
Pass
From
Andreas J. König (ANDK)
Dist
Facebook-OpenGraph v1.31
Platform
Perl 5 v5.20.3 x86_64-linux-ld
Date
2019-10-22 09:08:07
ID
764d6a14-f4ab-11e9-8c4a-a75134af9b2c
This distribution has been tested as part of the CPAN Testers
project, supporting the Perl programming language.  See
http://wiki.cpantesters.org/ for more information or email
questions to cpan-testers-discuss@perl.org


--
Dear Go Hagiwara,

This is a computer-generated report for Facebook-OpenGraph-1.31
on perl 5.20.3, created by CPAN-Reporter-1.2018.

Thank you for uploading your work to CPAN.  Congratulations!
All tests were successful.

Sections of this report:

    * Tester comments
    * Program output
    * Prerequisites
    * Environment and other context

------------------------------
TESTER COMMENTS
------------------------------

Additional comments from tester:

this report is from an automated smoke testing program
and was not reviewed by a human for accuracy

------------------------------
PROGRAM OUTPUT
------------------------------

Output from './Build test':

t/000_compile.t ............................... ok
t/001_basic/01_initialize.t ................... ok
t/001_basic/02_uri.t .......................... ok
t/001_basic/03_video_uri.t .................... ok
t/001_basic/04_auth_uri.t ..................... ok
t/001_basic/05_signed_request.t ............... ok
t/001_basic/06_prep_param.t ................... ok
t/001_basic/07_field_expansion.t .............. ok
t/001_basic/08_appsecret_proof.t .............. ok
t/001_basic/09_js_cookie_name.t ............... ok
t/001_basic/10_gen_versioned_path.t ........... ok
t/002_retrieve/01_get_app_token.t ............. ok
t/002_retrieve/02_get_user_token.t ............ ok
t/002_retrieve/03_fetch.t ..................... ok
t/002_retrieve/04_field_expansion.t ........... ok
t/002_retrieve/05_fetch_with_etag.t ........... ok
t/002_retrieve/06_batch.t ..................... ok
t/002_retrieve/07_bulk_fetch.t ................ ok
t/002_retrieve/08_fql.t ....................... ok
t/002_retrieve/09_bulk_fql.t .................. ok
t/002_retrieve/10_check_object.t .............. ok
t/002_retrieve/11_appsecret_proof.t ........... ok
t/002_retrieve/12_use_post_method.t ........... ok
t/002_retrieve/13_paging.t .................... ok
t/002_retrieve/14_exchange_token.t ............ ok
t/002_retrieve/15_get_user_token_by_cookie.t .. ok
t/003_publish/01_post.t ....................... ok
t/003_publish/02_post_photo.t ................. ok
t/003_publish/03_post_movie.t ................. ok
t/003_publish/04_create_test_users.t .......... ok
t/003_publish/05_publish_action.t ............. ok
t/003_publish/06_publish_staging_resource.t ... ok
t/003_publish/07_post_like.t .................. ok
t/004_response/01_basic.t ..................... ok
All tests successful.
Files=34, Tests=74,  9 wallclock secs ( 0.08 usr  0.25 sys +  3.00 cusr  0.86 csys =  4.19 CPU)
Result: PASS

------------------------------
PREREQUISITES
------------------------------

Prerequisite modules loaded:

requires:

    Module                  Need     Have      
    ----------------------- -------- ----------
    CGI                     0        4.42      
    Data::Recursive::Encode 0        0.07      
    Digest::SHA             0        6.02      
    Furl                    0        3.13      
    HTTP::Message           0        6.20      
    HTTP::Request::Common   0        6.20      
    JSON                    2        4.02      
    MIME::Base64::URLSafe   0        0.01      
    Module::Build           0        0.4229    
    parent                  0        0.237     
    Parse::CPAN::Meta       0        2.150010  
    perl                    5.008001 5.020003  
    Scalar::Util            0        1.52      
    Sub::Uplevel            0        0.2800    
    URI                     0        1.76      

build_requires:

    Module                  Need     Have      
    ----------------------- -------- ----------
    Test::Exception         0        0.43      
    Test::Mock::Furl        0        0.05      
    Test::MockObject        0        1.20191002
    Test::More              0.98     1.302168  

configure_requires:

    Module                  Need     Have      
    ----------------------- -------- ----------
    Module::Build::Tiny     0.035    0.039     


------------------------------
ENVIRONMENT AND OTHER CONTEXT
------------------------------

Environment variables:

    AUTOMATED_TESTING = 1
    LANG = en_US.UTF-8
    PATH = /home/sand/bin:/usr/local/bin:/usr/bin:/bin:/usr/games:/usr/local/perl/bin:/usr/X11/bin:/sbin:/usr/sbin
    PERL5LIB = 
    PERL5OPT = 
    PERL5_CPANPLUS_IS_RUNNING = 16942
    PERL5_CPAN_IS_RUNNING = 16942
    PERL_CANARY_STABILITY_NOPROMPT = 1
    PERL_MM_USE_DEFAULT = 1
    PERL_USE_UNSAFE_INC = 1
    SHELL = /usr/bin/zsh
    TERM = screen

Perl special variables (and OS-specific diagnostics, for MSWin32):

    $^X = /home/sand/src/perl/repoperls/installed-perls/host/k93msid/v5.20.3/fc43/bin/perl
    $UID/$EUID = 1005 / 1005
    $GID = 1005 1005
    $EGID = 1005 1005

Perl module toolchain versions installed:

    Module              Have    
    ------------------- --------
    CPAN                2.27    
    CPAN::Meta          2.150010
    Cwd                 3.75    
    ExtUtils::CBuilder  0.280231
    ExtUtils::Command   7.37_04 
    ExtUtils::Install   2.06    
    ExtUtils::MakeMaker 7.37_04 
    ExtUtils::Manifest  1.72    
    ExtUtils::ParseXS   3.35    
    File::Spec          3.75    
    JSON                4.02    
    JSON::PP            2.97001 
    Module::Build       0.4229  
    Module::Signature   0.83    
    Parse::CPAN::Meta   2.150010
    Test::Harness       3.42    
    Test::More          1.302168
    YAML                1.26    
    YAML::Syck          1.31    
    version             0.9924  


--

Summary of my perl5 (revision 5 version 20 subversion 3) configuration:
  Derived from: b67331aafd6eff33e3fd904c45e811f69cbfb0b2
  Platform:
    osname=linux, osvers=4.18.0-2-amd64, archname=x86_64-linux-ld
    uname='linux k93msid 4.18.0-2-amd64 #1 smp debian 4.18.10-2 (2018-10-07) x86_64 gnulinux '
    config_args='-Dprefix=/home/sand/src/perl/repoperls/installed-perls/host/k93msid/v5.20.3/fc43 -Dmyhostname=k93msid -Dinstallusrbinperl=n -Uversiononly -Dusedevel -des -Ui_db -Dlibswanted=cl pthread socket inet nsl gdbm dbm malloc dl ld sun m crypt sec util c cposix posix ucb BSD gdbm_compat -Uuseithreads -Duselongdouble -DEBUGGING=both'
    hint=recommended, useposix=true, d_sigaction=define
    useithreads=undef, usemultiplicity=undef
    use64bitint=define, use64bitall=define, uselongdouble=define
    usemymalloc=n, bincompat5005=undef
  Compiler:
    cc='cc', ccflags ='-fwrapv -DDEBUGGING -fno-strict-aliasing -pipe -fstack-protector -I/usr/local/include -D_LARGEFILE_SOURCE -D_FILE_OFFSET_BITS=64',
    optimize='-O2 -g',
    cppflags='-fwrapv -DDEBUGGING -fno-strict-aliasing -pipe -fstack-protector -I/usr/local/include'
    ccversion='', gccversion='8.2.0', gccosandvers=''
    intsize=4, longsize=8, ptrsize=8, doublesize=8, byteorder=12345678
    d_longlong=define, longlongsize=8, d_longdbl=define, longdblsize=16
    ivtype='long', ivsize=8, nvtype='long double', nvsize=16, Off_t='off_t', lseeksize=8
    alignbytes=16, prototype=define
  Linker and Libraries:
    ld='cc', ldflags =' -fstack-protector -L/usr/local/lib'
    libpth=/usr/local/lib /usr/lib/gcc/x86_64-linux-gnu/8/include-fixed /usr/include/x86_64-linux-gnu /usr/lib /lib/x86_64-linux-gnu /lib/../lib /usr/lib/x86_64-linux-gnu /usr/lib/../lib /lib
    libs=-lpthread -lnsl -ldl -lm -lcrypt -lutil -lc
    perllibs=-lpthread -lnsl -ldl -lm -lcrypt -lutil -lc
    libc=libc-2.27.so, so=so, useshrplib=false, libperl=libperl.a
    gnulibc_version='2.27'
  Dynamic Linking:
    dlsrc=dl_dlopen.xs, dlext=so, d_dlsymun=undef, ccdlflags='-Wl,-E'
    cccdlflags='-fPIC', lddlflags='-shared -O2 -g -L/usr/local/lib -fstack-protector'


Characteristics of this binary (from libperl): 
  Compile-time options: DEBUGGING HAS_TIMES PERLIO_LAYERS
                        PERL_DONT_CREATE_GVSV
                        PERL_HASH_FUNC_ONE_AT_A_TIME_HARD PERL_MALLOC_WRAP
                        PERL_NEW_COPY_ON_WRITE PERL_PRESERVE_IVUV
                        PERL_USE_DEVEL USE_64_BIT_ALL USE_64_BIT_INT
                        USE_LARGE_FILES USE_LOCALE USE_LOCALE_COLLATE
                        USE_LOCALE_CTYPE USE_LOCALE_NUMERIC USE_LONG_DOUBLE
                        USE_PERLIO USE_PERL_ATOF
  Locally applied patches:
	uncommitted-changes
  Built under linux
  Compiled at Oct 28 2018 22:29:50
  %ENV:
    PERL5LIB=""
    PERL5OPT=""
    PERL5_CPANPLUS_IS_RUNNING="16942"
    PERL5_CPAN_IS_RUNNING="16942"
    PERL_CANARY_STABILITY_NOPROMPT="1"
    PERL_MM_USE_DEFAULT="1"
    PERL_USE_UNSAFE_INC="1"
  @INC:
    /home/sand/src/perl/repoperls/installed-perls/host/k93msid/v5.20.3/fc43/lib/site_perl/5.20.3/x86_64-linux-ld
    /home/sand/src/perl/repoperls/installed-perls/host/k93msid/v5.20.3/fc43/lib/site_perl/5.20.3
    /home/sand/src/perl/repoperls/installed-perls/host/k93msid/v5.20.3/fc43/lib/5.20.3/x86_64-linux-ld
    /home/sand/src/perl/repoperls/installed-perls/host/k93msid/v5.20.3/fc43/lib/5.20.3
    .