Stepford v0.006001 Perl 5 v5.16.3 amd64-freebsd-thread-multi
- Status
- Pass
- From
- Slaven Rezić
- Dist
-
Stepford v0.006001
- Platform
- Perl 5 v5.16.3 amd64-freebsd-thread-multi
- Date
- 2023-08-09 14:46:01
- ID
- 75c97fd4-36c3-11ee-a94a-a43d6e8775ea
This distribution has been tested as part of the CPAN Testers
project, supporting the Perl programming language. See
http://wiki.cpantesters.org/ for more information or email
questions to cpan-testers-discuss@perl.org
--
Dear MaxMind, Inc.,
This is a computer-generated report for Stepford-0.006001
on perl 5.16.3, created by CPAN-Reporter-1.2019.
Thank you for uploading your work to CPAN. Congratulations!
All tests were successful.
Sections of this report:
* Tester comments
* Program output
* Prerequisites
* Environment and other context
------------------------------
TESTER COMMENTS
------------------------------
Additional comments from tester:
none provided
------------------------------
PROGRAM OUTPUT
------------------------------
Output from '/usr/bin/make test':
PERL_DL_NONLAZY=1 "/usr/perl5.16.3t/bin/perl" "-MExtUtils::Command::MM" "-MTest::Harness" "-e" "undef *Test::Harness::Switches; test_harness(0, 'blib/lib', 'blib/arch')" t/*.t
#
# Versions for all modules listed in MYMETA.json (including optional ones):
#
# === Configure Requires ===
#
# Module Want Have
# ------------------- ---- ----
# ExtUtils::MakeMaker any 7.70
#
# === Configure Suggests ===
#
# Module Want Have
# -------- ------- ----
# JSON::PP 2.27300 4.16
#
# === Build Requires ===
#
# Module Want Have
# ------------------- ---- ----
# ExtUtils::MakeMaker any 7.70
#
# === Test Requires ===
#
# Module Want Have
# ------------------------- ---- --------
# Capture::Tiny any 0.48
# ExtUtils::MakeMaker any 7.70
# File::Spec any 3.75
# Log::Dispatch::Array any 1.005
# MooseX::Types::Path::Tiny any 0.012
# Path::Tiny any 0.144
# Test::Differences any 0.69
# Test::Fatal any 0.016
# Test::More 0.96 1.302195
# autodie any 2.33
# lib any 0.63
#
# === Test Recommends ===
#
# Module Want Have
# ---------- -------- --------
# CPAN::Meta 2.120900 2.150010
#
# === Runtime Requires ===
#
# Module Want Have
# ------------------------------ ------ --------
# Carp any 1.50
# List::AllUtils any 0.19
# Log::Dispatch any 2.71
# Log::Dispatch::Null any 2.71
# Module::Pluggable::Object any 5.1
# Moose any 2.2206
# Moose::Role any 2.2206
# Moose::Util::TypeConstraints any 2.2206
# MooseX::Params::Validate any 0.21
# MooseX::StrictConstructor any 0.21
# MooseX::Types any 0.48
# MooseX::Types::Combine any 0.48
# MooseX::Types::Common::Numeric any 0.001013
# MooseX::Types::Common::String any 0.001013
# MooseX::Types::Moose any 0.48
# MooseX::Types::Path::Class any 0.08
# Parallel::ForkManager any 2.02
# Path::Class any 0.37
# Scope::Guard any 0.21
# Throwable::Error any 1.001
# Time::HiRes 1.9726 1.9764
# Try::Tiny any 0.31
# namespace::autoclean any 0.29
# namespace::clean any 0.27
# parent any 0.240
# strict any 1.07
# warnings any 1.13
#
# === Runtime Recommends ===
#
# Module Want Have
# ------------- ---- ----
# Memory::Stats any 0.04
#
t/00-report-prereqs.t ................... ok
t/Runner-child-death.t .................. ok
t/Runner-diamond-graph.t ................ ok
t/Runner-dry-run.t ...................... ok
t/Runner-inner-steps.t .................. ok
t/Runner-integration.t .................. ok
t/Runner-no-unnecessary-rebuild.t ....... ok
t/Runner-parallel-unserializable.t ...... ok
t/Runner-parallel.t ..................... ok
t/Runner-rebuild-on-missing-files.t ..... ok
t/Runner-rebuild.t ...................... ok
t/Runner-step-modifies-topic.t .......... ok
t/Runner.t .............................. ok
t/Step-FileGenerator-Atomic-fork-bug.t .. ok
t/Step-FileGenerator-Atomic.t ........... ok
t/Step.t ................................ ok
All tests successful.
Files=16, Tests=81, 37 wallclock secs ( 0.05 usr 0.05 sys + 9.50 cusr 1.73 csys = 11.33 CPU)
Result: PASS
------------------------------
PREREQUISITES
------------------------------
Prerequisite modules loaded:
requires:
Module Need Have
------------------------------ -------- --------
Carp 0 1.50
List::AllUtils 0 0.19
Log::Dispatch 0 2.71
Log::Dispatch::Null 0 2.71
Module::Pluggable::Object 0 5.1
Moose 0 2.2206
Moose::Role 0 2.2206
Moose::Util::TypeConstraints 0 2.2206
MooseX::Params::Validate 0 0.21
MooseX::StrictConstructor 0 0.21
MooseX::Types 0 0.48
MooseX::Types::Combine 0 0.48
MooseX::Types::Common::Numeric 0 0.001013
MooseX::Types::Common::String 0 0.001013
MooseX::Types::Moose 0 0.48
MooseX::Types::Path::Class 0 0.08
namespace::autoclean 0 0.29
namespace::clean 0 0.27
Parallel::ForkManager 0 2.02
parent 0 0.240
Path::Class 0 0.37
Scope::Guard 0 0.21
strict 0 1.07
Throwable::Error 0 1.001
Time::HiRes 1.9726 1.9764
Try::Tiny 0 0.31
warnings 0 1.13
build_requires:
Module Need Have
------------------------------ -------- --------
autodie 0 2.33
Capture::Tiny 0 0.48
ExtUtils::MakeMaker 0 7.70
File::Spec 0 3.75
lib 0 0.63
Log::Dispatch::Array 0 1.005
MooseX::Types::Path::Tiny 0 0.012
Path::Tiny 0 0.144
Test::Differences 0 0.69
Test::Fatal 0 0.016
Test::More 0.96 1.302195
configure_requires:
Module Need Have
------------------------------ -------- --------
ExtUtils::MakeMaker 0 7.70
opt_requires:
Module Need Have
------------------------------ -------- --------
Memory::Stats 0 0.04
opt_build_requires:
Module Need Have
------------------------------ -------- --------
CPAN::Meta 2.120900 2.150010
------------------------------
ENVIRONMENT AND OTHER CONTEXT
------------------------------
Environment variables:
LC_ALL = de_DE.ISO8859-1
PATH = /usr/local/bin:/usr/bin:/bin:/usr/local/sbin:/usr/sbin:/sbin:/home/cpansand/bin/freebsd9.3:/home/cpansand/bin/sh:/home/cpansand/bin:/usr/games:/home/cpansand/devel:/usr/home/eserte/src/srezic-misc/scripts
PERL5LIB =
PERL5OPT =
PERL5_CPANPLUS_IS_RUNNING = 40232
PERL5_CPAN_IS_RUNNING = 40232
PERL5_CPAN_IS_RUNNING_IN_RECURSION = 39627,40232
PERLDOC = -MPod::Perldoc::ToTextOverstrike
PERL_BATCH = yes
PERL_CANARY_STABILITY_NOPROMPT = 1
PERL_CPAN_REPORTER_CONFIG = /var/tmp/cpansmoker-1023/2023080916/cpanreporter_000_config.ini
PERL_EXTUTILS_AUTOINSTALL = --defaultdeps
PERL_USE_UNSAFE_INC = 1
SHELL = /usr/local/bin/zsh
TERM = screen
TMPDIR = /var/tmp/cpansmoker-1023/2023080916
Perl special variables (and OS-specific diagnostics, for MSWin32):
$^X = /usr/perl5.16.3t/bin/perl
$UID/$EUID = 1023 / 1023
$GID = 1023 1023
$EGID = 1023 1023
Perl module toolchain versions installed:
Module Have
------------------- --------
CPAN 2.36
CPAN::Meta 2.150010
Cwd 3.75
ExtUtils::CBuilder 0.280236
ExtUtils::Command 7.70
ExtUtils::Install 2.22
ExtUtils::MakeMaker 7.70
ExtUtils::Manifest 1.75
ExtUtils::ParseXS 3.35
File::Spec 3.75
JSON 4.10
JSON::PP 4.16
Module::Build 0.4234
Module::Signature 0.88
Parse::CPAN::Meta 2.150010
Test2 1.302195
Test::Harness 3.46
Test::More 1.302195
YAML 1.30
YAML::Syck 1.34
version 0.9929
--
Summary of my perl5 (revision 5 version 16 subversion 3) configuration:
Platform:
osname=freebsd, osvers=9.2-release-p4, archname=amd64-freebsd-thread-multi
uname='freebsd cvrsnica-freebsd-92 9.2-release-p4 freebsd 9.2-release-p4 #0: tue apr 8 18:08:22 utc 2014 root@amd64-builder.daemonology.net:usrobjusrsrcsysgeneric amd64 '
config_args='-ds -e -Dprefix=/usr/perl5.16.3t -Dusethreads'
hint=recommended, useposix=true, d_sigaction=define
useithreads=define, usemultiplicity=define
useperlio=define, d_sfio=undef, uselargefiles=define, usesocks=undef
use64bitint=define, use64bitall=define, uselongdouble=undef
usemymalloc=n, bincompat5005=undef
Compiler:
cc='cc', ccflags ='-DHAS_FPSETMASK -DHAS_FLOATINGPOINT_H -fno-strict-aliasing -pipe -fstack-protector -I/usr/local/include',
optimize='-O',
cppflags='-DHAS_FPSETMASK -DHAS_FLOATINGPOINT_H -fno-strict-aliasing -pipe -fstack-protector -I/usr/local/include'
ccversion='', gccversion='4.2.1 20070831 patched [FreeBSD]', gccosandvers=''
intsize=4, longsize=8, ptrsize=8, doublesize=8, byteorder=12345678
d_longlong=define, longlongsize=8, d_longdbl=define, longdblsize=16
ivtype='long', ivsize=8, nvtype='double', nvsize=8, Off_t='off_t', lseeksize=8
alignbytes=8, prototype=define
Linker and Libraries:
ld='cc', ldflags ='-pthread -Wl,-E -fstack-protector -L/usr/local/lib'
libpth=/usr/lib /usr/local/lib
libs=-lgdbm -lm -lcrypt
perllibs=-lm -lcrypt
libc=, so=so, useshrplib=false, libperl=libperl.a
gnulibc_version=''
Dynamic Linking:
dlsrc=dl_dlopen.xs, dlext=so, d_dlsymun=undef, ccdlflags=' '
cccdlflags='-DPIC -fPIC', lddlflags='-shared -L/usr/local/lib -fstack-protector'
Characteristics of this binary (from libperl):
Compile-time options: HAS_TIMES MULTIPLICITY PERLIO_LAYERS
PERL_DONT_CREATE_GVSV PERL_IMPLICIT_CONTEXT
PERL_MALLOC_WRAP PERL_PRESERVE_IVUV USE_64_BIT_ALL
USE_64_BIT_INT USE_ITHREADS USE_LARGE_FILES
USE_LOCALE USE_LOCALE_COLLATE USE_LOCALE_CTYPE
USE_LOCALE_NUMERIC USE_PERLIO USE_PERL_ATOF
USE_REENTRANT_API
Built under freebsd
Compiled at May 16 2014 07:49:48
%ENV:
PERL5LIB=""
PERL5OPT=""
PERL5_CPANPLUS_IS_RUNNING="40232"
PERL5_CPAN_IS_RUNNING="40232"
PERL5_CPAN_IS_RUNNING_IN_RECURSION="39627,40232"
PERLDOC="-MPod::Perldoc::ToTextOverstrike"
PERL_BATCH="yes"
PERL_CANARY_STABILITY_NOPROMPT="1"
PERL_CPAN_REPORTER_CONFIG="/var/tmp/cpansmoker-1023/2023080916/cpanreporter_000_config.ini"
PERL_EXTUTILS_AUTOINSTALL="--defaultdeps"
PERL_USE_UNSAFE_INC="1"
@INC:
/usr/perl5.16.3t/lib/site_perl/5.16.3/amd64-freebsd-thread-multi
/usr/perl5.16.3t/lib/site_perl/5.16.3
/usr/perl5.16.3t/lib/5.16.3/amd64-freebsd-thread-multi
/usr/perl5.16.3t/lib/5.16.3
.